BEGIN:VCALENDAR
VERSION:2.0
PRODID:-//Lina Gálvez - ECPv6.15.20//NONSGML v1.0//EN
CALSCALE:GREGORIAN
METHOD:PUBLISH
X-WR-CALNAME:Lina Gálvez
X-ORIGINAL-URL:https://linagalvez.eu
X-WR-CALDESC:Eventos para Lina Gálvez
REFRESH-INTERVAL;VALUE=DURATION:PT1H
X-Robots-Tag:noindex
X-PUBLISHED-TTL:PT1H
BEGIN:VTIMEZONE
TZID:Europe/Madrid
BEGIN:DAYLIGHT
TZOFFSETFROM:+0100
TZOFFSETTO:+0200
TZNAME:CEST
DTSTART:20200329T010000
END:DAYLIGHT
BEGIN:STANDARD
TZOFFSETFROM:+0200
TZOFFSETTO:+0100
TZNAME:CET
DTSTART:20201025T010000
END:STANDARD
BEGIN:DAYLIGHT
TZOFFSETFROM:+0100
TZOFFSETTO:+0200
TZNAME:CEST
DTSTART:20210328T010000
END:DAYLIGHT
BEGIN:STANDARD
TZOFFSETFROM:+0200
TZOFFSETTO:+0100
TZNAME:CET
DTSTART:20211031T010000
END:STANDARD
BEGIN:DAYLIGHT
TZOFFSETFROM:+0100
TZOFFSETTO:+0200
TZNAME:CEST
DTSTART:20220327T010000
END:DAYLIGHT
BEGIN:STANDARD
TZOFFSETFROM:+0200
TZOFFSETTO:+0100
TZNAME:CET
DTSTART:20221030T010000
END:STANDARD
END:VTIMEZONE
BEGIN:VEVENT
DTSTART;TZID=Europe/Madrid:20210413T090000
DTEND;TZID=Europe/Madrid:20210413T120000
DTSTAMP:20260419T193601
CREATED:20210312T181424Z
LAST-MODIFIED:20210412T085512Z
UID:3384-1618304400-1618315200@linagalvez.eu
SUMMARY:Comisión Industria\, Investigación y Energía
DESCRIPTION:Se debatirá\, entre otras cosas\, el informe sobre la gobernanza europea de datos\, las directrices para la infraestructura energética transeuropea y sobre las medidas comunes de ciberseguridad en toda la Unión. \nOrden del día propuesto \n\nProposal for a regulation of the European Parliament and of the Council establishing Horizon Europe – the Framework Programme for Research and Innovation\, laying down its rules for participation and dissemination (COD) – Rapporteur: Dan NICA (S&D\, RO) – Adoption of draft recommendation for second reading\n\n\nProposal for a decision of the European Parliament and of the Council on establishing the specific programme implementing Horizon Europe – the Framework Programme for Research and Innovation (CNS) – Rapporteur: Christian EHLER (EPP\, DE) – Adoption of draft report\n\n\nEstablishing the Digital Europe programme for the period 2021-2027 (COD) – Rapporteur: Valter FLEGO (Renew\, HR)  – Adoption of draft recommendation for second reading\n\n\nEstablishing the European Defence Fund (COD) – Rapporteur: Zdzisław KRASNODĘBSKI (ECR\, PL) – Adoption of draft recommendation for second reading\n\n\nGuidelines for trans-European energy infrastructure and repealing Regulation (COD) – Rapporteur: Zdzisław KRASNODĘBSKI (ECR) – Consideration of draft report\n\n\nEuropean data governance (Data Governance Act) (COD) – Rapporteur: Angelika NIEBLER (EPP\, DE) – Consideration of draft report\n\n\nPresentation of the Study on the Impact of COVID-19 on EU industry
URL:https://linagalvez.eu/agenda/comision-industria-investigacion-y-energia-2-2-2/
CATEGORIES:Actualidad,Destacado,ITRE,Parlamento
ATTACH;FMTTYPE=image/png:https://linagalvez.eu/wp-content/uploads/2020/09/ITRE.-Logo.png
END:VEVENT
BEGIN:VEVENT
DTSTART;TZID=Europe/Madrid:20210413T110000
DTEND;TZID=Europe/Madrid:20210413T120000
DTSTAMP:20260419T193601
CREATED:20210412T080804Z
LAST-MODIFIED:20210512T170721Z
UID:3627-1618311600-1618315200@linagalvez.eu
SUMMARY:S&D ITRE Working Group meeting
DESCRIPTION:Grupo de trabajo S&D ITRE en el que se tratarán los temas que se debatirán en la siguiente Comisión ITRE.
URL:https://linagalvez.eu/agenda/sd-itre-working-group-meeting-2-3/
CATEGORIES:Actualidad,ITRE,S&D
ATTACH;FMTTYPE=image/png:https://linagalvez.eu/wp-content/uploads/2020/01/1-S&D.svg.png
END:VEVENT
BEGIN:VEVENT
DTSTART;TZID=Europe/Madrid:20210413T120000
DTEND;TZID=Europe/Madrid:20210413T123000
DTSTAMP:20260419T193601
CREATED:20210412T090324Z
LAST-MODIFIED:20210412T090357Z
UID:3421-1618315200-1618317000@linagalvez.eu
SUMMARY:Reunión con MOTION PICTURE ASSOCIATION
DESCRIPTION:El asunto central de la reunión será la Ley de Servicios Digitales o la DSA\, por sus siglas en inglés.
URL:https://linagalvez.eu/agenda/reunion-con-motion-picture-association/
CATEGORIES:Actualidad,ITRE,Parlamento
END:VEVENT
BEGIN:VEVENT
DTSTART;TZID=Europe/Madrid:20210413T134500
DTEND;TZID=Europe/Madrid:20210413T144500
DTSTAMP:20260419T193601
CREATED:20210312T181424Z
LAST-MODIFIED:20210419T083038Z
UID:3453-1618321500-1618325100@linagalvez.eu
SUMMARY:Comisión Industria\, Investigación y Energía
DESCRIPTION:Intercambio de puntos de vista con la Sra. Ditte Juul Jørgensen\, Directora General de la DG ENER\, sobre los aspectos energéticos de la recuperación.
URL:https://linagalvez.eu/agenda/comision-industria-investigacion-y-energia-2-2-2-2-2/
CATEGORIES:Actualidad,ITRE,Parlamento
ATTACH;FMTTYPE=image/jpeg:https://linagalvez.eu/wp-content/uploads/2021/01/Lina-galvez-FEMM_260121.jpg
END:VEVENT
BEGIN:VEVENT
DTSTART;TZID=Europe/Madrid:20210413T134500
DTEND;TZID=Europe/Madrid:20210413T174500
DTSTAMP:20260419T193601
CREATED:20210409T105109Z
LAST-MODIFIED:20210412T085957Z
UID:3406-1618321500-1618335900@linagalvez.eu
SUMMARY:Public Hearing - Decarbonisation of the energy system
DESCRIPTION:La Comisión ITRE celebrará una audiencia pública el 13 de abril sobre «Descarbonización del sistema energético» para debatir los principales desafíos a los que se enfrenta el sector energético de la Unión en el contexto de alcanzar la neutralidad climática para 2050\, con aportaciones de personas de expertas de diversos ámbitos (empresas\, academia\, organismos públicos y asociaciones de la UE que representan a l2s consumidores). \nPresentaciones de las siguientes personas expertas:\n– Ms Camilla Palladino\, Executive Vice President Corporate Strategy & Investor Relations\, SNAM\, Italy\n-Dr. Nelson Lage\, Chairman of the Board of Directors\, Portuguese Agency for Energy (ADENE)\n-Mr Martin Neubert\, Executive Vice President\, Ørsted\, Denmark\n-Mr Mark Jacobson\, Professor of Civil and Environmental Engineering and Senior Fellow at the Woods Institute for the Environment\, Stanford University\, US-Ms Stavroula Pappa\, LLM\, Project manager\, European Federation of citizen energy cooperatives (REScoop.eu) \nPrograma Completo
URL:https://linagalvez.eu/agenda/public-hearing-decarbonisation-of-the-energy-system/
CATEGORIES:Actualidad,Destacado,ITRE,Parlamento
ATTACH;FMTTYPE=image/jpeg:https://linagalvez.eu/wp-content/uploads/2021/04/Descarbonizacion.jpeg
END:VEVENT
BEGIN:VEVENT
DTSTART;TZID=Europe/Madrid:20210413T134500
DTEND;TZID=Europe/Madrid:20210413T184500
DTSTAMP:20260419T193601
CREATED:20210222T102145Z
LAST-MODIFIED:20210409T105526Z
UID:3387-1618321500-1618339500@linagalvez.eu
SUMMARY:Reunión de la comisión de Empleo y Asuntos sociales del Parlamento Europeo (EMPL)
DESCRIPTION:Durante la reunión de la EMPL del 13 de abril\, el Comité votará la decisión de entablar negociaciones interinstitucionales sobre la cuarta actualización de la Directiva sobre carcinógenos y mutágenos. El orden del día también prevé una audiencia con Ivailo Kalfin\, director ejecutivo propuesto por Eurofound\, y el examen del proyecto de dictamen titulado «El Espacio Europeo de la Educación: un planteamiento global compartido de la educación\, las cualificaciones y las competencias». \nSe podrá seguir online
URL:https://linagalvez.eu/agenda/reunion-de-la-comision-de-empleo-y-asuntos-sociales-del-parlamento-europeo-empl-15-2-2-2/
CATEGORIES:Actualidad,Destacado,EMPL,Parlamento
ATTACH;FMTTYPE=image/jpeg:https://linagalvez.eu/wp-content/uploads/2021/01/Lina-galvez-FEMM_260121.jpg
END:VEVENT
BEGIN:VEVENT
DTSTART;TZID=Europe/Madrid:20210413T164500
DTEND;TZID=Europe/Madrid:20210413T184500
DTSTAMP:20260419T193601
CREATED:20210312T181424Z
LAST-MODIFIED:20210412T085901Z
UID:3419-1618332300-1618339500@linagalvez.eu
SUMMARY:Comisión Industria\, Investigación y Energía
DESCRIPTION:La Comisión ITRE continua por la tarde con debates sobre el estado de la legislación secundaria basada en el paquete Energía limpia para todos (Clean Energy for All package)\, la presentación del estudio sobre el impacto del COVID-19 en la industria en la UE y una presentación del plan de acción sobre sinergias entre las industrias civil\, de defensa y espacial\, ya que en el próximo pleno de abril se votará el programa espacial de la UE 2021-27.
URL:https://linagalvez.eu/agenda/comision-industria-investigacion-y-energia-2-2-2-2/
CATEGORIES:Actualidad,ITRE,Parlamento
ATTACH;FMTTYPE=image/jpeg:https://linagalvez.eu/wp-content/uploads/2021/01/Lina-galvez-FEMM_260121.jpg
END:VEVENT
END:VCALENDAR