BEGIN:VCALENDAR
VERSION:2.0
PRODID:-//Lina Gálvez - ECPv6.15.20//NONSGML v1.0//EN
CALSCALE:GREGORIAN
METHOD:PUBLISH
X-WR-CALNAME:Lina Gálvez
X-ORIGINAL-URL:https://linagalvez.eu
X-WR-CALDESC:Eventos para Lina Gálvez
REFRESH-INTERVAL;VALUE=DURATION:PT1H
X-Robots-Tag:noindex
X-PUBLISHED-TTL:PT1H
BEGIN:VTIMEZONE
TZID:Europe/Madrid
BEGIN:DAYLIGHT
TZOFFSETFROM:+0100
TZOFFSETTO:+0200
TZNAME:CEST
DTSTART:20200329T010000
END:DAYLIGHT
BEGIN:STANDARD
TZOFFSETFROM:+0200
TZOFFSETTO:+0100
TZNAME:CET
DTSTART:20201025T010000
END:STANDARD
BEGIN:DAYLIGHT
TZOFFSETFROM:+0100
TZOFFSETTO:+0200
TZNAME:CEST
DTSTART:20210328T010000
END:DAYLIGHT
BEGIN:STANDARD
TZOFFSETFROM:+0200
TZOFFSETTO:+0100
TZNAME:CET
DTSTART:20211031T010000
END:STANDARD
BEGIN:DAYLIGHT
TZOFFSETFROM:+0100
TZOFFSETTO:+0200
TZNAME:CEST
DTSTART:20220327T010000
END:DAYLIGHT
BEGIN:STANDARD
TZOFFSETFROM:+0200
TZOFFSETTO:+0100
TZNAME:CET
DTSTART:20221030T010000
END:STANDARD
END:VTIMEZONE
BEGIN:VEVENT
DTSTART;TZID=Europe/Madrid:20210527T090000
DTEND;TZID=Europe/Madrid:20210527T110000
DTSTAMP:20260420T083454
CREATED:20210525T083751Z
LAST-MODIFIED:20210525T083751Z
UID:3726-1622106000-1622113200@linagalvez.eu
SUMMARY:Audiencia pública sobre “La estrategia de la UE para reducir las emisiones de metano”.
DESCRIPTION:La Comisión ENVI\, en común con las comisiones ITRE y AGRI\, celebrará una audiencia pública sobre “La estrategia de la UE para reducir las emisiones de metano”. Se debatirá con vari@s expert@s y la Comisión Europea sobre las acciones necesarias para combatir las emisiones de metano\, en particular en los sectores de la agricultura\, la energía y los residuos. ENVI debe preparar un borrador de informe sobre el tema a mediados de junio. \n\n\nEl 14 de octubre de 2020\, la Comisión había publicado la estrategia de la UE para reducir las emisiones de metano\, proyectando que\, para lograr el objetivo de reducción de gases de efecto invernadero de la Unión de al menos el 55% para 2030\, la reducción de las emisiones de metano en los sectores afectados\, es decir\, energía\, agricultura y residuos\, tendría que incrementarse en al menos un 35%. El metano es el segundo mayor contribuyente al cambio climático\, después del dióxido de carbono (CO2)\, y representa en Europa el 10% de las emisiones totales de gases de efecto invernadero.
URL:https://linagalvez.eu/agenda/audiencia-publica-sobre-la-estrategia-de-la-ue-para-reducir-las-emisiones-de-metano/
CATEGORIES:Actualidad,ITRE,Parlamento,S&D
ATTACH;FMTTYPE=image/png:https://linagalvez.eu/wp-content/uploads/2021/05/Emisiones-Metano.png
END:VEVENT
END:VCALENDAR