BEGIN:VCALENDAR
VERSION:2.0
PRODID:-//Lina Gálvez - ECPv6.15.20//NONSGML v1.0//EN
CALSCALE:GREGORIAN
METHOD:PUBLISH
X-ORIGINAL-URL:https://linagalvez.eu
X-WR-CALDESC:Eventos para Lina Gálvez
REFRESH-INTERVAL;VALUE=DURATION:PT1H
X-Robots-Tag:noindex
X-PUBLISHED-TTL:PT1H
BEGIN:VTIMEZONE
TZID:Europe/Madrid
BEGIN:DAYLIGHT
TZOFFSETFROM:+0100
TZOFFSETTO:+0200
TZNAME:CEST
DTSTART:20200329T010000
END:DAYLIGHT
BEGIN:STANDARD
TZOFFSETFROM:+0200
TZOFFSETTO:+0100
TZNAME:CET
DTSTART:20201025T010000
END:STANDARD
BEGIN:DAYLIGHT
TZOFFSETFROM:+0100
TZOFFSETTO:+0200
TZNAME:CEST
DTSTART:20210328T010000
END:DAYLIGHT
BEGIN:STANDARD
TZOFFSETFROM:+0200
TZOFFSETTO:+0100
TZNAME:CET
DTSTART:20211031T010000
END:STANDARD
BEGIN:DAYLIGHT
TZOFFSETFROM:+0100
TZOFFSETTO:+0200
TZNAME:CEST
DTSTART:20220327T010000
END:DAYLIGHT
BEGIN:STANDARD
TZOFFSETFROM:+0200
TZOFFSETTO:+0100
TZNAME:CET
DTSTART:20221030T010000
END:STANDARD
END:VTIMEZONE
BEGIN:VEVENT
DTSTART;TZID=Europe/Madrid:20210623T080000
DTEND;TZID=Europe/Madrid:20210624T170000
DTSTAMP:20260420T172323
CREATED:20210621T065340Z
LAST-MODIFIED:20210621T065340Z
UID:3916-1624435200-1624554000@linagalvez.eu
SUMMARY:European Research and Innovation Days 2020
DESCRIPTION:Los días europeos de la investigación y la innovación son el evento anual emblemático de la Comisión Europea\, que reúne a los responsables políticos\, los investigadores\, los empresarios y el público para debatir y dar forma al futuro de la investigación y la innovación en Europa y fuera de ella. \nEl evento tendrá lugar en línea los días 23 y 24 de junio de 2021\, lo que permitirá a todos participar desde cualquier lugar. \nMás información
URL:https://linagalvez.eu/agenda/european-research-and-innovation-days-2020/
CATEGORIES:Actualidad,ITRE,Parlamento
ATTACH;FMTTYPE=image/png:https://linagalvez.eu/wp-content/uploads/2021/06/ridays-banner-2021_0.png
END:VEVENT
BEGIN:VEVENT
DTSTART;TZID=Europe/Madrid:20210623T103000
DTEND;TZID=Europe/Madrid:20210623T133000
DTSTAMP:20260420T172323
CREATED:20210208T092530Z
LAST-MODIFIED:20210621T065643Z
UID:3900-1624444200-1624455000@linagalvez.eu
SUMMARY:S&D Group Meeting
DESCRIPTION:Reunión del Grupo S&D preparatoria de la siguiente sesión plenaria.
URL:https://linagalvez.eu/agenda/sd-group-meeting-23-3-2-2-4-2-2-3-2-2/
CATEGORIES:Actualidad,Destacado,Parlamento,S&D
ATTACH;FMTTYPE=image/png:https://linagalvez.eu/wp-content/uploads/2020/01/1-S&D.svg.png
END:VEVENT
BEGIN:VEVENT
DTSTART;TZID=Europe/Madrid:20210623T130000
DTEND;TZID=Europe/Madrid:20210623T153000
DTSTAMP:20260420T172323
CREATED:20210621T061509Z
LAST-MODIFIED:20210621T061653Z
UID:3902-1624453200-1624462200@linagalvez.eu
SUMMARY:ISPIM Innovation Conference
DESCRIPTION:Participación de Lina a través de un video corto sobre la relación entre investigación y hacer políticas para las mujeres. \nhttps://www.ispim-innovation-conference.com/
URL:https://linagalvez.eu/agenda/ispim-innovation-conference/
CATEGORIES:Actualidad,Destacado,FEMM,ITRE,Parlamento
ATTACH;FMTTYPE=image/jpeg:https://linagalvez.eu/wp-content/uploads/2021/05/Estrategia-Industrial.jpg
END:VEVENT
BEGIN:VEVENT
DTSTART;TZID=Europe/Madrid:20210623T143000
DTEND;TZID=Europe/Madrid:20210623T153000
DTSTAMP:20260420T172323
CREATED:20210412T084247Z
LAST-MODIFIED:20210621T062210Z
UID:3904-1624458600-1624462200@linagalvez.eu
SUMMARY:S&D Grupo de Trabajo conjunto BUDG\, ECON & EMPL
DESCRIPTION:
URL:https://linagalvez.eu/agenda/sd-femm-working-group-5-2-3-2-2-2/
CATEGORIES:EMPL,S&D
ATTACH;FMTTYPE=image/jpeg:https://linagalvez.eu/wp-content/uploads/2020/11/SD-WG-ITRE.jpg
END:VEVENT
BEGIN:VEVENT
DTSTART;TZID=Europe/Madrid:20210623T150000
DTEND;TZID=Europe/Madrid:20210624T180000
DTSTAMP:20260420T172323
CREATED:20210211T164450Z
LAST-MODIFIED:20210621T062825Z
UID:3832-1624460400-1624557600@linagalvez.eu
SUMMARY:Pleno del Parlamento Europeo en Bruselas
DESCRIPTION:Destacados del pleno en relación a la agenda de la eurodiputada Lina Gálvez. Bruselas\, 23-24 de junio 2021 \n\n\nDebate informe sobre Salud y derechos sexuales y reproductivos en la Unión\, en el marco de la salud de las mujeres (FEMM)\nDebate sobre Empresa Común de Informática de Alto Rendimiento Europea (ITRE)\nLey Europea del Clima)
URL:https://linagalvez.eu/agenda/pleno-del-parlamento-europeo-2-2-2-2-2-2-2-2/
CATEGORIES:Actualidad,Destacado,Parlamento
ATTACH;FMTTYPE=image/jpeg:https://linagalvez.eu/wp-content/uploads/2020/03/European_Parliament_Strasbourg_Hemicycle_-_Diliff-2-scaled.jpg
END:VEVENT
BEGIN:VEVENT
DTSTART;TZID=Europe/Madrid:20210623T163000
DTEND;TZID=Europe/Madrid:20210623T173000
DTSTAMP:20260420T172323
CREATED:20210412T080804Z
LAST-MODIFIED:20210621T065517Z
UID:3895-1624465800-1624469400@linagalvez.eu
SUMMARY:S&D ITRE Working Group meeting
DESCRIPTION:Grupo de trabajo S&D ITRE en el que se tratarán los temas que se debatirán en el siguiente Pleno.
URL:https://linagalvez.eu/agenda/sd-itre-working-group-meeting-2-4-2-2/
CATEGORIES:Actualidad,ITRE,S&D
ATTACH;FMTTYPE=image/png:https://linagalvez.eu/wp-content/uploads/2020/01/1-S&D.svg.png
END:VEVENT
END:VCALENDAR