BEGIN:VCALENDAR
VERSION:2.0
PRODID:-//Lina Gálvez - ECPv6.15.20//NONSGML v1.0//EN
CALSCALE:GREGORIAN
METHOD:PUBLISH
X-WR-CALNAME:Lina Gálvez
X-ORIGINAL-URL:https://linagalvez.eu
X-WR-CALDESC:Eventos para Lina Gálvez
REFRESH-INTERVAL;VALUE=DURATION:PT1H
X-Robots-Tag:noindex
X-PUBLISHED-TTL:PT1H
BEGIN:VTIMEZONE
TZID:Europe/Madrid
BEGIN:DAYLIGHT
TZOFFSETFROM:+0100
TZOFFSETTO:+0200
TZNAME:CEST
DTSTART:20200329T010000
END:DAYLIGHT
BEGIN:STANDARD
TZOFFSETFROM:+0200
TZOFFSETTO:+0100
TZNAME:CET
DTSTART:20201025T010000
END:STANDARD
BEGIN:DAYLIGHT
TZOFFSETFROM:+0100
TZOFFSETTO:+0200
TZNAME:CEST
DTSTART:20210328T010000
END:DAYLIGHT
BEGIN:STANDARD
TZOFFSETFROM:+0200
TZOFFSETTO:+0100
TZNAME:CET
DTSTART:20211031T010000
END:STANDARD
BEGIN:DAYLIGHT
TZOFFSETFROM:+0100
TZOFFSETTO:+0200
TZNAME:CEST
DTSTART:20220327T010000
END:DAYLIGHT
BEGIN:STANDARD
TZOFFSETFROM:+0200
TZOFFSETTO:+0100
TZNAME:CET
DTSTART:20221030T010000
END:STANDARD
END:VTIMEZONE
BEGIN:VEVENT
DTSTART;TZID=Europe/Madrid:20210909T113000
DTEND;TZID=Europe/Madrid:20210909T123000
DTSTAMP:20260421T171354
CREATED:20200608T074306Z
LAST-MODIFIED:20210909T111840Z
UID:4191-1631187000-1631190600@linagalvez.eu
SUMMARY:Meeting shadow rapporteurs. Empleo
DESCRIPTION:Reunión virtual de (EMPL)  relacionadas con las negociaciones #shadows\,  sobre el expediente de políticas sociales y de empleo de la eurozona del European Parliament\, del que es ponente la eurodiputada Lina Gálvez.
URL:https://linagalvez.eu/agenda/meeting-shadow-rapporteurs-eit-package-4-2/
CATEGORIES:Actualidad,Destacado,EMPL
ATTACH;FMTTYPE=image/jpeg:https://linagalvez.eu/wp-content/uploads/2020/06/Negociaciones-expediente-politicas-sociales-y-de-empleo-de-la-eurozona-.jpg
END:VEVENT
END:VCALENDAR