BEGIN:VCALENDAR
VERSION:2.0
PRODID:-//Lina Gálvez - ECPv6.15.20//NONSGML v1.0//EN
CALSCALE:GREGORIAN
METHOD:PUBLISH
X-ORIGINAL-URL:https://linagalvez.eu
X-WR-CALDESC:Eventos para Lina Gálvez
REFRESH-INTERVAL;VALUE=DURATION:PT1H
X-Robots-Tag:noindex
X-PUBLISHED-TTL:PT1H
BEGIN:VTIMEZONE
TZID:Europe/Madrid
BEGIN:DAYLIGHT
TZOFFSETFROM:+0100
TZOFFSETTO:+0200
TZNAME:CEST
DTSTART:20200329T010000
END:DAYLIGHT
BEGIN:STANDARD
TZOFFSETFROM:+0200
TZOFFSETTO:+0100
TZNAME:CET
DTSTART:20201025T010000
END:STANDARD
BEGIN:DAYLIGHT
TZOFFSETFROM:+0100
TZOFFSETTO:+0200
TZNAME:CEST
DTSTART:20210328T010000
END:DAYLIGHT
BEGIN:STANDARD
TZOFFSETFROM:+0200
TZOFFSETTO:+0100
TZNAME:CET
DTSTART:20211031T010000
END:STANDARD
BEGIN:DAYLIGHT
TZOFFSETFROM:+0100
TZOFFSETTO:+0200
TZNAME:CEST
DTSTART:20220327T010000
END:DAYLIGHT
BEGIN:STANDARD
TZOFFSETFROM:+0200
TZOFFSETTO:+0100
TZNAME:CET
DTSTART:20221030T010000
END:STANDARD
END:VTIMEZONE
BEGIN:VEVENT
DTSTART;TZID=Europe/Madrid:20210913T160000
DTEND;TZID=Europe/Madrid:20210913T170000
DTSTAMP:20260421T064442
CREATED:20210208T092530Z
LAST-MODIFIED:20210913T072958Z
UID:4199-1631548800-1631552400@linagalvez.eu
SUMMARY:S&D Group Meeting
DESCRIPTION:Reunión interna de trabajo del Grupo S&D preparatoria de la sesión plenaria.
URL:https://linagalvez.eu/agenda/sd-group-meeting-23-3-2-2-4-2-3-3-4/
CATEGORIES:Actualidad,Parlamento,S&D
ATTACH;FMTTYPE=image/png:https://linagalvez.eu/wp-content/uploads/2020/01/1-S&D.svg.png
END:VEVENT
BEGIN:VEVENT
DTSTART;TZID=Europe/Madrid:20210913T173000
DTEND;TZID=Europe/Madrid:20210916T170000
DTSTAMP:20260421T064442
CREATED:20210211T164450Z
LAST-MODIFIED:20210915T172952Z
UID:4103-1631554200-1631811600@linagalvez.eu
SUMMARY:Pleno del Parlamento Europeo en Estrasburgo
DESCRIPTION:Destacados del pleno. Estrasburgo\, 13-16 de septiembre 2021 \nDebate sobre el estado de la Unión\nLos eurodiputados  y eurodiputadas analizarán el miércoles con la presidenta de la Comisión Europa\, Ursual von der Leyen\, el trabajo de la CE y evaluarán si se abordan las principales preocupaciones de los europeos. Von der Leyen detallará en su discurso qué ha hecho la Comisión durante el último año para responder a la crisis de Covid-19 y contribuir a la recuperación económica. Además\, presentará sus planes y visiones de futuro. \nAfganistán\nEl pleno debatirá el martes con jefe de la diplomacia comunitaria\, Josep Borrell\, cuál debe ser la repsuesta a la crisis migratoria y humanitaria en Afganistán\, tras la toma del poder por los talibanes y la retirada de las tropas estadounidenses. Los miembros del PE votarán una resolución el jueves. \nCentro Europeo para la Prevención y el Control de las Enfermedades (ECDC)\nLa Eurocámara debatirá y votará el lunes dos propuestas legislativas para reforzar el órgano encargado del control de enfermedades (ECDC) y mejorar la respuesta a las amenazas sanitarias transfronterizas. Las propuestas buscan ampliar el mandator del ECDC y mejorar la coordinación internacional y europea para reforzar la prevención ante posibles futuras crisis. \nRusia\nEl martes\, el Parlamento debatirá sus recomendaciones sobre cómo deben progresar las relaciones entre la UE y Rusia. Además\, demandará una revisión de la política europea como consecuencia del incremento de las tensiones. \nTarjeta azul de la UE\nL@s eurodiputado@ votarán el miércoles la reforma de la tarjeta azul de la UE para trabajadores altamente cualificados. Las nuevas normas mejoran los derechos de los trabajadores e incrementan la flexiblidad. Buscan que los empleadores puedan contratar más fácilmente a empleados no comunitarios así como atraer a migrantes con alta cualificación. \nReserva de Adaptación al Brexit\nEl miércoles\, se adoptarán la Reserva de Adaptación al Brexit\, un fondo europeo de cinco millones de euros para ayudar a las personas\, empresas y Estados miembros a mitigar el efecto económico\, social y territorial de la salida del Reino Unido de la UE. \nUso de animales en la investigación\nEl Parlamento votará una resolución para para acabar con el uso de animales en la investigación\, que se debatió en durante la sesión plenaria de julio. Además\, presentarán medidas para evitar que los animales se usen con fines científicos. \nCuba\nLa represión por parte del régimen cubano de las protestas ciudadanas centrará un debate el jueves en el Parlamento\, que adoptará también una resolución. \nLibertad de prensa en Polonia\nEl miércoles\, los eurodiputados evaluarán la amenaza a la libertad de los medios de comunicación en Polonia tras la nueva legislación sobre radiodifusión y las continuas violaciones del Estado de derecho. \n¿Cómo seguir los debates?\n En directo a través de su página web en las 24 lenguas oficiales de la UE. Solo tiene que seleccionar su idioma. También estará disponible en Facebook.
URL:https://linagalvez.eu/agenda/pleno-del-parlamento-europeo-2-2-2-2-2-2-2-3/
CATEGORIES:Actualidad,Destacado,Parlamento
ATTACH;FMTTYPE=image/jpeg:https://linagalvez.eu/wp-content/uploads/2021/02/E_T_zdxXIAALgAM.jpg
END:VEVENT
BEGIN:VEVENT
DTSTART;TZID=Europe/Madrid:20210913T190000
DTEND;TZID=Europe/Madrid:20210913T200000
DTSTAMP:20260421T064442
CREATED:20210423T144018Z
LAST-MODIFIED:20210913T072450Z
UID:4197-1631559600-1631563200@linagalvez.eu
SUMMARY:Intervención. Debate en pleno sobre las condiciones laborales justas\, derechos y protección social para los trabajadores y trabajadoras de las plataformas
DESCRIPTION:La Eurodiputada Lina Gálvez intervendrá en el plenario para establecer como prioridad legislativa  las condiciones laborales justas\, derechos y protección social para los trabajadores y trabajadoras de las plataformas \, en concreto en lo relacionado con las nuevas formas de empleo vinculadas al desarrollo digital \, \nEl debate podrá ser seguido en directo y se desarrollará la noche del lunes en el hemiciclo de Estrasburgo.
URL:https://linagalvez.eu/agenda/participacion-en-plenario-en-el-debate-conjunto-sobre-investigacion-e-innovacion-2-2-2-2-2-2/
CATEGORIES:Actualidad,Destacado,EMPL,Parlamento
ATTACH;FMTTYPE=image/jpeg:https://linagalvez.eu/wp-content/uploads/2021/05/estrategia-industrial-europea.jpg
END:VEVENT
BEGIN:VEVENT
DTSTART;TZID=Europe/Madrid:20210913T200000
DTEND;TZID=Europe/Madrid:20210913T220000
DTSTAMP:20260421T064442
CREATED:20200608T074306Z
LAST-MODIFIED:20210913T082458Z
UID:4227-1631563200-1631570400@linagalvez.eu
SUMMARY:Meeting shadow rapporteurs. ITRE
DESCRIPTION:Reunión interna de (ITRE)  relacionadas con las negociaciones #shadows\,  sobre el expediente de  Ley de Servicios Digitales.
URL:https://linagalvez.eu/agenda/meeting-shadow-rapporteurs-eit-package-4-2-3/
CATEGORIES:Actualidad,EMPL
END:VEVENT
END:VCALENDAR