BEGIN:VCALENDAR
VERSION:2.0
PRODID:-//Lina Gálvez - ECPv6.15.20//NONSGML v1.0//EN
CALSCALE:GREGORIAN
METHOD:PUBLISH
X-ORIGINAL-URL:https://linagalvez.eu
X-WR-CALDESC:Eventos para Lina Gálvez
REFRESH-INTERVAL;VALUE=DURATION:PT1H
X-Robots-Tag:noindex
X-PUBLISHED-TTL:PT1H
BEGIN:VTIMEZONE
TZID:Europe/Madrid
BEGIN:DAYLIGHT
TZOFFSETFROM:+0100
TZOFFSETTO:+0200
TZNAME:CEST
DTSTART:20200329T010000
END:DAYLIGHT
BEGIN:STANDARD
TZOFFSETFROM:+0200
TZOFFSETTO:+0100
TZNAME:CET
DTSTART:20201025T010000
END:STANDARD
BEGIN:DAYLIGHT
TZOFFSETFROM:+0100
TZOFFSETTO:+0200
TZNAME:CEST
DTSTART:20210328T010000
END:DAYLIGHT
BEGIN:STANDARD
TZOFFSETFROM:+0200
TZOFFSETTO:+0100
TZNAME:CET
DTSTART:20211031T010000
END:STANDARD
BEGIN:DAYLIGHT
TZOFFSETFROM:+0100
TZOFFSETTO:+0200
TZNAME:CEST
DTSTART:20220327T010000
END:DAYLIGHT
BEGIN:STANDARD
TZOFFSETFROM:+0200
TZOFFSETTO:+0100
TZNAME:CET
DTSTART:20221030T010000
END:STANDARD
END:VTIMEZONE
BEGIN:VEVENT
DTSTART;TZID=Europe/Madrid:20210920T070000
DTEND;TZID=Europe/Madrid:20210924T170000
DTSTAMP:20260421T152157
CREATED:20210205T102540Z
LAST-MODIFIED:20210920T072135Z
UID:4115-1632121200-1632502800@linagalvez.eu
SUMMARY:External parliamentary activities. Week.
DESCRIPTION:Durante las semanas verdes\,  en la medida que las normas seguridad  sanitarias COVID19 lo permitan\, l@s eurodiputad@s desarrollan actividades fuera del Parlamento Europeo. Trabajan en sus circunscripciones para tener la oportunidad de estar en contacto con las personas electoras\, o en las delegaciones del PE para mantener relaciones con los países ajenos a la UE.\nMás Información 
URL:https://linagalvez.eu/agenda/external-parliamentary-activities-week-2-2-2-2/
CATEGORIES:Actualidad,Parlamento
ATTACH;FMTTYPE=image/jpeg:https://linagalvez.eu/wp-content/uploads/2021/02/Semana-verde.jpg
END:VEVENT
BEGIN:VEVENT
DTSTART;TZID=Europe/Madrid:20210924T100000
DTEND;TZID=Europe/Madrid:20210924T110000
DTSTAMP:20260421T152157
CREATED:20210920T093648Z
LAST-MODIFIED:20251013T122920Z
UID:4253-1632477600-1632481200@linagalvez.eu
SUMMARY:Red de Igualdad de Género del PES Women.
DESCRIPTION:Red de Igualdad de Género del PES Women. SRHR. “Progresistas de la salud y los derechos sexuales y reproductivos en Europa: Retos y oportunidades en 2021 y más allá»
URL:https://linagalvez.eu/agenda/red-de-igualdad-de-genero-del-pes-women/
CATEGORIES:Parlamento,S&D
ATTACH;FMTTYPE=image/png:https://linagalvez.eu/wp-content/uploads/2020/10/PES-Women.png_20619903.png
END:VEVENT
BEGIN:VEVENT
DTSTART;TZID=Europe/Madrid:20210924T100000
DTEND;TZID=Europe/Madrid:20210924T110000
DTSTAMP:20260421T152157
CREATED:20210927T093007Z
LAST-MODIFIED:20210927T093025Z
UID:4257-1632477600-1632481200@linagalvez.eu
SUMMARY:Veinte aniversario del European Network of Social Integration Enterprises.
DESCRIPTION:
URL:https://linagalvez.eu/agenda/veinte-aniversario-del-european-network-of-social-integration-enterprises/
END:VEVENT
BEGIN:VEVENT
DTSTART;TZID=Europe/Madrid:20210924T160000
DTEND;TZID=Europe/Madrid:20210924T180000
DTSTAMP:20260421T152157
CREATED:20210920T094122Z
LAST-MODIFIED:20210920T094122Z
UID:4255-1632499200-1632506400@linagalvez.eu
SUMMARY:Presentación del libro del eurodiputado Jonás Fernández en el Ateneo de Sevilla.
DESCRIPTION:
URL:https://linagalvez.eu/agenda/presentacion-del-libro-del-eurodiputado-jonas-fernandez-en-el-ateneo-de-sevilla/
CATEGORIES:Andalucía,S&D
END:VEVENT
END:VCALENDAR