BEGIN:VCALENDAR
VERSION:2.0
PRODID:-//Lina Gálvez - ECPv6.15.20//NONSGML v1.0//EN
CALSCALE:GREGORIAN
METHOD:PUBLISH
X-ORIGINAL-URL:https://linagalvez.eu
X-WR-CALDESC:Eventos para Lina Gálvez
REFRESH-INTERVAL;VALUE=DURATION:PT1H
X-Robots-Tag:noindex
X-PUBLISHED-TTL:PT1H
BEGIN:VTIMEZONE
TZID:Europe/Madrid
BEGIN:DAYLIGHT
TZOFFSETFROM:+0100
TZOFFSETTO:+0200
TZNAME:CEST
DTSTART:20200329T010000
END:DAYLIGHT
BEGIN:STANDARD
TZOFFSETFROM:+0200
TZOFFSETTO:+0100
TZNAME:CET
DTSTART:20201025T010000
END:STANDARD
BEGIN:DAYLIGHT
TZOFFSETFROM:+0100
TZOFFSETTO:+0200
TZNAME:CEST
DTSTART:20210328T010000
END:DAYLIGHT
BEGIN:STANDARD
TZOFFSETFROM:+0200
TZOFFSETTO:+0100
TZNAME:CET
DTSTART:20211031T010000
END:STANDARD
BEGIN:DAYLIGHT
TZOFFSETFROM:+0100
TZOFFSETTO:+0200
TZNAME:CEST
DTSTART:20220327T010000
END:DAYLIGHT
BEGIN:STANDARD
TZOFFSETFROM:+0200
TZOFFSETTO:+0100
TZNAME:CET
DTSTART:20221030T010000
END:STANDARD
END:VTIMEZONE
BEGIN:VEVENT
DTSTART;TZID=Europe/Madrid:20211025T080000
DTEND;TZID=Europe/Madrid:20211028T170000
DTSTAMP:20260421T104210
CREATED:20211024T175650Z
LAST-MODIFIED:20211024T175651Z
UID:4515-1635148800-1635440400@linagalvez.eu
SUMMARY:European Gender Equality Week
DESCRIPTION:Por iniciativa de la Comisión FEMM\, el Parlamento Europeo celebrará su segunda Semana Europea de la Igualdad de Género durante la última semana de octubre de 2021. \n\n\nTras el éxito de la primera Semana Europea de la Igualdad de Género organizada en 2020\, el Parlamento Europeo continúa con esta importante iniciativa. Todas las comisiones y delegaciones parlamentarias están invitadas a celebrar eventos cuestiones de desigualdad de género en sus áreas de competencia. \nAquí se puede consultar la programación de la semana y los enlaces a las actividades
URL:https://linagalvez.eu/agenda/european-gender-equality-week/
CATEGORIES:Actualidad,Destacado,EMPL,FEMM,ITRE,Parlamento
ATTACH;FMTTYPE=image/jpeg:https://linagalvez.eu/wp-content/uploads/2015/03/igualdad-zigzag.jpg
END:VEVENT
BEGIN:VEVENT
DTSTART;TZID=Europe/Madrid:20211027T091500
DTEND;TZID=Europe/Madrid:20211027T094500
DTSTAMP:20260421T104210
CREATED:20200921T070440Z
LAST-MODIFIED:20211025T080742Z
UID:4548-1635326100-1635327900@linagalvez.eu
SUMMARY:Committee on Women’s Rights and Gender Equality FEMM
DESCRIPTION:Conferencia sobre el evento paralelo del futuro de Europa: Construyendo una economía inclusiva para las mujeres en la transformación verde y digital.
URL:https://linagalvez.eu/agenda/committee-on-womens-rights-and-gender-equality-femm-7-2-2-3-2-4-3-2-2-2/
CATEGORIES:Destacado,FEMM,Parlamento
ATTACH;FMTTYPE=image/jpeg:https://linagalvez.eu/wp-content/uploads/2021/04/EMPL_220421.jpg
END:VEVENT
BEGIN:VEVENT
DTSTART;TZID=Europe/Madrid:20211027T094500
DTEND;TZID=Europe/Madrid:20211027T101500
DTSTAMP:20260421T104210
CREATED:20211025T080342Z
LAST-MODIFIED:20250220T191426Z
UID:4551-1635327900-1635329700@linagalvez.eu
SUMMARY:Comisión BUDG.
DESCRIPTION:Debate sobre presupuestos con perspectiva de género con el experto de la OCDE\, don Jon Bondal.
URL:https://linagalvez.eu/agenda/comision-budg/
CATEGORIES:Actualidad,FEMM,Parlamento
ATTACH;FMTTYPE=image/jpeg:https://linagalvez.eu/wp-content/uploads/Equality-signal_ckl-2.jpg
END:VEVENT
BEGIN:VEVENT
DTSTART;TZID=Europe/Madrid:20211027T134500
DTEND;TZID=Europe/Madrid:20211027T154500
DTSTAMP:20260421T104210
CREATED:20200921T070440Z
LAST-MODIFIED:20211025T081236Z
UID:4549-1635342300-1635349500@linagalvez.eu
SUMMARY:Committee on Women’s Rights and Gender Equality FEMM
DESCRIPTION:Audiencia pública sobre “Mejorando la igualdad de género a través de una acción europea común en materia de cuidados” \nEl miércoles 27 de octubre el Comité FEMM organiza una Audiencia Pública titulada “Mejora de la igualdad de género a través de una acción europea común en el cuidado”. \n\n\nLa audiencia examinará los aspectos de género de la prestación de cuidados\, especialmente con respecto a la distribución desigual de las responsabilidades del cuidado en el cuidado formal e informal\, pero también la sobrerrepresentación de las mujeres en el sector del cuidado\, los desafíos relacionados con esto a nivel de la UE\, incluidas las consecuencias en la diferencias salariales y de pensiones de género y sobre la conciliación de la vida laboral y familiar y el posible valor añadido de una acción europea común en materia de cuidados. Diferentes ponentes expondrán sus experiencias\, análisis y sugerencias. \nLa Comisión Europea estará representada por Dubravka Šuica \, Vicepresidente de Democracia y Demografía de la CE\, Nicolas Schmit \, Comisario de Empleo y Derechos Sociales\, Helena Dalli \, Comisaria de Igualdad (declaración en vídeo.
URL:https://linagalvez.eu/agenda/committee-on-womens-rights-and-gender-equality-femm-7-2-2-3-2-4-3-2-2-3/
CATEGORIES:Destacado,FEMM,Parlamento
ATTACH;FMTTYPE=image/jpeg:https://linagalvez.eu/wp-content/uploads/2020/09/Europa-Care.jpg
END:VEVENT
BEGIN:VEVENT
DTSTART;TZID=Europe/Madrid:20211027T164500
DTEND;TZID=Europe/Madrid:20211027T174500
DTSTAMP:20260421T104210
CREATED:20210525T064413Z
LAST-MODIFIED:20211025T081706Z
UID:4556-1635353100-1635356700@linagalvez.eu
SUMMARY:Comité conjunto de las Comisiones FEMM y JURI
DESCRIPTION:Reunión conjunta de las Comisiones FEMM y JURI \nIntercambio de puntos de vistas sobre Las mujeres en los Consejos de Administración. \n 
URL:https://linagalvez.eu/agenda/comite-especial-sobe-inteligencia-artificial-2-4-3-2/
CATEGORIES:FEMM,Parlamento
ATTACH;FMTTYPE=image/jpeg:https://linagalvez.eu/wp-content/uploads/2021/05/FEMM-Comision.jpg
END:VEVENT
END:VCALENDAR