BEGIN:VCALENDAR
VERSION:2.0
PRODID:-//Lina Gálvez - ECPv6.15.20//NONSGML v1.0//EN
CALSCALE:GREGORIAN
METHOD:PUBLISH
X-ORIGINAL-URL:https://linagalvez.eu
X-WR-CALDESC:Eventos para Lina Gálvez
REFRESH-INTERVAL;VALUE=DURATION:PT1H
X-Robots-Tag:noindex
X-PUBLISHED-TTL:PT1H
BEGIN:VTIMEZONE
TZID:Europe/Madrid
BEGIN:DAYLIGHT
TZOFFSETFROM:+0100
TZOFFSETTO:+0200
TZNAME:CEST
DTSTART:20210328T010000
END:DAYLIGHT
BEGIN:STANDARD
TZOFFSETFROM:+0200
TZOFFSETTO:+0100
TZNAME:CET
DTSTART:20211031T010000
END:STANDARD
BEGIN:DAYLIGHT
TZOFFSETFROM:+0100
TZOFFSETTO:+0200
TZNAME:CEST
DTSTART:20220327T010000
END:DAYLIGHT
BEGIN:STANDARD
TZOFFSETFROM:+0200
TZOFFSETTO:+0100
TZNAME:CET
DTSTART:20221030T010000
END:STANDARD
BEGIN:DAYLIGHT
TZOFFSETFROM:+0100
TZOFFSETTO:+0200
TZNAME:CEST
DTSTART:20230326T010000
END:DAYLIGHT
BEGIN:STANDARD
TZOFFSETFROM:+0200
TZOFFSETTO:+0100
TZNAME:CET
DTSTART:20231029T010000
END:STANDARD
END:VTIMEZONE
BEGIN:VEVENT
DTSTART;TZID=Europe/Madrid:20220207T100000
DTEND;TZID=Europe/Madrid:20220207T113000
DTSTAMP:20260424T015907
CREATED:20211206T072116Z
LAST-MODIFIED:20220207T083335Z
UID:5138-1644228000-1644233400@linagalvez.eu
SUMMARY:Reunión del Trade Union Intergroup
DESCRIPTION:Reunión del Trade Union Intergroup donde se debatirán los siguientes asuntos: \n\nDirectiva sobre la transparencia salarial entre hombres y mujeres (Propuesta de Directiva para reforzar la aplicación del principio de igualdad de retribución por un mismo trabajo o por un trabajo de igual valor entre hombres y mujeres mediante la transparencia salarial y mecanismos de aplicación).\nProyecto de Directrices de la Comisión sobre la aplicación del Derecho de la competencia de la UE a los convenios colectivos relativos a las condiciones de trabajo de l@s trabajador@s autónom@s
URL:https://linagalvez.eu/agenda/reunion-del-trade-union-intergroup-2/
CATEGORIES:Actualidad,Destacado,EMPL,Parlamento
ATTACH;FMTTYPE=image/jpeg:https://linagalvez.eu/wp-content/uploads/2021/02/ETUC-febreo-2020.jpg
END:VEVENT
BEGIN:VEVENT
DTSTART;TZID=Europe/Madrid:20220207T130000
DTEND;TZID=Europe/Madrid:20220207T133000
DTSTAMP:20260424T015907
CREATED:20210412T080804Z
LAST-MODIFIED:20220207T085221Z
UID:5026-1644238800-1644240600@linagalvez.eu
SUMMARY:S&D ITRE Working Group meeting
DESCRIPTION:Grupo de trabajo S&D ITRE en el que se tratarán los temas que se debatirán en el siguiente Pleno y la movilización del Fondo Europeo de Adaptación a la Globalización y el establecimiento de un Fondo Social para el Clima.
URL:https://linagalvez.eu/agenda/sd-itre-working-group-meeting-2-4-2-3-4-2/
CATEGORIES:Actualidad,ITRE,S&D
ATTACH;FMTTYPE=image/png:https://linagalvez.eu/wp-content/uploads/2020/01/1-S&D.svg.png
END:VEVENT
BEGIN:VEVENT
DTSTART;TZID=Europe/Madrid:20220207T134500
DTEND;TZID=Europe/Madrid:20220207T150000
DTSTAMP:20260424T015907
CREATED:20210830T165910Z
LAST-MODIFIED:20220207T084513Z
UID:5139-1644241500-1644246000@linagalvez.eu
SUMMARY:Comisión de Empleo y Asuntos Sociales
DESCRIPTION:Debates previstos \nLa Comisión de Empleo y Asuntos Sociales votará la opinión sobre Movilización del Fondo Europeo de Adaptación a la Globalización . Los miembros también debatirán sobre el Semestre Europeo para la coordinación de políticas económicas: Empleo y aspectos sociales en la Estrategia Anual de Crecimiento Sostenible 2022.
URL:https://linagalvez.eu/agenda/comision-de-empleo-y-asuntos-sociales-2-2-2-2-2-2-2-2-2/
CATEGORIES:Actualidad,Destacado,EMPL,Parlamento
ATTACH;FMTTYPE=image/jpeg:https://linagalvez.eu/wp-content/uploads/2021/05/Estrategia-Industrial.jpg
END:VEVENT
END:VCALENDAR