BEGIN:VCALENDAR
VERSION:2.0
PRODID:-//Lina Gálvez - ECPv6.15.20//NONSGML v1.0//EN
CALSCALE:GREGORIAN
METHOD:PUBLISH
X-ORIGINAL-URL:https://linagalvez.eu
X-WR-CALDESC:Eventos para Lina Gálvez
REFRESH-INTERVAL;VALUE=DURATION:PT1H
X-Robots-Tag:noindex
X-PUBLISHED-TTL:PT1H
BEGIN:VTIMEZONE
TZID:Europe/Madrid
BEGIN:DAYLIGHT
TZOFFSETFROM:+0100
TZOFFSETTO:+0200
TZNAME:CEST
DTSTART:20210328T010000
END:DAYLIGHT
BEGIN:STANDARD
TZOFFSETFROM:+0200
TZOFFSETTO:+0100
TZNAME:CET
DTSTART:20211031T010000
END:STANDARD
BEGIN:DAYLIGHT
TZOFFSETFROM:+0100
TZOFFSETTO:+0200
TZNAME:CEST
DTSTART:20220327T010000
END:DAYLIGHT
BEGIN:STANDARD
TZOFFSETFROM:+0200
TZOFFSETTO:+0100
TZNAME:CET
DTSTART:20221030T010000
END:STANDARD
BEGIN:DAYLIGHT
TZOFFSETFROM:+0100
TZOFFSETTO:+0200
TZNAME:CEST
DTSTART:20230326T010000
END:DAYLIGHT
BEGIN:STANDARD
TZOFFSETFROM:+0200
TZOFFSETTO:+0100
TZNAME:CET
DTSTART:20231029T010000
END:STANDARD
END:VTIMEZONE
BEGIN:VEVENT
DTSTART;TZID=Europe/Madrid:20220208T090000
DTEND;TZID=Europe/Madrid:20220209T100000
DTSTAMP:20260424T015903
CREATED:20210412T080804Z
LAST-MODIFIED:20220207T084951Z
UID:5148-1644310800-1644400800@linagalvez.eu
SUMMARY:S&D ITRE Working Group meeting
DESCRIPTION:Grupo de trabajo S&D ITRE en el que se tratarán los temas que se debatirán en el siguiente Pleno y entre otros asuntos el expediente sobre la fiscalidad de la energía\, combustibles marítimos sostenibles y el Fondo Social del Clima\, donde la eurodiputada Lina Gálvez es ponente en la sombra.
URL:https://linagalvez.eu/agenda/sd-itre-working-group-meeting-2-4-2-3-3-2/
CATEGORIES:Actualidad,Destacado,ITRE,S&D
ATTACH;FMTTYPE=image/jpeg:https://linagalvez.eu/wp-content/uploads/2020/11/SD-WG-ITRE.jpg
END:VEVENT
BEGIN:VEVENT
DTSTART;TZID=Europe/Madrid:20220209T090000
DTEND;TZID=Europe/Madrid:20220209T100000
DTSTAMP:20260424T015903
CREATED:20211206T085232Z
LAST-MODIFIED:20220207T100237Z
UID:5146-1644397200-1644400800@linagalvez.eu
SUMMARY:Reunión con la Secretaría de Políticas Europeas de UGT
DESCRIPTION:La eurodiputada Lina Gálvez mantendrá una reunión con la Secretaría de Políticas Europeas de UGT para abordar los retos del semestre parlamentario europeo y documento en relación con la jornada laboral.
URL:https://linagalvez.eu/agenda/encuentro-entre-la-direccion-de-ugt-andalucia-y-la-eurodiputada-lina-galvez-sevilla-3/
CATEGORIES:Actualidad,EMPL,FEMM,S&D
ATTACH;FMTTYPE=image/jpeg:https://linagalvez.eu/wp-content/uploads/2021/11/1557860441_494516_1557860723_noticia_normal.jpg
END:VEVENT
BEGIN:VEVENT
DTSTART;TZID=Europe/Madrid:20220209T100000
DTEND;TZID=Europe/Madrid:20220209T110000
DTSTAMP:20260424T015903
CREATED:20210909T091105Z
LAST-MODIFIED:20220207T110634Z
UID:5145-1644400800-1644404400@linagalvez.eu
SUMMARY:Reunión interparlamentaria del Grupo Parlamentario Socialista.
DESCRIPTION:La europarlamentaria Lina Gálvez asistirá\,  a la reunión de la Interparlamentaria de igualdad del Grupo Parlamentario Socialista  Español para coordinar la agenda  y los trabajos legislativos del primer trimestre del año.
URL:https://linagalvez.eu/agenda/reunion-interparlamentaria-del-grupo-parlamentario-socialista-2/
CATEGORIES:Actualidad,Parlamento
ATTACH;FMTTYPE=image/jpeg:https://linagalvez.eu/wp-content/uploads/2021/06/PSOE-Municipalismo.jpg
END:VEVENT
END:VCALENDAR