BEGIN:VCALENDAR
VERSION:2.0
PRODID:-//Lina Gálvez - ECPv6.15.20//NONSGML v1.0//EN
CALSCALE:GREGORIAN
METHOD:PUBLISH
X-WR-CALNAME:Lina Gálvez
X-ORIGINAL-URL:https://linagalvez.eu
X-WR-CALDESC:Eventos para Lina Gálvez
REFRESH-INTERVAL;VALUE=DURATION:PT1H
X-Robots-Tag:noindex
X-PUBLISHED-TTL:PT1H
BEGIN:VTIMEZONE
TZID:Europe/Madrid
BEGIN:DAYLIGHT
TZOFFSETFROM:+0100
TZOFFSETTO:+0200
TZNAME:CEST
DTSTART:20210328T010000
END:DAYLIGHT
BEGIN:STANDARD
TZOFFSETFROM:+0200
TZOFFSETTO:+0100
TZNAME:CET
DTSTART:20211031T010000
END:STANDARD
BEGIN:DAYLIGHT
TZOFFSETFROM:+0100
TZOFFSETTO:+0200
TZNAME:CEST
DTSTART:20220327T010000
END:DAYLIGHT
BEGIN:STANDARD
TZOFFSETFROM:+0200
TZOFFSETTO:+0100
TZNAME:CET
DTSTART:20221030T010000
END:STANDARD
BEGIN:DAYLIGHT
TZOFFSETFROM:+0100
TZOFFSETTO:+0200
TZNAME:CEST
DTSTART:20230326T010000
END:DAYLIGHT
BEGIN:STANDARD
TZOFFSETFROM:+0200
TZOFFSETTO:+0100
TZNAME:CET
DTSTART:20231029T010000
END:STANDARD
END:VTIMEZONE
BEGIN:VEVENT
DTSTART;TZID=Europe/Madrid:20220210T090000
DTEND;TZID=Europe/Madrid:20220210T100000
DTSTAMP:20260424T015857
CREATED:20210927T094856Z
LAST-MODIFIED:20220209T091904Z
UID:5093-1644483600-1644487200@linagalvez.eu
SUMMARY:Grupo de trabajo S&D ITRE para tratar el paquete Fit for 55.
DESCRIPTION:Reunión del  del Grupo de Trabajo en el seno del  S&D relacionados con el  Paquete legislativo Fit for 55. A. Intercambio de opiniones sobre la Directiva de Eficiencia Energética y actualización de los expedientes legislativos ETS de aviación\, CORSIA (Sistema de Compensación y Reducción de Carbono para la Aviación Internacional) y LULUCF (Uso de la tierra\, cambio de uso de la tierra y silvicultura).
URL:https://linagalvez.eu/agenda/encuentro-con-la-embajadora-espanola-en-malta-external-group-meeting-2-5-2-2/
CATEGORIES:Destacado,ITRE,S&D
ATTACH;FMTTYPE=image/jpeg:https://linagalvez.eu/wp-content/uploads/2021/11/fit-for-55.jpg
END:VEVENT
BEGIN:VEVENT
DTSTART;TZID=Europe/Madrid:20220210T134500
DTEND;TZID=Europe/Madrid:20220210T174500
DTSTAMP:20260424T015857
CREATED:20210927T104830Z
LAST-MODIFIED:20220209T091922Z
UID:5144-1644500700-1644515100@linagalvez.eu
SUMMARY:Committee on Women's Rights and Gender Equality.
DESCRIPTION:El Comité FEMM del 10 de febrero tratará los siguientes asuntos: Votación de enmiendas y modificaciones: \n\nInformes de sostenibilidad de las empresas.\nDirectrices para el presupuesto de 2023.\nEficiencia energética: Compromisos de los Estados en el Acuerdo de París de respetar\, promover y considerar sus obligaciones en materia de derechos humanos\, incluida la igualdad de género. Las enmiendas al proyecto de dictamen piden que se diseñen medidas específicas para apoyar a las mujeres en toda su diversidad\, combatir la feminización de la pobreza energética e incluir a todos los grupos vulnerables en la transición verde.\nEvento paralelo a la Conferencia sobre el Futuro de Europa: Contrarrestar el movimiento antigénero hoy para asegurar una Europa igualitaria mañana
URL:https://linagalvez.eu/agenda/joint-meeting-committee-on-employment-and-social-affairs-committee-on-womens-rights-and-gender-equality-2-3-2-3/
CATEGORIES:Destacado,FEMM,Parlamento
ATTACH;FMTTYPE=image/jpeg:https://linagalvez.eu/wp-content/uploads/2021/12/20211208_EP-123402A_PB7_077-1-scaled.jpg
END:VEVENT
BEGIN:VEVENT
DTSTART;TZID=Europe/Madrid:20220210T140000
DTEND;TZID=Europe/Madrid:20220210T150000
DTSTAMP:20260424T015857
CREATED:20210222T105732Z
LAST-MODIFIED:20241211T122129Z
UID:5170-1644501600-1644505200@linagalvez.eu
SUMMARY:Contrarrestando los movimientos antigénero - Audiencia Pública FEMM
DESCRIPTION:El 10 de febrero\, la Comisión FEMM organiza una audiencia pública como evento paralelo a la Conferencia sobre el Futuro de Europa titulada “Contrarrestar el movimiento antigénero hoy para asegurar una Europa igualitaria de género mañana”. \n\n\nLa audiencia se centra en la salud y los derechos sexuales y reproductivos. Se confirma la participación de los siguientes oradores: Sra. Martina Avanza\, Investigadora-Profesora principal del Instituto de Estudios Políticos y el Centro de Estudios de Género de la Universidad de Lausana\, Sr. Cianán Russell\, Ph.D.\, Oficial Principal de Políticas\, ILGA Europa\, Sr. Neil Datta\, Secretario General del Foro Parlamentario Europeo para los Derechos Sexuales y Reproductivos (EPF) y Sra. Tatevik Hovannisyan\, Editora de Europa y Eurasia\, proyecto Tracking the Backlash de openDemocracy. \nMás Información
URL:https://linagalvez.eu/agenda/contrarrestando-los-movimientos-antigenero/
CATEGORIES:Actualidad,Destacado,FEMM,Parlamento
ATTACH;FMTTYPE=image/jpeg:https://linagalvez.eu/wp-content/uploads/2021/02/Movimientos-antigenero.jpg
END:VEVENT
END:VCALENDAR