BEGIN:VCALENDAR
VERSION:2.0
PRODID:-//Lina Gálvez - ECPv6.15.20//NONSGML v1.0//EN
CALSCALE:GREGORIAN
METHOD:PUBLISH
X-WR-CALNAME:Lina Gálvez
X-ORIGINAL-URL:https://linagalvez.eu
X-WR-CALDESC:Eventos para Lina Gálvez
REFRESH-INTERVAL;VALUE=DURATION:PT1H
X-Robots-Tag:noindex
X-PUBLISHED-TTL:PT1H
BEGIN:VTIMEZONE
TZID:Europe/Madrid
BEGIN:DAYLIGHT
TZOFFSETFROM:+0100
TZOFFSETTO:+0200
TZNAME:CEST
DTSTART:20210328T010000
END:DAYLIGHT
BEGIN:STANDARD
TZOFFSETFROM:+0200
TZOFFSETTO:+0100
TZNAME:CET
DTSTART:20211031T010000
END:STANDARD
BEGIN:DAYLIGHT
TZOFFSETFROM:+0100
TZOFFSETTO:+0200
TZNAME:CEST
DTSTART:20220327T010000
END:DAYLIGHT
BEGIN:STANDARD
TZOFFSETFROM:+0200
TZOFFSETTO:+0100
TZNAME:CET
DTSTART:20221030T010000
END:STANDARD
BEGIN:DAYLIGHT
TZOFFSETFROM:+0100
TZOFFSETTO:+0200
TZNAME:CEST
DTSTART:20230326T010000
END:DAYLIGHT
BEGIN:STANDARD
TZOFFSETFROM:+0200
TZOFFSETTO:+0100
TZNAME:CET
DTSTART:20231029T010000
END:STANDARD
END:VTIMEZONE
BEGIN:VEVENT
DTSTART;TZID=Europe/Madrid:20220211T100000
DTEND;TZID=Europe/Madrid:20220211T110000
DTSTAMP:20260424T015856
CREATED:20220207T103607Z
LAST-MODIFIED:20220211T090556Z
UID:5165-1644573600-1644577200@linagalvez.eu
SUMMARY:Acto de celebración "Alianza STEAM por el talento femenino. Niñas en pie de Ciencia". Madrid
DESCRIPTION:La eurodiputada Lina Gálvez participará en el Acto de celebración del primer aniversario «Alianza STEAM por el talento femenino. Niñas en pie de Ciencia» y para conmemorar el Día Internacional de la mujer y la niña en la ciencia. \nEl acto será presidido por el Presidente del Gobierno y contará con la presencia de la Ministra de Educación y Formación Profesional\, la Ministra de Ciencia e Innovación y la ministra de Igualdad. Se podrá seguir a través del canal de Youtube del Ministerio de Educación y Formación Profesional. \nLa ‘Alianza STEAM’ pretende\, asimismo\, promover iniciativas concretas que contribuyan a acabar con los estereotipos de género que\, desde los primeros estadios de la educación\, frenan el acceso de las jóvenes a estudios científicos\, de ingenierías y tecnológicos. \nLa ciencia y la igualdad de género son vitales para alcanzar los Objetivos de Desarrollo Sostenible (ODS). En las últimas décadas\, la comunidad internacional ha hecho un gran esfuerzo para inspirar y promover la participación de las mujeres y las niñas en la ciencia. Sin embargo\, las mujeres siguen encontrando obstáculos para desenvolverse en el campo de la ciencia. \nCon el fin de lograr el acceso y la participación plena y equitativa en la ciencia para las mujeres y las niñas\, y además para lograr la igualdad de género y el empoderamiento de las mujeres y las niñas\, la Asamblea General de las Naciones Unidas decidió proclamar en 2016 (resolución A/RES/70/212 ) el 11 de febrero como el Día Internacional de la Mujer y la Niña en la Ciencia.
URL:https://linagalvez.eu/agenda/acto-de-celebracion-alianza-steam-por-el-talento-femenino-ninas-en-pie-de-ciencia-madrid/
CATEGORIES:Actualidad,Destacado,FEMM,ITRE,Parlamento,S&D,STOA
ATTACH;FMTTYPE=image/jpeg:https://linagalvez.eu/wp-content/uploads/2022/02/11F.jpg
END:VEVENT
END:VCALENDAR