BEGIN:VCALENDAR
VERSION:2.0
PRODID:-//Lina Gálvez - ECPv6.15.20//NONSGML v1.0//EN
CALSCALE:GREGORIAN
METHOD:PUBLISH
X-ORIGINAL-URL:https://linagalvez.eu
X-WR-CALDESC:Eventos para Lina Gálvez
REFRESH-INTERVAL;VALUE=DURATION:PT1H
X-Robots-Tag:noindex
X-PUBLISHED-TTL:PT1H
BEGIN:VTIMEZONE
TZID:Europe/Madrid
BEGIN:DAYLIGHT
TZOFFSETFROM:+0100
TZOFFSETTO:+0200
TZNAME:CEST
DTSTART:20210328T010000
END:DAYLIGHT
BEGIN:STANDARD
TZOFFSETFROM:+0200
TZOFFSETTO:+0100
TZNAME:CET
DTSTART:20211031T010000
END:STANDARD
BEGIN:DAYLIGHT
TZOFFSETFROM:+0100
TZOFFSETTO:+0200
TZNAME:CEST
DTSTART:20220327T010000
END:DAYLIGHT
BEGIN:STANDARD
TZOFFSETFROM:+0200
TZOFFSETTO:+0100
TZNAME:CET
DTSTART:20221030T010000
END:STANDARD
BEGIN:DAYLIGHT
TZOFFSETFROM:+0100
TZOFFSETTO:+0200
TZNAME:CEST
DTSTART:20230326T010000
END:DAYLIGHT
BEGIN:STANDARD
TZOFFSETFROM:+0200
TZOFFSETTO:+0100
TZNAME:CET
DTSTART:20231029T010000
END:STANDARD
END:VTIMEZONE
BEGIN:VEVENT
DTSTART;TZID=Europe/Madrid:20220214T080000
DTEND;TZID=Europe/Madrid:20220217T170000
DTSTAMP:20260424T015906
CREATED:20210211T164450Z
LAST-MODIFIED:20220214T103248Z
UID:4895-1644825600-1645117200@linagalvez.eu
SUMMARY:Pleno del Parlamento Europeo en Estrasburgo
DESCRIPTION:Destacados del pleno. Estrasburgo\, 14-17 de febrero 2022\nLucha contra el cáncer\nL@s eurodiputad@s debatirán y votarán las recomendaciones de la comisión especial del Parlamento sobre la lucha contra el cáncer. Las propuestas están centradas en atajar los factores de riesgo\, mejorar la atención sanitaria e incrementar los fondos para la investigación. \nUE-Rusia\nEn un momento de tensiones en la frontera con Ucrania y tras la visita de la delegación del Parlamento Europeo a la región\, el pleno debatirá el miércoles la amenaza militar de Rusia contra Ucrania. \nSeguridad de los juguetes\nEl miércoles\, los miembros del PE pedirán normas más estrictas para reforzar la seguridad de los juguetes y proteger a l@s niñ@s de los químicos peligrosos\, así como de los retos que presentan los juguetes que están conectados a internet. \nEstado de derecho\nEl pleno examinará el miércoles por la tarde la decisión del Tribunal de la UE sobre las demandas de anulación del reglamento que vincula el pago de fondos de la UE al respeto del Estado de derecho presentadas por Hungría y Polonia. \nCertificado Covid\nL@s eurodiputad@s votarán el martes si se oponen a la reciente decisión de la Comisión de limitar la validez del Certificado Digital Covid de la UE a 270 días\, tras los cuales se necesitaría la tercera dosis de refuerzo para que el certificado sea válido. \nPeajes en las carreteras\nEl pleno votará las nuevas reglas sobre peajes para camiones\, basadas en la distancia recorrida y no en el tiempo de uso de la carretera\, como hasta ahora. El sistema de “viñetas” que ahora utilizan algunos Estados miembros será sustituido al de peaje y se ampliará a autobuses\, furgonetas y coches. \nVeinte aniversario del euro\nLos eurodiputados conmemorarán el lunes el vigésimo aniversario del euro y debatirán con la presidenta del BCE\, Christine Lagarde\, cómo atajar la inflación sin dañar la reactivación económica. \nEnergía renovable marina\nEl Parlamento presentará sus propuestas sobre la estrategia de la UE en materia de energía renovable marina. Entre ellas se incluye acelerar el despliegue de la tecnología para alcanzar los objetivos fijados en el Acuerdo de París y lograr la neutralidad de carbono en 2050. \nProtección de los trabajadores contra las sustancias tóxicas\nEl Parlamento Europeo está dispuesto a mejorar la protección de los trabajadores que trabajan con sustancias cancerígenas. Está previsto que los eurodiputados den su visto bueno el jueves a las propuestas para establecer límites de exposición a sustancias tóxicas en toda la UE\, incluidas las que pueden afectar a la fertilidad. \nPresidente de Colombia\nEl martes\, el presidente colombiano\, Iván Duque\, se dirigirá al pleno en el hemiciclo de Estrasburgo. \nMás asuntos\n\nEl uso del programa espía Pegasus\nEl impacto de Covid-19 en los jóvenes\nDiscurso del presidente colombiano Iván Duque\nRelaciones UE-África
URL:https://linagalvez.eu/agenda/pleno-del-parlamento-europeo-2-2-2-2-2-2-2-6/
CATEGORIES:Actualidad,Destacado,Parlamento
ATTACH;FMTTYPE=image/jpeg:https://linagalvez.eu/wp-content/uploads/2020/03/European_Parliament_Strasbourg_Hemicycle_-_Diliff-2-scaled.jpg
END:VEVENT
BEGIN:VEVENT
DTSTART;TZID=Europe/Madrid:20220216T143000
DTEND;TZID=Europe/Madrid:20220216T153000
DTSTAMP:20260424T015906
CREATED:20210412T084247Z
LAST-MODIFIED:20220216T082241Z
UID:5142-1645021800-1645025400@linagalvez.eu
SUMMARY:S&D FEMM Working Group
DESCRIPTION:Sesión interna de trabajo en el seno del S&D para coordinar y revisar las iniciativas que se tratarán en el Pleno y la Comisión FEMM. Punto destacado reelección de la Coordinación de Grupo.
URL:https://linagalvez.eu/agenda/sd-femm-working-group-5-2-3-2-3-2-2-2-4-2-2-2-2/
CATEGORIES:Destacado,FEMM,S&D
END:VEVENT
BEGIN:VEVENT
DTSTART;TZID=Europe/Madrid:20220216T160000
DTEND;TZID=Europe/Madrid:20220216T170000
DTSTAMP:20260424T015906
CREATED:20200111T151627Z
LAST-MODIFIED:20250221T131323Z
UID:5204-1645027200-1645030800@linagalvez.eu
SUMMARY:Reunión de la Delegación USA
DESCRIPTION:Intercambio de opiniones sobre las relaciones con Rusia\, en particular en lo que respecta a Ucrania\, con Alina Polyakova\, Presidenta y Directora General del Centro de Análisis Político Europeo (CEPA).
URL:https://linagalvez.eu/agenda/reunion-de-la-delegacion-usa-2-2-2/
CATEGORIES:Actualidad,D-US,Parlamento
ATTACH;FMTTYPE=image/jpeg:https://linagalvez.eu/wp-content/uploads/banderas-eu-es-edificio_img_77742_pca-freepik_SI.jpg
END:VEVENT
BEGIN:VEVENT
DTSTART;TZID=Europe/Madrid:20220216T181500
DTEND;TZID=Europe/Madrid:20220216T203000
DTSTAMP:20260424T015906
CREATED:20210208T092530Z
LAST-MODIFIED:20220214T100623Z
UID:5206-1645035300-1645043400@linagalvez.eu
SUMMARY:S&D Group Meeting
DESCRIPTION:Reunión del Grupo S&D preparatoria de la sesión plenaria.
URL:https://linagalvez.eu/agenda/sd-group-meeting-23-3-2-2-4-2-3-3-5-2-2-2-2-2-2-8-2/
CATEGORIES:Actualidad,Parlamento,S&D
ATTACH;FMTTYPE=image/png:https://linagalvez.eu/wp-content/uploads/2020/01/1-S&D.svg.png
END:VEVENT
BEGIN:VEVENT
DTSTART;TZID=Europe/Madrid:20220216T190000
DTEND;TZID=Europe/Madrid:20220216T200000
DTSTAMP:20260424T015906
CREATED:20210423T144018Z
LAST-MODIFIED:20260209T124412Z
UID:5192-1645038000-1645041600@linagalvez.eu
SUMMARY:Intervención. Debate en pleno. Prioridades de la UE para la 66ª sesión de la Comisión de la Condición Jurídica y Social de la Mujer de la ONU
DESCRIPTION:La Eurodiputada Lina Gálvez intervendrá en el plenario dentro en el punto del orden relacionado con Las prioridades de la UE para la 66ª sesión de la Comisión de la Condición Jurídica y Social de la Mujer de la ONU. \nCon carácter previo a la Comisión de la Condición Jurídica y Social de la Mujer de las Naciones Unidas\, los grupos políticos de la Comisión FEMM ha decidido debatir en el pleno a partir de la declaración del Consejo y la Comisión sobre las prioridades de la Unión Europea para el 66º período de sesiones de la Comisión de la Condición Jurídica y Social de la Mujer de las Naciones Unidas. Tendrá lugar del 14 al 25 de marzo de 2022 en formato hibrido. https://www.unwomen.org/en/csw/csw66-2022 \nEl tema principal es lograr la igualdad de género y el empoderamiento de todas las mujeres y niñas en el contexto de las políticas y programas sobre cambio climático\, medio ambiente y reducción del riesgo de desastres. \nEl debate podrá ser seguido en directo y se desarrollará la tarde (17.00h aprox) del miércoles en el hemiciclo de Estrasburgo.
URL:https://linagalvez.eu/agenda/participacion-en-plenario-en-el-debate-conjunto-sobre-investigacion-e-innovacion-2-2-2-2-2-2-2-3/
CATEGORIES:Actualidad,Destacado,FEMM,Parlamento
ATTACH;FMTTYPE=image/jpeg:https://linagalvez.eu/wp-content/uploads/2022/01/Captura_LGM.jpg
END:VEVENT
END:VCALENDAR