BEGIN:VCALENDAR
VERSION:2.0
PRODID:-//Lina Gálvez - ECPv6.15.20//NONSGML v1.0//EN
CALSCALE:GREGORIAN
METHOD:PUBLISH
X-WR-CALNAME:Lina Gálvez
X-ORIGINAL-URL:https://linagalvez.eu
X-WR-CALDESC:Eventos para Lina Gálvez
REFRESH-INTERVAL;VALUE=DURATION:PT1H
X-Robots-Tag:noindex
X-PUBLISHED-TTL:PT1H
BEGIN:VTIMEZONE
TZID:Europe/Madrid
BEGIN:DAYLIGHT
TZOFFSETFROM:+0100
TZOFFSETTO:+0200
TZNAME:CEST
DTSTART:20210328T010000
END:DAYLIGHT
BEGIN:STANDARD
TZOFFSETFROM:+0200
TZOFFSETTO:+0100
TZNAME:CET
DTSTART:20211031T010000
END:STANDARD
BEGIN:DAYLIGHT
TZOFFSETFROM:+0100
TZOFFSETTO:+0200
TZNAME:CEST
DTSTART:20220327T010000
END:DAYLIGHT
BEGIN:STANDARD
TZOFFSETFROM:+0200
TZOFFSETTO:+0100
TZNAME:CET
DTSTART:20221030T010000
END:STANDARD
BEGIN:DAYLIGHT
TZOFFSETFROM:+0100
TZOFFSETTO:+0200
TZNAME:CEST
DTSTART:20230326T010000
END:DAYLIGHT
BEGIN:STANDARD
TZOFFSETFROM:+0200
TZOFFSETTO:+0100
TZNAME:CET
DTSTART:20231029T010000
END:STANDARD
END:VTIMEZONE
BEGIN:VEVENT
DTSTART;TZID=Europe/Madrid:20220221T080000
DTEND;TZID=Europe/Madrid:20220225T170000
DTSTAMP:20260424T015857
CREATED:20210205T102540Z
LAST-MODIFIED:20220214T165531Z
UID:4159-1645430400-1645808400@linagalvez.eu
SUMMARY:External parliamentary activities. Week.
DESCRIPTION:Durante las semanas verdes\,  en la medida que las normas seguridad  sanitarias COVID19 lo permitan\, l@s eurodiputad@s desarrollan actividades fuera del Parlamento Europeo. Trabajan en sus circunscripciones para tener la oportunidad de estar en contacto con las personas electoras\, o en las delegaciones del PE para mantener relaciones con los países ajenos a la UE.\nMás Información 
URL:https://linagalvez.eu/agenda/external-parliamentary-activities-week-2-5/
CATEGORIES:Actualidad,Parlamento
ATTACH;FMTTYPE=image/jpeg:https://linagalvez.eu/wp-content/uploads/2021/02/Semana-verde.jpg
END:VEVENT
BEGIN:VEVENT
DTSTART;TZID=Europe/Madrid:20220222T080000
DTEND;TZID=Europe/Madrid:20220223T170000
DTSTAMP:20260424T015857
CREATED:20220218T093610Z
LAST-MODIFIED:20220221T085701Z
UID:5233-1645516800-1645635600@linagalvez.eu
SUMMARY:Economía social en acción. Delegación parlamentaria de Empleo. Madrid
DESCRIPTION:Una delegación de 11 miembros de la Comisión de Empleo y Asuntos Sociales examinará algunas prácticas en el sector de las empresas sociales durante una misión del 21 al 23 de febrero. \n\nEl Parlamento Europeo\, en particular a través de su Intergrupo sobre la economía social\, ha estado promoviendo activamente un mayor apoyo a la economía social a nivel europeo a lo largo de los años. Hay 2 millones de empresas de economía social en Europa\, que representan el 10% de todas las empresas de la UE. Estos incluyen: cooperativas\, mutualidades\, asociaciones sin fines de lucro\, fundaciones y empresas sociales.
URL:https://linagalvez.eu/agenda/economia-social-en-accion-delegacion-parlamentaria-de-empleo/
CATEGORIES:Actualidad,Destacado,EMPL,Parlamento
ATTACH;FMTTYPE=image/png:https://linagalvez.eu/wp-content/uploads/2020/06/Economía-social.png
END:VEVENT
BEGIN:VEVENT
DTSTART;TZID=Europe/Madrid:20220223T170000
DTEND;TZID=Europe/Madrid:20220223T180000
DTSTAMP:20260424T015857
CREATED:20220218T094941Z
LAST-MODIFIED:20220221T085717Z
UID:5237-1645635600-1645639200@linagalvez.eu
SUMMARY:Participación en el Seminario; “La economía del cuidado y el bienestar del conjunto de la sociedad”.
DESCRIPTION:La eurodiputada Lina Gálvez participará en el Seminario el panel: “La economía del cuidado y el bienestar del conjunto de la sociedad” organizado por Demiusar. \nSe retransmitirá en directo el 23 de febrero a las 11:50am (R. Dominicana) / 4:50pm (España). \nMás información AQUÍ
URL:https://linagalvez.eu/agenda/participacion-en-el-seminario-la-economia-del-cuidado-y-el-bienestar-del-conjunto-de-la-sociedad/
CATEGORIES:Actualidad,Destacado,FEMM,Parlamento
ATTACH;FMTTYPE=image/jpeg:https://linagalvez.eu/wp-content/uploads/2022/02/Economia-de-los-cuidados.jpg
END:VEVENT
BEGIN:VEVENT
DTSTART;TZID=Europe/Madrid:20220223T173000
DTEND;TZID=Europe/Madrid:20220223T183000
DTSTAMP:20260424T015857
CREATED:20220223T093936Z
LAST-MODIFIED:20220223T094012Z
UID:5249-1645637400-1645641000@linagalvez.eu
SUMMARY:Participación en Grupo de Trabajo de Igualdad de Género del Consejo de Desarrollo Sostenible. Gobierno de España
DESCRIPTION:La eurodiputada Lina Gálvez participara en remoto en el Grupo de Trabajo de Igualdad de Género del Consejo de Desarrollo Sostenible para compartir las cuestiones de referencias contenidas en el Informe del Parlamento Europeo sobre Mujeres y pobreza en la UE\, informe del que ha sido la ponente principal. También participará en el encuentro la EAPN (Red Europea contrala Pobreza).
URL:https://linagalvez.eu/agenda/participacion-en-grupo-de-trabajo-de-igualdad-de-genero-del-consejo-de-desarrollo-sostenible-gobierno-de-espana/
CATEGORIES:Actualidad,Destacado,FEMM,Parlamento
ATTACH;FMTTYPE=image/jpeg:https://linagalvez.eu/wp-content/uploads/2020/06/Negociacion-semestre-2.jpg
END:VEVENT
END:VCALENDAR