BEGIN:VCALENDAR
VERSION:2.0
PRODID:-//Lina Gálvez - ECPv6.15.20//NONSGML v1.0//EN
CALSCALE:GREGORIAN
METHOD:PUBLISH
X-WR-CALNAME:Lina Gálvez
X-ORIGINAL-URL:https://linagalvez.eu
X-WR-CALDESC:Eventos para Lina Gálvez
REFRESH-INTERVAL;VALUE=DURATION:PT1H
X-Robots-Tag:noindex
X-PUBLISHED-TTL:PT1H
BEGIN:VTIMEZONE
TZID:Europe/Madrid
BEGIN:DAYLIGHT
TZOFFSETFROM:+0100
TZOFFSETTO:+0200
TZNAME:CEST
DTSTART:20210328T010000
END:DAYLIGHT
BEGIN:STANDARD
TZOFFSETFROM:+0200
TZOFFSETTO:+0100
TZNAME:CET
DTSTART:20211031T010000
END:STANDARD
BEGIN:DAYLIGHT
TZOFFSETFROM:+0100
TZOFFSETTO:+0200
TZNAME:CEST
DTSTART:20220327T010000
END:DAYLIGHT
BEGIN:STANDARD
TZOFFSETFROM:+0200
TZOFFSETTO:+0100
TZNAME:CET
DTSTART:20221030T010000
END:STANDARD
BEGIN:DAYLIGHT
TZOFFSETFROM:+0100
TZOFFSETTO:+0200
TZNAME:CEST
DTSTART:20230326T010000
END:DAYLIGHT
BEGIN:STANDARD
TZOFFSETFROM:+0200
TZOFFSETTO:+0100
TZNAME:CET
DTSTART:20231029T010000
END:STANDARD
END:VTIMEZONE
BEGIN:VEVENT
DTSTART;TZID=Europe/Madrid:20220227T080000
DTEND;TZID=Europe/Madrid:20220301T170000
DTSTAMP:20260424T020418
CREATED:20220224T154008Z
LAST-MODIFIED:20220227T222554Z
UID:5264-1645948800-1646154000@linagalvez.eu
SUMMARY:Mobile World Congress #MWC22. Economía digital en #Europa. Barcelona
DESCRIPTION:
URL:https://linagalvez.eu/agenda/mobile-world-congress-mwc22-economia-digital-en-europa-barcelona/
CATEGORIES:Destacado,ITRE,Parlamento,STOA
ATTACH;FMTTYPE=image/jpeg:https://linagalvez.eu/wp-content/uploads/2022/02/MWG2022jpg.jpg
END:VEVENT
BEGIN:VEVENT
DTSTART;VALUE=DATE:20220301
DTEND;VALUE=DATE:20220302
DTSTAMP:20260424T020418
CREATED:20210211T164450Z
LAST-MODIFIED:20220302T080242Z
UID:5312-1646092800-1646179199@linagalvez.eu
SUMMARY:Pleno Extraordinario del Parlamento Europeo. Ucrania
DESCRIPTION:Pleno extraordinario en Bruselas: agresión de Rusia contra Ucrania\n\n\n\nLos eurodiputados y eurodiputadas debatirán con los presidentes Michel y Von der Leyen y el jefe de la diplomacia comunitaria Josep Borrell la invasión rusa de Ucrania y votarán una resolución. \n\n\n\n\n\n\nEl debate tendrá lugar de las 12.30 a las 14.30. El resultado final de la votación se anunciará a las 16.45. Puede consultar la agenda de la sesión y los proyectos de resolución presentados por los grupos políticos. \nLa Conferencia de Presidentes del Parlamento (formada por la presidenta Roberta Metsola y los líderes de los grupos políticos) decidió el jueves 24 de febrero celebrar una sesión plenaria extraordinaria en Bruselas para evaluar la situación en Ucrania. En una declaración\, la cúpula del PE condenó el ataque a Ucrania en los términos más duros y consideró la invasión injustificada e ilegal. \nSiga la sesión en directo vía EP live y EBS+.
URL:https://linagalvez.eu/agenda/pleno-del-parlamento-europeo-2-2-2-2-2-2-2-6-2-2/
CATEGORIES:Actualidad,Destacado,Parlamento
ATTACH;FMTTYPE=image/jpeg:https://linagalvez.eu/wp-content/uploads/2021/02/Ucrania-UE.jpg
END:VEVENT
BEGIN:VEVENT
DTSTART;TZID=Europe/Madrid:20220301T090000
DTEND;TZID=Europe/Madrid:20220301T120000
DTSTAMP:20260424T020418
CREATED:20220224T154008Z
LAST-MODIFIED:20220227T231333Z
UID:5292-1646125200-1646136000@linagalvez.eu
SUMMARY:Mobile World Congress #MWC22. Economía digital en #Europa. Barcelona
DESCRIPTION:10:00 – 11:00 MWC. Lina gálvez participa en el evento Programa ministerial: Estado de la industria: ¿qué viene para el sector móvil? \n11:00 – 11:45 MWC. Reunión con Vodafone. \n12:15 – 13:00 MWC. Reunión STOA – Huawei.
URL:https://linagalvez.eu/agenda/mobile-world-congress-mwc22-economia-digital-en-europa-barcelona-2/
CATEGORIES:ITRE,Parlamento,STOA
ATTACH;FMTTYPE=image/jpeg:https://linagalvez.eu/wp-content/uploads/2022/02/01.jpg
END:VEVENT
BEGIN:VEVENT
DTSTART;TZID=Europe/Madrid:20220301T100000
DTEND;TZID=Europe/Madrid:20220301T120000
DTSTAMP:20260424T020418
CREATED:20210208T092530Z
LAST-MODIFIED:20220227T231545Z
UID:5295-1646128800-1646136000@linagalvez.eu
SUMMARY:S&D Group Meeting. Ucrania
DESCRIPTION:Reunión del Grupo S&D preparatoria de la sesión plenaria.
URL:https://linagalvez.eu/agenda/sd-group-meeting-23-3-2-2-4-2-3-3-5-2-2-2-2-2-2-8-2-2/
CATEGORIES:Actualidad,Parlamento,S&D
ATTACH;FMTTYPE=image/png:https://linagalvez.eu/wp-content/uploads/2020/01/1-S&D.svg.png
END:VEVENT
BEGIN:VEVENT
DTSTART;TZID=Europe/Madrid:20220301T160000
DTEND;TZID=Europe/Madrid:20220301T170000
DTSTAMP:20260424T020418
CREATED:20210301T094153Z
LAST-MODIFIED:20220227T232058Z
UID:5219-1646150400-1646154000@linagalvez.eu
SUMMARY:S&D Grupo de Trabajo de Europa Digital
DESCRIPTION:Reunión del grupo de trabajo digital del Grupo de Socialistas y Demócratas Se debatirán expedientes legislativos en el ámbito digital\, prioridad para el Grupo S&D. Se debatirá la autonomía estratégica europea\, y la dimensión digital. También se hablará de la Conferencia sobre el futuro de Europa: Grupo de trabajo sobre la transformación digital.
URL:https://linagalvez.eu/agenda/grupo-de-trabajo-de-europa-digital-3-2-3-2/
CATEGORIES:ITRE,Parlamento,S&D,STOA
ATTACH;FMTTYPE=image/png:https://linagalvez.eu/wp-content/uploads/2020/05/digital-europe.png
END:VEVENT
BEGIN:VEVENT
DTSTART;TZID=Europe/Madrid:20220301T161500
DTEND;TZID=Europe/Madrid:20220301T170000
DTSTAMP:20260424T020418
CREATED:20210208T092530Z
LAST-MODIFIED:20220301T090212Z
UID:5297-1646151300-1646154000@linagalvez.eu
SUMMARY:S&D Group Meeting Coordinadores. Ucrania
DESCRIPTION:Reunión del Grupo S&D preparatoria de la sesión plenaria.\nReunión de coordinadores del S&D donde habrá intercambio de opiniones con el vicepresidente del grupo\, Pedro Marques.
URL:https://linagalvez.eu/agenda/sd-group-meeting-23-3-2-2-4-2-3-3-5-2-2-2-2-2-2-8-2-2-2/
CATEGORIES:Actualidad,Parlamento,S&D
ATTACH;FMTTYPE=image/png:https://linagalvez.eu/wp-content/uploads/2020/01/1-S&D.svg.png
END:VEVENT
END:VCALENDAR