BEGIN:VCALENDAR
VERSION:2.0
PRODID:-//Lina Gálvez - ECPv6.15.20//NONSGML v1.0//EN
CALSCALE:GREGORIAN
METHOD:PUBLISH
X-WR-CALNAME:Lina Gálvez
X-ORIGINAL-URL:https://linagalvez.eu
X-WR-CALDESC:Eventos para Lina Gálvez
REFRESH-INTERVAL;VALUE=DURATION:PT1H
X-Robots-Tag:noindex
X-PUBLISHED-TTL:PT1H
BEGIN:VTIMEZONE
TZID:Europe/Madrid
BEGIN:DAYLIGHT
TZOFFSETFROM:+0100
TZOFFSETTO:+0200
TZNAME:CEST
DTSTART:20210328T010000
END:DAYLIGHT
BEGIN:STANDARD
TZOFFSETFROM:+0200
TZOFFSETTO:+0100
TZNAME:CET
DTSTART:20211031T010000
END:STANDARD
BEGIN:DAYLIGHT
TZOFFSETFROM:+0100
TZOFFSETTO:+0200
TZNAME:CEST
DTSTART:20220327T010000
END:DAYLIGHT
BEGIN:STANDARD
TZOFFSETFROM:+0200
TZOFFSETTO:+0100
TZNAME:CET
DTSTART:20221030T010000
END:STANDARD
BEGIN:DAYLIGHT
TZOFFSETFROM:+0100
TZOFFSETTO:+0200
TZNAME:CEST
DTSTART:20230326T010000
END:DAYLIGHT
BEGIN:STANDARD
TZOFFSETFROM:+0200
TZOFFSETTO:+0100
TZNAME:CET
DTSTART:20231029T010000
END:STANDARD
END:VTIMEZONE
BEGIN:VEVENT
DTSTART;TZID=Europe/Madrid:20220307T113000
DTEND;TZID=Europe/Madrid:20220307T150000
DTSTAMP:20260424T064530
CREATED:20220307T080546Z
LAST-MODIFIED:20231115T150248Z
UID:5345-1646652600-1646665200@linagalvez.eu
SUMMARY:Supercomputing Center - Centro Nacional de Supercomputación (BSC-CNS). Barcelona
DESCRIPTION:La eurodiputada lina Gálvez mantendrá una reunión de trabajo en el Supercomputing Barcelona Center de Barcelona\, asistirán el Director del  Centro Nacional de Supercomputación (BSC-CNS) Mateo Valero y el director asociado\, Dr. Josep M. Martorell. Con posterioridad tendrá lugar una visita a las instalaciones del superordenador MareNostrum y  un encuentro con almuerzo Teresa Riera\, catedrática en Ciencias de la Computación e Inteligencia Artificial en la Universidad de las Islas Baleares.
URL:https://linagalvez.eu/agenda/supercomputing-center-centro-nacional-de-supercomputacion-bsc-cns-barcelona/
CATEGORIES:Actualidad,Destacado,I+D+i,ITRE,Parlamento,STOA
ATTACH;FMTTYPE=image/jpeg:https://linagalvez.eu/wp-content/uploads/2022/03/Supercomputing-Center.jpg
END:VEVENT
BEGIN:VEVENT
DTSTART;TZID=Europe/Madrid:20220307T150000
DTEND;TZID=Europe/Madrid:20220307T160000
DTSTAMP:20260424T064530
CREATED:20210412T083611Z
LAST-MODIFIED:20220307T081114Z
UID:5349-1646665200-1646668800@linagalvez.eu
SUMMARY:S&D Grupo de trabajo de Empleo y Asuntos Sociales
DESCRIPTION:Grupo de trabajo interno del  S&D EMPL para coordinar las iniciativas legislativas relacionadas con la sesión plenaria. \nEntre los temas a tratar para sesión plenaria: nuevo marco estratégico de la UE sobre salud y seguridad en el trabajo después de 2020;  el semestre europeo para la coordinación de las políticas económicas: el empleo y los aspectos sociales en la estrategia anual de crecimiento sostenible 2022\, y Ucrania
URL:https://linagalvez.eu/agenda/sd-grupo-de-trabajo-de-empleo-y-asuntos-sociales-4-2-2-2-2-2-2-2-2-2-2-2-3-3-2/
CATEGORIES:Actualidad,Destacado,EMPL,Parlamento,S&D
ATTACH;FMTTYPE=image/jpeg:https://linagalvez.eu/wp-content/uploads/2020/11/SD-WG-ITRE.jpg
END:VEVENT
BEGIN:VEVENT
DTSTART;TZID=Europe/Madrid:20220307T160000
DTEND;TZID=Europe/Madrid:20220307T170000
DTSTAMP:20260424T064530
CREATED:20211108T110030Z
LAST-MODIFIED:20220307T114023Z
UID:5354-1646668800-1646672400@linagalvez.eu
SUMMARY:S&D Group Meeting
DESCRIPTION:Reunión del Grupo S&D preparatoria de la sesión plenaria.
URL:https://linagalvez.eu/agenda/sd-group-meeting-23-3-2-2-4-2-3-3-5-2-2-2-2-2-2-2-3-5-2/
CATEGORIES:Actualidad,Parlamento,S&D
ATTACH;FMTTYPE=image/png:https://linagalvez.eu/wp-content/uploads/2020/01/1-S&D.svg.png
END:VEVENT
BEGIN:VEVENT
DTSTART;TZID=Europe/Madrid:20220307T173000
DTEND;TZID=Europe/Madrid:20220310T170000
DTSTAMP:20260424T064530
CREATED:20210211T164450Z
LAST-MODIFIED:20220307T072948Z
UID:5217-1646674200-1646931600@linagalvez.eu
SUMMARY:Pleno del Parlamento Europeo en Estrasburgo
DESCRIPTION:Destacados del pleno. Estrasburgo\, 1o-13 de marzo 2022 \n\n\n\n\n\n\nGuerra en Ucrania: examen de la situación y respuesta a la crisis de refugiados \n\n\n\n\nL@s eurodiputado@ debatirán la evolución de la invasión rusa de Ucrania y discutirán cómo manejar el creciente número de ucranianos que escapan de la guerra. \n\n\n\n\n\n\n\n\nSanciones y educación\, claves en la lucha contra la injerencia extranjera \n\n\n\n\nL@s eurodiputad@s creen que la ausencia de medidas en la UE y\, más en particular\, de sanciones y concienciación\, facilita a los actores extranjeros interferir en la democracia europea. \n\n\n\n\n\n\n\n\nCelebración del Día Internacional de la Mujer \n\n\n\n\nLa escritora ucraniana Oksana Zabuzhko intervendrá ante el pleno del PE el martes. Después\, l@s eurodiputados mantendrán debates sobre política de género. \n\n\n\n\n\n\n\n\nCondicionalidad del presupuesto: consecuencias de la sentencia del Tribunal UE \n\n\n\n\nEl pleno votará una resolución sobre la sentencia del Tribunal de la UE que confirma la validez del reglamento que condiciona los fondos europeos al respeto del Estado de derecho. \n\n\n\n\n\n\n\n\nProhibición de los pasaportes dorados y reglas comunes para los visados dorados \n\n\n\n\nEl PE quiere acabar con los programas vigentes en varios países de la UE que ofrecen derechos de ciudadanía a cambio de una inversión y regular mejor los “visados dorados”. \n\n\n\n\n\n\n\n\nUna recuperación económica inclusiva y centrada en la modernización \n\n\n\n\nEl Parlamento quiere situar la equidad y la modernización en el centro de la transición ecológica y la recuperación económica de la UE. \n\n\n\n\n\n\n\n\nEl pleno fijará posición sobre las nuevas normas de la UE para pilas y baterías \n\n\n\n\nLa Cámara debatirá y votará sobre las nuevas reglas europeas sobre diseño\, producción y eliminación de las baterías\, antes de abrir negociaciones con los gobiernos nacionales. \n\n\n\n\n\n\n\n\nEstablecimiento de dos nuevas comisiones especiales y una de investigación \n\n\n\n\nEl pleno votará si poner en marcha dos comisiones especiales sobre interferencia extranjera y la pandemia de COVID-19\, y una tercera de investigación sobre el programa de espionaje Pegasus. \n\n\n\n\n\n\n\n\nAyudas europeas para trabajadores afectados por el cierre de Nissan en Barcelona \n\n\n\n\nL@s eurodiputad@s deben dar luz verde a una ayuda de 2\,8 millones de euros para ayudar a 450 trabajadores despedidos tras el cierre de la planta de Nissan a encontrar un nuevo empleo. \n\n\n\n\n\n\n\n\nMéxico: la situación de los periodistas y los activistas de derechos humanos \n\n\n\n\nLos riesgos a los que se enfrentan los periodistas y los activistas de derechos humanos en México centrará un debate en el pleno el jueves. Los eurodiputados votarán después una resolución.
URL:https://linagalvez.eu/agenda/pleno-del-parlamento-europeo-2-2-2-2-2-2-2-6-3/
CATEGORIES:Actualidad,Destacado,Parlamento
ATTACH;FMTTYPE=image/jpeg:https://linagalvez.eu/wp-content/uploads/2020/03/European_Parliament_Strasbourg_Hemicycle_-_Diliff-2-scaled.jpg
END:VEVENT
END:VCALENDAR