BEGIN:VCALENDAR
VERSION:2.0
PRODID:-//Lina Gálvez - ECPv6.15.20//NONSGML v1.0//EN
CALSCALE:GREGORIAN
METHOD:PUBLISH
X-ORIGINAL-URL:https://linagalvez.eu
X-WR-CALDESC:Eventos para Lina Gálvez
REFRESH-INTERVAL;VALUE=DURATION:PT1H
X-Robots-Tag:noindex
X-PUBLISHED-TTL:PT1H
BEGIN:VTIMEZONE
TZID:Europe/Madrid
BEGIN:DAYLIGHT
TZOFFSETFROM:+0100
TZOFFSETTO:+0200
TZNAME:CEST
DTSTART:20210328T010000
END:DAYLIGHT
BEGIN:STANDARD
TZOFFSETFROM:+0200
TZOFFSETTO:+0100
TZNAME:CET
DTSTART:20211031T010000
END:STANDARD
BEGIN:DAYLIGHT
TZOFFSETFROM:+0100
TZOFFSETTO:+0200
TZNAME:CEST
DTSTART:20220327T010000
END:DAYLIGHT
BEGIN:STANDARD
TZOFFSETFROM:+0200
TZOFFSETTO:+0100
TZNAME:CET
DTSTART:20221030T010000
END:STANDARD
BEGIN:DAYLIGHT
TZOFFSETFROM:+0100
TZOFFSETTO:+0200
TZNAME:CEST
DTSTART:20230326T010000
END:DAYLIGHT
BEGIN:STANDARD
TZOFFSETFROM:+0200
TZOFFSETTO:+0100
TZNAME:CET
DTSTART:20231029T010000
END:STANDARD
END:VTIMEZONE
BEGIN:VEVENT
DTSTART;TZID=Europe/Madrid:20220307T173000
DTEND;TZID=Europe/Madrid:20220310T170000
DTSTAMP:20260424T051253
CREATED:20210211T164450Z
LAST-MODIFIED:20220307T072948Z
UID:5217-1646674200-1646931600@linagalvez.eu
SUMMARY:Pleno del Parlamento Europeo en Estrasburgo
DESCRIPTION:Destacados del pleno. Estrasburgo\, 1o-13 de marzo 2022 \n\n\n\n\n\n\nGuerra en Ucrania: examen de la situación y respuesta a la crisis de refugiados \n\n\n\n\nL@s eurodiputado@ debatirán la evolución de la invasión rusa de Ucrania y discutirán cómo manejar el creciente número de ucranianos que escapan de la guerra. \n\n\n\n\n\n\n\n\nSanciones y educación\, claves en la lucha contra la injerencia extranjera \n\n\n\n\nL@s eurodiputad@s creen que la ausencia de medidas en la UE y\, más en particular\, de sanciones y concienciación\, facilita a los actores extranjeros interferir en la democracia europea. \n\n\n\n\n\n\n\n\nCelebración del Día Internacional de la Mujer \n\n\n\n\nLa escritora ucraniana Oksana Zabuzhko intervendrá ante el pleno del PE el martes. Después\, l@s eurodiputados mantendrán debates sobre política de género. \n\n\n\n\n\n\n\n\nCondicionalidad del presupuesto: consecuencias de la sentencia del Tribunal UE \n\n\n\n\nEl pleno votará una resolución sobre la sentencia del Tribunal de la UE que confirma la validez del reglamento que condiciona los fondos europeos al respeto del Estado de derecho. \n\n\n\n\n\n\n\n\nProhibición de los pasaportes dorados y reglas comunes para los visados dorados \n\n\n\n\nEl PE quiere acabar con los programas vigentes en varios países de la UE que ofrecen derechos de ciudadanía a cambio de una inversión y regular mejor los “visados dorados”. \n\n\n\n\n\n\n\n\nUna recuperación económica inclusiva y centrada en la modernización \n\n\n\n\nEl Parlamento quiere situar la equidad y la modernización en el centro de la transición ecológica y la recuperación económica de la UE. \n\n\n\n\n\n\n\n\nEl pleno fijará posición sobre las nuevas normas de la UE para pilas y baterías \n\n\n\n\nLa Cámara debatirá y votará sobre las nuevas reglas europeas sobre diseño\, producción y eliminación de las baterías\, antes de abrir negociaciones con los gobiernos nacionales. \n\n\n\n\n\n\n\n\nEstablecimiento de dos nuevas comisiones especiales y una de investigación \n\n\n\n\nEl pleno votará si poner en marcha dos comisiones especiales sobre interferencia extranjera y la pandemia de COVID-19\, y una tercera de investigación sobre el programa de espionaje Pegasus. \n\n\n\n\n\n\n\n\nAyudas europeas para trabajadores afectados por el cierre de Nissan en Barcelona \n\n\n\n\nL@s eurodiputad@s deben dar luz verde a una ayuda de 2\,8 millones de euros para ayudar a 450 trabajadores despedidos tras el cierre de la planta de Nissan a encontrar un nuevo empleo. \n\n\n\n\n\n\n\n\nMéxico: la situación de los periodistas y los activistas de derechos humanos \n\n\n\n\nLos riesgos a los que se enfrentan los periodistas y los activistas de derechos humanos en México centrará un debate en el pleno el jueves. Los eurodiputados votarán después una resolución.
URL:https://linagalvez.eu/agenda/pleno-del-parlamento-europeo-2-2-2-2-2-2-2-6-3/
CATEGORIES:Actualidad,Destacado,Parlamento
ATTACH;FMTTYPE=image/jpeg:https://linagalvez.eu/wp-content/uploads/2020/03/European_Parliament_Strasbourg_Hemicycle_-_Diliff-2-scaled.jpg
END:VEVENT
BEGIN:VEVENT
DTSTART;TZID=Europe/Madrid:20220308T090000
DTEND;TZID=Europe/Madrid:20220308T094500
DTSTAMP:20260424T051253
CREATED:20210412T084247Z
LAST-MODIFIED:20220307T114704Z
UID:5198-1646730000-1646732700@linagalvez.eu
SUMMARY:S&D FEMM Working Group
DESCRIPTION:Sesión interna de trabajo en el seno del S&D para coordinar y revisar las iniciativas que se tratarán en el Pleno y la Comisión FEMM. Punto destacado:la Propuesta de Directiva del Parlamento Europeo y del Consejo para reforzar la aplicación del principio de igualdad de retribución por un mismo trabajo o por un trabajo de igual valor entre hombres y mujeres mediante la transparencia salarial y mecanismos de ejecución.
URL:https://linagalvez.eu/agenda/sd-femm-working-group-5-2-3-2-3-2-2-2-4-2-2-2-3/
CATEGORIES:Destacado,FEMM,Parlamento,S&D
END:VEVENT
BEGIN:VEVENT
DTSTART;TZID=Europe/Madrid:20220308T090000
DTEND;TZID=Europe/Madrid:20220308T100000
DTSTAMP:20260424T051253
CREATED:20210927T094856Z
LAST-MODIFIED:20220307T114408Z
UID:5356-1646730000-1646733600@linagalvez.eu
SUMMARY:REPER paquete Fit for 55.
DESCRIPTION:Reunión en Estrasburgo con el Embajador Representante Permanente Adjunto\, Raúl Fuentes\, en relación al paquete FitFor55 con el objetivo de tener contacto entre diferentes eurodiputadas y eurodiputados españoles.
URL:https://linagalvez.eu/agenda/grupo-de-trabajo-horizontal-fit-for-55-2/
CATEGORIES:ITRE,Parlamento
ATTACH;FMTTYPE=image/jpeg:https://linagalvez.eu/wp-content/uploads/2021/11/fit-for-55.jpg
END:VEVENT
BEGIN:VEVENT
DTSTART;TZID=Europe/Madrid:20220308T100000
DTEND;TZID=Europe/Madrid:20220308T110000
DTSTAMP:20260424T051253
CREATED:20210412T080804Z
LAST-MODIFIED:20220307T115230Z
UID:5353-1646733600-1646737200@linagalvez.eu
SUMMARY:S&D ITRE Working Group meeting
DESCRIPTION:Grupo de trabajo interno del Grupo S&D ITRE en el que se tratarán los temas que se debatirán en el plenario.
URL:https://linagalvez.eu/agenda/sd-itre-working-group-meeting-2-4-2-3-4-2-2/
CATEGORIES:Actualidad,ITRE,S&D,STOA
ATTACH;FMTTYPE=image/png:https://linagalvez.eu/wp-content/uploads/2020/01/1-S&D.svg.png
END:VEVENT
BEGIN:VEVENT
DTSTART;TZID=Europe/Madrid:20220308T110000
DTEND;TZID=Europe/Madrid:20220308T110000
DTSTAMP:20260424T051253
CREATED:20220307T125920Z
LAST-MODIFIED:20220307T125920Z
UID:5371-1646737200-1646737200@linagalvez.eu
SUMMARY:How to celebrate extraordinary women: #EUwomen4future campaign seminar
DESCRIPTION:En el Día Internacional de la Mujer\, la comisaria Mariya Gabriel y la presidenta Roberta Metsola serán coanfitrionas del evento que se celebrará\, en Estrasburgo y online\, y que contará con cuatro mujeres referentes\, y que han sido las ganadoras del Premio de la UE para Mujeres Innovadoras 2022. también han participado en la campaña  #EUWomen4future que se desarrolló  hasta marzo de 2021\, y puso de relieve los logros profesionales de las mujeres en la cultura\, la educación\, el deporte y la ciencia. \nEste acto\, en conmemoración el 8M\, será una conversación entre  6 mujeres\, y una oportunidad para escuchar\, compartir y aprender sobre la vida durante la pandemia\, los logros profesionales\, el trabajo de la UE en igualdad de género y la esperanza de las niñas y mujeres jóvenes de hoy. \nEl evento será transmitido online. No es necesario registrarse. \nhttps://ec.europa.eu/info/events/how-celebrate-extraordinary-women-euwomen4future-campaign-seminar-2022-mar-08_en \nParticipantes\n\nPresidenta del Parlamento Europeo Roberta Metsola\nComisionada de Innovación\, Investigación\, Cultura\, Educación y Juventud Mariya Gabriel\nMichaela Brchnelova \, estudiante de doctorado en el Centro de Plasma-Astrofísica Matemática en Lovaina\, Bélgica\nEdilia Gänz \, Directora de FEDORA – El Círculo Europeo de Filántropos de Ópera y Ballet.\nMaria Fátima Lucas\,  cofundadora y directora ejecutiva de Zymvol Biomodeling\, una empresa que desarrolla enzimas industriales diseñadas por computadora mediante la aplicación de modelos moleculares (Mujeres innovadoras 2020)\nAna Proykova \, Dra. habil en Física y Matemáticas\, PhD en Física Nuclear\, profesora investigadora en la Facultad de Matemáticas e Informática (FMI) de la Universidad de Sofía. Director de Investigación del Centro de Excelencia en TIC – UNITE y Jefe del Laboratorio de Computación de Alto Rendimiento (HPC)\, en Sofia Tech Park.
URL:https://linagalvez.eu/agenda/how-to-celebrate-extraordinary-women-euwomen4future-campaign-seminar/
ATTACH;FMTTYPE=image/jpeg:https://linagalvez.eu/wp-content/uploads/2022/03/FNO_NWeXEAUrNoY.jpg
END:VEVENT
BEGIN:VEVENT
DTSTART;TZID=Europe/Madrid:20220308T173000
DTEND;TZID=Europe/Madrid:20220308T203000
DTSTAMP:20260424T051253
CREATED:20210412T084247Z
LAST-MODIFIED:20220307T123012Z
UID:5367-1646760600-1646771400@linagalvez.eu
SUMMARY:S&D Working Group 8M
DESCRIPTION:Sesión interna de trabajo en el seno del S&D para coordinar y revisar las iniciativas que se tratarán en el Pleno y la Comisión FEMM. Intercambio de opiniones con la Comisaria Helena Dalli sobre el aniversario del Día de la Mujer y con la Comisaria Ylva Johansson sobre la situación de los refugiados de Ucrania.
URL:https://linagalvez.eu/agenda/sd-femm-working-group-5-2-3-2-3-2-2-2-4-2-2-2-3-2/
CATEGORIES:Destacado,FEMM,Parlamento,S&D
END:VEVENT
BEGIN:VEVENT
DTSTART;TZID=Europe/Madrid:20220308T190000
DTEND;TZID=Europe/Madrid:20220308T203000
DTSTAMP:20260424T051253
CREATED:20210305T131016Z
LAST-MODIFIED:20220310T141313Z
UID:5374-1646766000-1646771400@linagalvez.eu
SUMMARY:Plenario Debate International Women's Day Celebration
DESCRIPTION:La Eurodiputada Lina Gálvez participará en el debate en pleno coincidiendo con la conmemoración del Día Internacional de la Mujer. Se debatirán dos expedientes importantes sobre la aplicación de igualdad de género en la Unión Europea:\n📍Informe anual Integración perspectiva de género en el @Europarl_ES\n📍III Plan de Acción de Género de la UE\n#8Marzo2022
URL:https://linagalvez.eu/agenda/plenario-debate-international-womens-day-celebration-2/
CATEGORIES:Actualidad,Destacado,FEMM,Parlamento,S&D
ATTACH;FMTTYPE=image/png:https://linagalvez.eu/wp-content/uploads/2022/03/2022-03-09.png
END:VEVENT
END:VCALENDAR