BEGIN:VCALENDAR
VERSION:2.0
PRODID:-//Lina Gálvez - ECPv6.15.20//NONSGML v1.0//EN
CALSCALE:GREGORIAN
METHOD:PUBLISH
X-WR-CALNAME:Lina Gálvez
X-ORIGINAL-URL:https://linagalvez.eu
X-WR-CALDESC:Eventos para Lina Gálvez
REFRESH-INTERVAL;VALUE=DURATION:PT1H
X-Robots-Tag:noindex
X-PUBLISHED-TTL:PT1H
BEGIN:VTIMEZONE
TZID:Europe/Madrid
BEGIN:DAYLIGHT
TZOFFSETFROM:+0100
TZOFFSETTO:+0200
TZNAME:CEST
DTSTART:20210328T010000
END:DAYLIGHT
BEGIN:STANDARD
TZOFFSETFROM:+0200
TZOFFSETTO:+0100
TZNAME:CET
DTSTART:20211031T010000
END:STANDARD
BEGIN:DAYLIGHT
TZOFFSETFROM:+0100
TZOFFSETTO:+0200
TZNAME:CEST
DTSTART:20220327T010000
END:DAYLIGHT
BEGIN:STANDARD
TZOFFSETFROM:+0200
TZOFFSETTO:+0100
TZNAME:CET
DTSTART:20221030T010000
END:STANDARD
BEGIN:DAYLIGHT
TZOFFSETFROM:+0100
TZOFFSETTO:+0200
TZNAME:CEST
DTSTART:20230326T010000
END:DAYLIGHT
BEGIN:STANDARD
TZOFFSETFROM:+0200
TZOFFSETTO:+0100
TZNAME:CET
DTSTART:20231029T010000
END:STANDARD
END:VTIMEZONE
BEGIN:VEVENT
DTSTART;TZID=Europe/Madrid:20220323T090000
DTEND;TZID=Europe/Madrid:20220324T190000
DTSTAMP:20260424T064526
CREATED:20210211T164450Z
LAST-MODIFIED:20220321T094113Z
UID:5443-1648026000-1648148400@linagalvez.eu
SUMMARY:Pleno del Parlamento Europeo en Bruselas
DESCRIPTION:Destacados del pleno. Bruselas\, 23-24 de marzo 2022  \nSesión plenaria de dos días donde se abordaran entre otros asuntos; La Cumbre del Consejo de la UE\, el suministro de energía de la UE a precios asequibles y la seguridad alimentaria en el contexto internacional actual. \nTambién en la agenda: protección de los fondos de la UE contra los oligarcas\, Swiss Secrets\, una nueva década de roaming asequible en la UE\, la política de cohesión de la UE y\,  la escalada de la agresión rusa en Ucrania.
URL:https://linagalvez.eu/agenda/pleno-del-parlamento-europeo-2-2-2-2-2-2-2-4-3-2-2-2/
CATEGORIES:Actualidad,Destacado,Parlamento
ATTACH;FMTTYPE=image/jpeg:https://linagalvez.eu/wp-content/uploads/2021/02/Pleno-en-Bruselas.jpg
END:VEVENT
BEGIN:VEVENT
DTSTART;TZID=Europe/Madrid:20220324T133000
DTEND;TZID=Europe/Madrid:20220324T153000
DTSTAMP:20260424T064526
CREATED:20210312T175910Z
LAST-MODIFIED:20220324T083619Z
UID:5473-1648128600-1648135800@linagalvez.eu
SUMMARY:Reunión conjunta de la Comisión de Derechos de la Mujer e Igualdad de Género (FEMM) y la Comisión de Empleo y Asuntos Sociales (EMPL)
DESCRIPTION:El 24 de marzo de 2022\, entre las 13.45 y las 16.15\, la Comisión EMPL junto con la Comisión de Derechos de la Mujer e Igualdad de Género celebrarán una audiencia pública conjunta sobre Una estrategia europea de cuidados – Cómo mejorar la vida de los cuidadores y sus dependientes – Audiencia pública. La audiencia analiza diferentes modelos de atención en Europa que continúan desarrollándose y cambiando\, adaptándose a las realidades y desafíos de la vida moderna. \n\nLa pandemia de COVID-19 ha puesto de manifiesto que este sector carece de fondos y de personal. Se requiere ahora un debate permanente\, priorizando la conciliación de la vida familiar y laboral para garantizar una buena calidad de vida familiar\, la consideración de las mujeres como cuidadoras y la garantía de la mejor calidad de atención posible para todas aquellas personas que lo requieran. También se discutirá la pregunta sobre las soluciones para garantizar la desinstitucionalización de las personas con discapacidad y los enfoques para garantizar una inclusión más fluida de las personas con discapacidad en el mercado laboral abierto y en la sociedad.
URL:https://linagalvez.eu/agenda/comision-de-empleo-y-asuntos-sociales-2-2-2-2-3-2/
CATEGORIES:Actualidad,Destacado,EMPL,Parlamento
ATTACH;FMTTYPE=image/jpeg:https://linagalvez.eu/wp-content/uploads/2021/03/Sesion-Comite-FEMM.jpg
END:VEVENT
END:VCALENDAR