BEGIN:VCALENDAR
VERSION:2.0
PRODID:-//Lina Gálvez - ECPv6.15.20//NONSGML v1.0//EN
CALSCALE:GREGORIAN
METHOD:PUBLISH
X-ORIGINAL-URL:https://linagalvez.eu
X-WR-CALDESC:Eventos para Lina Gálvez
REFRESH-INTERVAL;VALUE=DURATION:PT1H
X-Robots-Tag:noindex
X-PUBLISHED-TTL:PT1H
BEGIN:VTIMEZONE
TZID:Europe/Madrid
BEGIN:DAYLIGHT
TZOFFSETFROM:+0100
TZOFFSETTO:+0200
TZNAME:CEST
DTSTART:20210328T010000
END:DAYLIGHT
BEGIN:STANDARD
TZOFFSETFROM:+0200
TZOFFSETTO:+0100
TZNAME:CET
DTSTART:20211031T010000
END:STANDARD
BEGIN:DAYLIGHT
TZOFFSETFROM:+0100
TZOFFSETTO:+0200
TZNAME:CEST
DTSTART:20220327T010000
END:DAYLIGHT
BEGIN:STANDARD
TZOFFSETFROM:+0200
TZOFFSETTO:+0100
TZNAME:CET
DTSTART:20221030T010000
END:STANDARD
BEGIN:DAYLIGHT
TZOFFSETFROM:+0100
TZOFFSETTO:+0200
TZNAME:CEST
DTSTART:20230326T010000
END:DAYLIGHT
BEGIN:STANDARD
TZOFFSETFROM:+0200
TZOFFSETTO:+0100
TZNAME:CET
DTSTART:20231029T010000
END:STANDARD
END:VTIMEZONE
BEGIN:VEVENT
DTSTART;TZID=Europe/Madrid:20220404T160000
DTEND;TZID=Europe/Madrid:20220404T170000
DTSTAMP:20260424T095159
CREATED:20211108T110030Z
LAST-MODIFIED:20220404T070238Z
UID:5556-1649088000-1649091600@linagalvez.eu
SUMMARY:S&D Group Meeting
DESCRIPTION:Reunión en formato híbrido del Grupo S&D preparatoria para la semana parlamentaria europea. \n\nPreparación de la votación de las orientaciones para el presupuesto de 2023\nGuerra en Ucrania
URL:https://linagalvez.eu/agenda/sd-group-meeting-23-3-2-2-4-2-3-3-5-2-2-2-2-2-2-2-3-3-2-3-2-2/
CATEGORIES:Actualidad,Destacado,Parlamento,S&D
ATTACH;FMTTYPE=image/png:https://linagalvez.eu/wp-content/uploads/2020/01/1-S&D.svg.png
END:VEVENT
BEGIN:VEVENT
DTSTART;TZID=Europe/Madrid:20220404T173000
DTEND;TZID=Europe/Madrid:20220407T170000
DTSTAMP:20260424T095159
CREATED:20210211T164450Z
LAST-MODIFIED:20220404T064953Z
UID:5549-1649093400-1649350800@linagalvez.eu
SUMMARY:Pleno del Parlamento Europeo en Estrasburgo
DESCRIPTION:Destacados del pleno. Estrasburgo\, 4-7 de abril 2022 \nGuerra en Ucrania \nA raíz de la invasión rusa de Ucrania\, más de cuatro millones de ucranianos y ucranianas se vieron desplazadas en su país o buscaron refugio en los países europeos más cercanos. La mitad de ellos son menores y corren más riesgo de ser víctimas de trata y explotación. Los eurodiputados debatirán el martes cómo protegerlas mejor y darles apoyo\, también educativo\, y el jueves votarán una resolución. \nEl miércoles el pleno del Parlamento evaluará el resultado de la cumbre de la UE de los días 24 y 25 de marzo\, que analizó con la Presidencia del Consejo Europeo y la Comisión Europea la invasión rusa de Ucrania y las sanciones impuestas\, así como el impacto en la economía de la UE\, especialmente en los precios de la energía. \nBrecha salarial de género \nEl Parlamento votará el martes su posición sobre las nuevas normas que buscan reducir la brecha salarial de género\, a través de la transparencia de los salarios. El borrador del mandato de negociación del Parlamento pide que todas las compañías de la UE con menos de 50 empleados faciliten a sus empleados la comparación de sus salarios y destapen así cualquier diferencia. \nMujeres en Afganistán \nDebido al deterioro de los derechos de las mujeres en Afganistán\, como la prohibición permanente de que las niñas vayan a la escuela a partir del sexto grado y la prohibición del régimen talibán de que las mujeres vuelen sin un acompañante masculino\, los eurodiputados discutirán el martes la situación con Borrell y el miércoles votarán una resolución. \nEnergía y medioambiente \nEl martes\, l@s eurodiputado@ respaldarán la actualización de las normas de financiación de los proyectos de infraestructuras energéticas transeuropeas. Estos proyectos deben favorecer una mejor interconexión entre los mercados nacionales\, más competencia\, seguridad en el suministro y promover las energías renovables\, en línea con los objetivos del Pacto Verde Europeo. \nDefensa \nEn una sesión de preguntas y respuestas el martes\, los miembros del Parlamento interrogarán al jefe de la política exterior de la UE\, Josep Borrell\, sobre la Brújula Estratégica\, el plan de la UE para defender la seguridad europea y proteger a los ciudadanos y valores de la UE durante la próxima década. El Consejo lo aprobó la semana pasada. \nDerecho a reparar \nA raíz de la nueva propuesta de la Comisión sobre el «derecho a reparar«\, los eurodiputados expondrán sus demandas: el fin de la obsolescencia programada\, productos más duraderos que puedan ser reparados\, un etiquetado más claro y garantías más largas. \nGobernanza de datos \nEl miércoles\, los miembros del PE votarán nuevas normas para ayudar a potenciar el intercambio de datos y aumentar el potencial de la inteligencia artificial. La Ley de Gobernanza de Datos establece normas sobre la neutralidad de los mercados de datos\, facilita la reutilización de determinados datos del sector público -sanitarios\, agrícolas o medioambientales- y crea espacios europeos de datos comunes en áreas estratégicas\, como la movilidad\, las finanzas y la industria. \nPresupuesto de 2023 \nEste martes\, los eurodiputados y eurodiputadas establecerán sus prioridades para el presupuesto de la UE de 2023. Entre ellas están la recuperación\, la salud\, la juventud\, el clima y las consecuencias de la guerra en Ucrania. \nTambién en la agenda: \n\nResultado de la cumbre UE-China\n\n\nAumento de la represión en Rusia\, incluyendo el caso de Alexey Navalny\n\n\nAmpliación de la protección del régimen de comercio de derechos de emisión de la UE frente a alteraciones externas\nValoración del último informe de la ONU sobre el cambio climático\nEstado de derecho en Polonia y Hungría\nPreguntas y respuestas sobre los primeros dos años del mandato de la Comisión Europea con la presidenta Von der Leyen\nSituación de las comunidades gitanas en la UE
URL:https://linagalvez.eu/agenda/pleno-del-parlamento-europeo-2-2-2-2-2-2-2-6-3-2/
CATEGORIES:Actualidad,Destacado,Parlamento
ATTACH;FMTTYPE=image/jpeg:https://linagalvez.eu/wp-content/uploads/2020/03/European_Parliament_Strasbourg_Hemicycle_-_Diliff-2-scaled.jpg
END:VEVENT
END:VCALENDAR