BEGIN:VCALENDAR
VERSION:2.0
PRODID:-//Lina Gálvez - ECPv6.15.20//NONSGML v1.0//EN
CALSCALE:GREGORIAN
METHOD:PUBLISH
X-WR-CALNAME:Lina Gálvez
X-ORIGINAL-URL:https://linagalvez.eu
X-WR-CALDESC:Eventos para Lina Gálvez
REFRESH-INTERVAL;VALUE=DURATION:PT1H
X-Robots-Tag:noindex
X-PUBLISHED-TTL:PT1H
BEGIN:VTIMEZONE
TZID:Europe/Madrid
BEGIN:DAYLIGHT
TZOFFSETFROM:+0100
TZOFFSETTO:+0200
TZNAME:CEST
DTSTART:20210328T010000
END:DAYLIGHT
BEGIN:STANDARD
TZOFFSETFROM:+0200
TZOFFSETTO:+0100
TZNAME:CET
DTSTART:20211031T010000
END:STANDARD
BEGIN:DAYLIGHT
TZOFFSETFROM:+0100
TZOFFSETTO:+0200
TZNAME:CEST
DTSTART:20220327T010000
END:DAYLIGHT
BEGIN:STANDARD
TZOFFSETFROM:+0200
TZOFFSETTO:+0100
TZNAME:CET
DTSTART:20221030T010000
END:STANDARD
BEGIN:DAYLIGHT
TZOFFSETFROM:+0100
TZOFFSETTO:+0200
TZNAME:CEST
DTSTART:20230326T010000
END:DAYLIGHT
BEGIN:STANDARD
TZOFFSETFROM:+0200
TZOFFSETTO:+0100
TZNAME:CET
DTSTART:20231029T010000
END:STANDARD
END:VTIMEZONE
BEGIN:VEVENT
DTSTART;TZID=Europe/Madrid:20220426T120000
DTEND;TZID=Europe/Madrid:20220426T130000
DTSTAMP:20260424T081415
CREATED:20210611T142459Z
LAST-MODIFIED:20220425T085135Z
UID:5651-1650974400-1650978000@linagalvez.eu
SUMMARY:Grupo de trabajo de la Comisión (ITRE). Ucrania
DESCRIPTION:Grupo de trabajo de ITRE sobre Ucrania\nSe discutirá sobre el impacto de la guerra en las cadenas de suministro industrial en la UE y las implicaciones de la guerra rusa en el sistema energético y las políticas de la UE.
URL:https://linagalvez.eu/agenda/reunion-de-la-comision-de-industria-investigacion-y-energia-itre-17-2-2-2-2-2-2-2-2-2-2/
CATEGORIES:Destacado,ITRE
ATTACH;FMTTYPE=image/jpeg:https://linagalvez.eu/wp-content/uploads/2021/02/Ucrania-UE.jpg
END:VEVENT
BEGIN:VEVENT
DTSTART;TZID=Europe/Madrid:20220426T123000
DTEND;TZID=Europe/Madrid:20220426T140000
DTSTAMP:20260424T081415
CREATED:20210301T093643Z
LAST-MODIFIED:20250210T090039Z
UID:5649-1650976200-1650981600@linagalvez.eu
SUMMARY:S&D Reunión de la Delegación Socialista Española
DESCRIPTION:Reunión interna de trabajo y de coordinación.
URL:https://linagalvez.eu/agenda/sd-reunion-de-la-delegacion-socialista-espanola-11-2-2-2-2-2-2-2-2-4-3-2/
CATEGORIES:Parlamento,S&D
ATTACH;FMTTYPE=image/png:https://linagalvez.eu/wp-content/uploads/2020/07/Delegacion-española.png
END:VEVENT
BEGIN:VEVENT
DTSTART;TZID=Europe/Madrid:20220426T133000
DTEND;TZID=Europe/Madrid:20220426T150000
DTSTAMP:20260424T081415
CREATED:20210412T084247Z
LAST-MODIFIED:20220425T090017Z
UID:5652-1650979800-1650985200@linagalvez.eu
SUMMARY:S&D Grupo de trabajo horizontal de FEMM y EMPL sobre la Europa de los Cuidados
DESCRIPTION:Habrá un debate y cambio de impresiones sobre el futuro papel de los cuidados en Europa CARE DEAL. \nLa eurodiputada Lina Gálvez\, que lidera dentro de las comisiones EMPL/FEMM el Care Deal y es experta en la materia\, considera urgente una acción común europea en materia de cuidados.
URL:https://linagalvez.eu/agenda/sd-femm-working-group-5-2-3-3-2/
CATEGORIES:Destacado,EMPL,FEMM,S&D
END:VEVENT
BEGIN:VEVENT
DTSTART;TZID=Europe/Madrid:20220426T153000
DTEND;TZID=Europe/Madrid:20220426T163000
DTSTAMP:20260424T081415
CREATED:20211213T103647Z
LAST-MODIFIED:20220418T200929Z
UID:5301-1650987000-1650990600@linagalvez.eu
SUMMARY:Meeting Generation Equality. Finland
DESCRIPTION:Encuentro promovido por el Gobierno Finlandés  en relación a la campaña 5 años Generación Igualdad de ONU Mujeres que promueve los derechos de las mujeres y las niñas en todo el mundo. El objetivo es acelerar especialmente aquellos objetivos de igualdad de género que han sufrido un lento desarrollo global. Finlandia tiene un papel de liderazgo en la Coalición de Acción centrado en la tecnología y la innovación.
URL:https://linagalvez.eu/agenda/meeting-generation-equality-finland-2/
CATEGORIES:FEMM,ITRE,Parlamento,STOA
ATTACH;FMTTYPE=image/jpeg:https://linagalvez.eu/wp-content/uploads/2021/12/GenerationEquality-notag-En-CMYK-1.jpg
END:VEVENT
BEGIN:VEVENT
DTSTART;TZID=Europe/Madrid:20220426T180000
DTEND;TZID=Europe/Madrid:20220426T190000
DTSTAMP:20260424T081415
CREATED:20220425T094521Z
LAST-MODIFIED:20220425T094533Z
UID:5664-1650996000-1650999600@linagalvez.eu
SUMMARY:Primera reunión presencial del Consejo Foro K4I
DESCRIPTION:Primera reunión presencial del Consejo de Administración del Foro K4 sobre la iniciativa de construir un Espacio Europeo de Innovación. Esta iniciativa pretende\nestablecer un marco sólido en materia de política de innovación en la UE.\nMás información sobre la iniciativa: https://www.europeaninnovationarea.eu/
URL:https://linagalvez.eu/agenda/primera-reunion-presencial-del-consejo-foro-k4i/
CATEGORIES:Actualidad,ITRE,Parlamento
ATTACH;FMTTYPE=image/jpeg:https://linagalvez.eu/wp-content/uploads/2022/04/9th-European-Innovation-Summit-1536x1024-1.jpg
END:VEVENT
END:VCALENDAR