BEGIN:VCALENDAR
VERSION:2.0
PRODID:-//Lina Gálvez - ECPv6.15.20//NONSGML v1.0//EN
CALSCALE:GREGORIAN
METHOD:PUBLISH
X-ORIGINAL-URL:https://linagalvez.eu
X-WR-CALDESC:Eventos para Lina Gálvez
REFRESH-INTERVAL;VALUE=DURATION:PT1H
X-Robots-Tag:noindex
X-PUBLISHED-TTL:PT1H
BEGIN:VTIMEZONE
TZID:Europe/Madrid
BEGIN:DAYLIGHT
TZOFFSETFROM:+0100
TZOFFSETTO:+0200
TZNAME:CEST
DTSTART:20210328T010000
END:DAYLIGHT
BEGIN:STANDARD
TZOFFSETFROM:+0200
TZOFFSETTO:+0100
TZNAME:CET
DTSTART:20211031T010000
END:STANDARD
BEGIN:DAYLIGHT
TZOFFSETFROM:+0100
TZOFFSETTO:+0200
TZNAME:CEST
DTSTART:20220327T010000
END:DAYLIGHT
BEGIN:STANDARD
TZOFFSETFROM:+0200
TZOFFSETTO:+0100
TZNAME:CET
DTSTART:20221030T010000
END:STANDARD
BEGIN:DAYLIGHT
TZOFFSETFROM:+0100
TZOFFSETTO:+0200
TZNAME:CEST
DTSTART:20230326T010000
END:DAYLIGHT
BEGIN:STANDARD
TZOFFSETFROM:+0200
TZOFFSETTO:+0100
TZNAME:CET
DTSTART:20231029T010000
END:STANDARD
END:VTIMEZONE
BEGIN:VEVENT
DTSTART;VALUE=DATE:20220509
DTEND;VALUE=DATE:20220510
DTSTAMP:20260424T095253
CREATED:20200508T112446Z
LAST-MODIFIED:20220508T233922Z
UID:5732-1652054400-1652140799@linagalvez.eu
SUMMARY:Día de Europa
DESCRIPTION:Europe day celebration: 71 years after the creation of the European coal and steel community\, we are called to make history\, again! Workers in the healthcare\, food\, transport sectors\, among many others\, have emerged as new heroes. They need our support and solidarity now\, more and the ever\, as do companies and SMEs at a time when we are suffering the hardest recession since the Great Depression. After WWII\, foes became friends\, Europe was reunited. Let’s live up to the dream of Robert Schuman who wrote his declaration on 9 May 1950. We are stronger together\, let’s be brave and stand up to write our history’s next chapter.
URL:https://linagalvez.eu/agenda/dia-de-europa-2-2/
CATEGORIES:Actualidad,Destacado,Parlamento
ATTACH;FMTTYPE=image/jpeg:https://linagalvez.eu/wp-content/uploads/2020/05/Europe-Day-SD.-jpg.jpg
END:VEVENT
BEGIN:VEVENT
DTSTART;TZID=Europe/Madrid:20220509T100000
DTEND;TZID=Europe/Madrid:20220509T110000
DTSTAMP:20260424T095253
CREATED:20220508T233727Z
LAST-MODIFIED:20220508T233727Z
UID:5730-1652090400-1652094000@linagalvez.eu
SUMMARY:Embajadores Junior del IES Severo Ochoa de Granada
DESCRIPTION:La eurodiputada Lina Gálvez participará en un encuentro  online con los Embajadores Junior del IES Severo Ochoa de Granada. En una charla abierta\, se reunirá con los alumnos del instituto para debatir con ellos sobre la Unión Europea\, economía e igualdad.
URL:https://linagalvez.eu/agenda/embajadores-junior-del-ies-severo-ochoa-de-granada/
CATEGORIES:Actualidad,Destacado,Parlamento
ATTACH;FMTTYPE=image/jpeg:https://linagalvez.eu/wp-content/uploads/2021/05/Integracion-de-la-perspectiva-de-genero-en-el-presupuesto-de-la-UE.jpg
END:VEVENT
BEGIN:VEVENT
DTSTART;TZID=Europe/Madrid:20220509T130000
DTEND;TZID=Europe/Madrid:20220509T133000
DTSTAMP:20260424T095253
CREATED:20220509T075843Z
LAST-MODIFIED:20220509T075917Z
UID:5735-1652101200-1652103000@linagalvez.eu
SUMMARY:Día de Europa. Izado de Bandera de la Unión Europea. Universidad de Sevilla.
DESCRIPTION:La eurodiputada Lina Gálvez participará en el acto oficial de izado de la bandera europea que se celebra en la Universidad de Sevilla con motivo de la celebración del día de Europa. \nEsta organizado por el Centro de Documentación Europea de la Universidad de Sevilla.
URL:https://linagalvez.eu/agenda/dia-de-europa-izado-de-bandera-de-la-union-europea-universidad-de-sevilla/
CATEGORIES:Actualidad,Destacado,Parlamento,Universidad
ATTACH;FMTTYPE=image/jpeg:https://linagalvez.eu/wp-content/uploads/2022/05/Bandera-Eu.jpg
END:VEVENT
END:VCALENDAR