BEGIN:VCALENDAR
VERSION:2.0
PRODID:-//Lina Gálvez - ECPv6.15.20//NONSGML v1.0//EN
CALSCALE:GREGORIAN
METHOD:PUBLISH
X-ORIGINAL-URL:https://linagalvez.eu
X-WR-CALDESC:Eventos para Lina Gálvez
REFRESH-INTERVAL;VALUE=DURATION:PT1H
X-Robots-Tag:noindex
X-PUBLISHED-TTL:PT1H
BEGIN:VTIMEZONE
TZID:Europe/Madrid
BEGIN:DAYLIGHT
TZOFFSETFROM:+0100
TZOFFSETTO:+0200
TZNAME:CEST
DTSTART:20210328T010000
END:DAYLIGHT
BEGIN:STANDARD
TZOFFSETFROM:+0200
TZOFFSETTO:+0100
TZNAME:CET
DTSTART:20211031T010000
END:STANDARD
BEGIN:DAYLIGHT
TZOFFSETFROM:+0100
TZOFFSETTO:+0200
TZNAME:CEST
DTSTART:20220327T010000
END:DAYLIGHT
BEGIN:STANDARD
TZOFFSETFROM:+0200
TZOFFSETTO:+0100
TZNAME:CET
DTSTART:20221030T010000
END:STANDARD
BEGIN:DAYLIGHT
TZOFFSETFROM:+0100
TZOFFSETTO:+0200
TZNAME:CEST
DTSTART:20230326T010000
END:DAYLIGHT
BEGIN:STANDARD
TZOFFSETFROM:+0200
TZOFFSETTO:+0100
TZNAME:CET
DTSTART:20231029T010000
END:STANDARD
END:VTIMEZONE
BEGIN:VEVENT
DTSTART;TZID=Europe/Madrid:20220516T103000
DTEND;TZID=Europe/Madrid:20220516T111500
DTSTAMP:20260424T095156
CREATED:20210222T111219Z
LAST-MODIFIED:20220516T092017Z
UID:3133-1652697000-1652699700@linagalvez.eu
SUMMARY:Reunión con el Intergrupo de Sindicatos
DESCRIPTION:Reunión del Intergrupo centrada en temas como la regulación de la Inteligencia Artificial con ETUC. También se contará con representantes de industriAll Europe y EFFAT\, con quienes se dialogará sobre la participación de las y los trabajadores en el paquete “Fit for 55” de la UE.
URL:https://linagalvez.eu/agenda/reunion-del-intergrupo-urban/
CATEGORIES:Actualidad,Destacado,Parlamento,S&D
ATTACH;FMTTYPE=image/jpeg:https://linagalvez.eu/wp-content/uploads/2022/01/Lina-Galvez-Streaming.jpg
END:VEVENT
BEGIN:VEVENT
DTSTART;TZID=Europe/Madrid:20220516T134500
DTEND;TZID=Europe/Madrid:20220516T174500
DTSTAMP:20260424T095156
CREATED:20210611T142459Z
LAST-MODIFIED:20220516T095200Z
UID:5621-1652708700-1652723100@linagalvez.eu
SUMMARY:Reunión de la Comisión de Industria\, Investigación y Energía (ITRE)
DESCRIPTION:Debates de la próxima Comisión ITRE: \n\nAudiencia Pública – Startups Creativas e Innovación.  La Comisión ITRE celebrará una audiencia pública sobre ‘Startups creativas e innovación’. El objetivo de este encuentro es escuchar a los ponentes invitados sobre la innovación novedosa en sus Start-ups\, y también conocer más sobre la innovación que han puesto en marcha en el sector creativo.\nIntercambio de puntos de vista con la Comisión sobre el efecto de la guerra en Ucrania en la política espacial y de industria de defensa de la UE
URL:https://linagalvez.eu/agenda/reunion-de-la-comision-de-industria-investigacion-y-energia-itre-17-2-2-2-2-2-2-3-2-2-2-2-2-2-3/
CATEGORIES:Destacado,ITRE,Parlamento
ATTACH;FMTTYPE=image/jpeg:https://linagalvez.eu/wp-content/uploads/2021/06/ITRE_170621.jpg
END:VEVENT
END:VCALENDAR