BEGIN:VCALENDAR
VERSION:2.0
PRODID:-//Lina Gálvez - ECPv6.15.20//NONSGML v1.0//EN
CALSCALE:GREGORIAN
METHOD:PUBLISH
X-ORIGINAL-URL:https://linagalvez.eu
X-WR-CALDESC:Eventos para Lina Gálvez
REFRESH-INTERVAL;VALUE=DURATION:PT1H
X-Robots-Tag:noindex
X-PUBLISHED-TTL:PT1H
BEGIN:VTIMEZONE
TZID:Europe/Madrid
BEGIN:DAYLIGHT
TZOFFSETFROM:+0100
TZOFFSETTO:+0200
TZNAME:CEST
DTSTART:20210328T010000
END:DAYLIGHT
BEGIN:STANDARD
TZOFFSETFROM:+0200
TZOFFSETTO:+0100
TZNAME:CET
DTSTART:20211031T010000
END:STANDARD
BEGIN:DAYLIGHT
TZOFFSETFROM:+0100
TZOFFSETTO:+0200
TZNAME:CEST
DTSTART:20220327T010000
END:DAYLIGHT
BEGIN:STANDARD
TZOFFSETFROM:+0200
TZOFFSETTO:+0100
TZNAME:CET
DTSTART:20221030T010000
END:STANDARD
BEGIN:DAYLIGHT
TZOFFSETFROM:+0100
TZOFFSETTO:+0200
TZNAME:CEST
DTSTART:20230326T010000
END:DAYLIGHT
BEGIN:STANDARD
TZOFFSETFROM:+0200
TZOFFSETTO:+0100
TZNAME:CET
DTSTART:20231029T010000
END:STANDARD
END:VTIMEZONE
BEGIN:VEVENT
DTSTART;TZID=Europe/Madrid:20220517T090000
DTEND;TZID=Europe/Madrid:20220517T174500
DTSTAMP:20260424T095202
CREATED:20210611T142459Z
LAST-MODIFIED:20220516T095738Z
UID:5778-1652778000-1652809500@linagalvez.eu
SUMMARY:Reunión de la Comisión de Industria\, Investigación y Energía (ITRE)
DESCRIPTION:Orden del día previsto para la reunión de la Comisión ITRE del 17 de mayo 2022: \n\n\n\nDebates \n\nPresentación por parte del Director de ACER\, Sr. Christian ZINGLERSEN\, de la Evaluación Final de ACER del Diseño del Mercado Mayorista de Electricidad de la UE\nAudiencia Pública – Energía solar distribuida y prosumidor\nPleno Parlamentario de la Comunidad de la Energía\n\n  \nVotos \n\nPrórroga del Acuerdo sobre la promoción\, suministro y uso de los sistemas de navegación por satélite Galileo y GPS y aplicaciones conexas entre la Comunidad Europea y sus Estados miembros y los Estados Unidos de América – Adopción del proyecto de recomendación (consentimiento) – Ponente: Cristian- Silviu BUŞOI (PPE\, RO)\nUn enfoque de la UE para la gestión del tráfico espacial – Una contribución de la UE que aborda un desafío global – Aprobación de una pregunta para respuesta oral\, Aprobación de una propuesta de resolución a raíz de una pregunta para respuesta oral – Ponente: Cristian-Silviu BUŞOI (PPE\, RO)\nEstablecimiento del Programa de Política 2030 “Camino a la Década Digital” – Aprobación del proyecto de informe – Relatora: Martina DLABAJOVÁ (Renew\, CZ)\n\n\n\n\n\nWeb de la Comisión de Industria\, Investigación y Energía 
URL:https://linagalvez.eu/agenda/reunion-de-la-comision-de-industria-investigacion-y-energia-itre-17-2-2-2-2-2-2-3-2-2-2-2-2-2-3-2/
CATEGORIES:ITRE,Parlamento
ATTACH;FMTTYPE=image/jpeg:https://linagalvez.eu/wp-content/uploads/2021/06/ITRE_170621.jpg
END:VEVENT
BEGIN:VEVENT
DTSTART;TZID=Europe/Madrid:20220517T150000
DTEND;TZID=Europe/Madrid:20220517T160000
DTSTAMP:20260424T095202
CREATED:20220516T120200Z
LAST-MODIFIED:20250901T072749Z
UID:5792-1652799600-1652803200@linagalvez.eu
SUMMARY:Evento sobre “La acción en la crisis de negligencia hacia los embarazos accidentales”
DESCRIPTION:Evento sobre “La acción en la crisis de negligencia hacia los embarazos accidentales”\, organizado por EPF\, UNFPA y MEPs for Sexual and Reproductive Rights\nDurante este evento\, se lanzará el informe anual de la agencia de Naciones Unidas “UNFPA” sobre la población mundial.\nEnlace al informe:
URL:https://linagalvez.eu/agenda/evento-sobre-la-accion-en-la-crisis-de-negligencia-hacia-los-embarazos-accidentales/
CATEGORIES:FEMM,Parlamento,S&D
ATTACH;FMTTYPE=image/jpeg:https://linagalvez.eu/wp-content/uploads/2022/05/Unseen.jpg
END:VEVENT
END:VCALENDAR