BEGIN:VCALENDAR
VERSION:2.0
PRODID:-//Lina Gálvez - ECPv6.15.20//NONSGML v1.0//EN
CALSCALE:GREGORIAN
METHOD:PUBLISH
X-ORIGINAL-URL:https://linagalvez.eu
X-WR-CALDESC:Eventos para Lina Gálvez
REFRESH-INTERVAL;VALUE=DURATION:PT1H
X-Robots-Tag:noindex
X-PUBLISHED-TTL:PT1H
BEGIN:VTIMEZONE
TZID:Europe/Madrid
BEGIN:DAYLIGHT
TZOFFSETFROM:+0100
TZOFFSETTO:+0200
TZNAME:CEST
DTSTART:20210328T010000
END:DAYLIGHT
BEGIN:STANDARD
TZOFFSETFROM:+0200
TZOFFSETTO:+0100
TZNAME:CET
DTSTART:20211031T010000
END:STANDARD
BEGIN:DAYLIGHT
TZOFFSETFROM:+0100
TZOFFSETTO:+0200
TZNAME:CEST
DTSTART:20220327T010000
END:DAYLIGHT
BEGIN:STANDARD
TZOFFSETFROM:+0200
TZOFFSETTO:+0100
TZNAME:CET
DTSTART:20221030T010000
END:STANDARD
BEGIN:DAYLIGHT
TZOFFSETFROM:+0100
TZOFFSETTO:+0200
TZNAME:CEST
DTSTART:20230326T010000
END:DAYLIGHT
BEGIN:STANDARD
TZOFFSETFROM:+0200
TZOFFSETTO:+0100
TZNAME:CET
DTSTART:20231029T010000
END:STANDARD
END:VTIMEZONE
BEGIN:VEVENT
DTSTART;TZID=Europe/Madrid:20220908T090000
DTEND;TZID=Europe/Madrid:20220908T120000
DTSTAMP:20260426T011628
CREATED:20220613T132530Z
LAST-MODIFIED:20220905T185926Z
UID:6072-1662627600-1662638400@linagalvez.eu
SUMMARY:Committee on Women's Rights and Gender Equality.
DESCRIPTION:Lina Gálvez asistirá a la reunión de la comisión FEMM. Primero\, se hará una reunión conjunta con las comisiones parlamentarias de Presupuesto (BUDG) y de Control Presupuestario (CONT)\, en la que se dialogará con el Comisario para Presupuesto y Administración\, Johannes Hahn. A continuación\, se votará el presupuesto general de la UE para el año 2023 con las enmiendas de la Comisión FEMM. Finalmente\, se debatirá sobre la política de la UE sobre los derechos humanos y la democracia en el mundo.
URL:https://linagalvez.eu/agenda/joint-meeting-committee-on-employment-and-social-affairs-committee-on-womens-rights-and-gender-equality-2-3-2-3-2-2-2-2-4-3-2/
CATEGORIES:Destacado,FEMM,Parlamento
ATTACH;FMTTYPE=image/jpeg:https://linagalvez.eu/wp-content/uploads/2021/12/20211208_EP-123402A_PB7_077-1-scaled.jpg
END:VEVENT
BEGIN:VEVENT
DTSTART;TZID=Europe/Madrid:20220908T150000
DTEND;TZID=Europe/Madrid:20220908T180000
DTSTAMP:20260426T011628
CREATED:20220905T155958Z
LAST-MODIFIED:20231115T120827Z
UID:6157-1662649200-1662660000@linagalvez.eu
SUMMARY:Acto Memoria Democrática en el Contexto Europeo: La Fosa de Pico Reja\, en Andalucía.
DESCRIPTION:La eurodiputada Lina Gálvez presentará e intervendrá en el acto y proyección del documental Pico Reja: La verdad que la tierra esconde que se celebrará en el Parlamento Europeo. \n ‘Pico Reja. La verdad que la tierra esconde’ de Remedios Malvárez y Arturo Andújar\, una película que documenta los trabajos de excavación de la fosa común de Pico Reja\, localizada en el cementerio municipal de San Fernando de Sevilla. Por su extensión y por el número de víctimas que alberga\, Pico Reja es una de las fosas comunes más grandes de Europa\, así como los trabajos de exhumación e identificación de cuerpos son los de mayor envergadura y cualificación científica que se afrontan en España. \nLa presentación y proyección de la película se enmarca en los contenidos de las jornadas ‘Memoria democrática en el contexto europeo: La fosa de Pico Reja en Andalucía’\, una sesión de debate organizada por el Grupo de la Alianza Progresista de los Socialistas y Demócratas en el Parlamento Europeo y que contará con las intervenciones de Juan Fernando López Aguilar\, presidente del comité LIBE del Parlamento Europeo; Fernando Martínez\, secretario de Estado de Memoria Democrática;  Lina Gálvez Muñoz\, eurodiputada socialista; Juan Miguel Baquero\, periodista especilizado en Memoria Histórica y Derechos Humanos; y Remedios Malvárez y Arturo Andújar\, directores del documental
URL:https://linagalvez.eu/agenda/acto-memoria-democratica-en-el-contexto-europeo-la-fosa-de-pico-reja-en-andalucia/
CATEGORIES:Actualidad,Andalucía,Andalucía eje central,Destacado,Parlamento,S&D
ATTACH;FMTTYPE=image/jpeg:https://linagalvez.eu/wp-content/uploads/2022/09/SD-Pico-Reja-.jpg
END:VEVENT
END:VCALENDAR