BEGIN:VCALENDAR
VERSION:2.0
PRODID:-//Lina Gálvez - ECPv6.15.20//NONSGML v1.0//EN
CALSCALE:GREGORIAN
METHOD:PUBLISH
X-ORIGINAL-URL:https://linagalvez.eu
X-WR-CALDESC:Eventos para Lina Gálvez
REFRESH-INTERVAL;VALUE=DURATION:PT1H
X-Robots-Tag:noindex
X-PUBLISHED-TTL:PT1H
BEGIN:VTIMEZONE
TZID:Europe/Madrid
BEGIN:DAYLIGHT
TZOFFSETFROM:+0100
TZOFFSETTO:+0200
TZNAME:CEST
DTSTART:20210328T010000
END:DAYLIGHT
BEGIN:STANDARD
TZOFFSETFROM:+0200
TZOFFSETTO:+0100
TZNAME:CET
DTSTART:20211031T010000
END:STANDARD
BEGIN:DAYLIGHT
TZOFFSETFROM:+0100
TZOFFSETTO:+0200
TZNAME:CEST
DTSTART:20220327T010000
END:DAYLIGHT
BEGIN:STANDARD
TZOFFSETFROM:+0200
TZOFFSETTO:+0100
TZNAME:CET
DTSTART:20221030T010000
END:STANDARD
BEGIN:DAYLIGHT
TZOFFSETFROM:+0100
TZOFFSETTO:+0200
TZNAME:CEST
DTSTART:20230326T010000
END:DAYLIGHT
BEGIN:STANDARD
TZOFFSETFROM:+0200
TZOFFSETTO:+0100
TZNAME:CET
DTSTART:20231029T010000
END:STANDARD
END:VTIMEZONE
BEGIN:VEVENT
DTSTART;TZID=Europe/Madrid:20220912T160000
DTEND;TZID=Europe/Madrid:20220912T173000
DTSTAMP:20260425T232809
CREATED:20211108T110030Z
LAST-MODIFIED:20220912T091625Z
UID:5775-1662998400-1663003800@linagalvez.eu
SUMMARY:S&D Group Meeting
DESCRIPTION:Reunión en formato híbrido del Grupo S&D preparatoria para la semana parlamentaria europea.
URL:https://linagalvez.eu/agenda/sd-group-meeting-23-3-2-2-4-2-3-3-5-2-2-2-2-2-2-2-3-3-2-3-2-3-5/
CATEGORIES:Actualidad,Parlamento,S&D
ATTACH;FMTTYPE=image/png:https://linagalvez.eu/wp-content/uploads/2020/01/1-S&D.svg.png
END:VEVENT
BEGIN:VEVENT
DTSTART;TZID=Europe/Madrid:20220912T170000
DTEND;TZID=Europe/Madrid:20220915T183000
DTSTAMP:20260425T232809
CREATED:20210211T164450Z
LAST-MODIFIED:20220912T085910Z
UID:6127-1663002000-1663266600@linagalvez.eu
SUMMARY:Pleno del Parlamento Europeo en Estrasburgo
DESCRIPTION:Destacados del pleno. Estrasburgo\, 12-15 de septiembre 2022 (Borrador) \n\nEstado de la Unión Europea \nReducción de la dependencia energética de Rusia e impulso de las renovables Un cargador común para toda la UE \nSalarios mínimos \nIgualdad de género en el trabajo
URL:https://linagalvez.eu/agenda/pleno-del-parlamento-europeo-2-2-2-2-2-2-2-6-2-3-2/
CATEGORIES:Actualidad,Destacado,EMPL,FEMM,Parlamento
ATTACH;FMTTYPE=image/jpeg:https://linagalvez.eu/wp-content/uploads/2020/03/European_Parliament_Strasbourg_Hemicycle_-_Diliff-2-scaled.jpg
END:VEVENT
BEGIN:VEVENT
DTSTART;TZID=Europe/Madrid:20220912T180000
DTEND;TZID=Europe/Madrid:20220912T190000
DTSTAMP:20260425T232809
CREATED:20220613T132530Z
LAST-MODIFIED:20220912T090738Z
UID:6161-1663005600-1663009200@linagalvez.eu
SUMMARY:Committee on Women's Rights and Gender Equality.
DESCRIPTION:En el Comité FEMM del 12 de septiembre se tratará de manera monografica  la Estrategia de Cuidados de la UE (EU Care Strategy) que será presentada por\nHelena Dalli\, Comisaria de Igualdad\nMás Información: https://ec.europa.eu/info/law/better-regulation/have-your-say/initiatives/13298-European-care-strategy_en
URL:https://linagalvez.eu/agenda/joint-meeting-committee-on-employment-and-social-affairs-committee-on-womens-rights-and-gender-equality-2-3-2-3-2-2-2-2-4-3-3/
CATEGORIES:Destacado,EMPL,FEMM,Parlamento
ATTACH;FMTTYPE=image/png:https://linagalvez.eu/wp-content/uploads/2022/03/FEMM.png
END:VEVENT
END:VCALENDAR