BEGIN:VCALENDAR
VERSION:2.0
PRODID:-//Lina Gálvez - ECPv6.15.20//NONSGML v1.0//EN
CALSCALE:GREGORIAN
METHOD:PUBLISH
X-ORIGINAL-URL:https://linagalvez.eu
X-WR-CALDESC:Eventos para Lina Gálvez
REFRESH-INTERVAL;VALUE=DURATION:PT1H
X-Robots-Tag:noindex
X-PUBLISHED-TTL:PT1H
BEGIN:VTIMEZONE
TZID:Europe/Madrid
BEGIN:DAYLIGHT
TZOFFSETFROM:+0100
TZOFFSETTO:+0200
TZNAME:CEST
DTSTART:20210328T010000
END:DAYLIGHT
BEGIN:STANDARD
TZOFFSETFROM:+0200
TZOFFSETTO:+0100
TZNAME:CET
DTSTART:20211031T010000
END:STANDARD
BEGIN:DAYLIGHT
TZOFFSETFROM:+0100
TZOFFSETTO:+0200
TZNAME:CEST
DTSTART:20220327T010000
END:DAYLIGHT
BEGIN:STANDARD
TZOFFSETFROM:+0200
TZOFFSETTO:+0100
TZNAME:CET
DTSTART:20221030T010000
END:STANDARD
BEGIN:DAYLIGHT
TZOFFSETFROM:+0100
TZOFFSETTO:+0200
TZNAME:CEST
DTSTART:20230326T010000
END:DAYLIGHT
BEGIN:STANDARD
TZOFFSETFROM:+0200
TZOFFSETTO:+0100
TZNAME:CET
DTSTART:20231029T010000
END:STANDARD
END:VTIMEZONE
BEGIN:VEVENT
DTSTART;TZID=Europe/Madrid:20220912T170000
DTEND;TZID=Europe/Madrid:20220915T183000
DTSTAMP:20260425T232812
CREATED:20210211T164450Z
LAST-MODIFIED:20220912T085910Z
UID:6127-1663002000-1663266600@linagalvez.eu
SUMMARY:Pleno del Parlamento Europeo en Estrasburgo
DESCRIPTION:Destacados del pleno. Estrasburgo\, 12-15 de septiembre 2022 (Borrador) \n\nEstado de la Unión Europea \nReducción de la dependencia energética de Rusia e impulso de las renovables Un cargador común para toda la UE \nSalarios mínimos \nIgualdad de género en el trabajo
URL:https://linagalvez.eu/agenda/pleno-del-parlamento-europeo-2-2-2-2-2-2-2-6-2-3-2/
CATEGORIES:Actualidad,Destacado,EMPL,FEMM,Parlamento
ATTACH;FMTTYPE=image/jpeg:https://linagalvez.eu/wp-content/uploads/2020/03/European_Parliament_Strasbourg_Hemicycle_-_Diliff-2-scaled.jpg
END:VEVENT
BEGIN:VEVENT
DTSTART;TZID=Europe/Madrid:20220913T100000
DTEND;TZID=Europe/Madrid:20220913T110000
DTSTAMP:20260425T232812
CREATED:20210412T084247Z
LAST-MODIFIED:20220912T092046Z
UID:6182-1663063200-1663066800@linagalvez.eu
SUMMARY:S&D FEMM Working Group
DESCRIPTION:Sesión interna de trabajo en el seno del S&D para coordinar y revisar las iniciativas que se tratarán en el Pleno y la Comisión FEMM. \nLa eurodiputada Lina Gálvez participará en esta reunión S&D FEMM\, para coordinar su agenda en relación alos temas de las próximas audiencias que tendrán lugar en el primer Semestre de 2023\, así como futuros proyectos\, eventos y misiones.
URL:https://linagalvez.eu/agenda/sd-femm-working-group-6-2-3/
CATEGORIES:FEMM,Parlamento,S&D
END:VEVENT
BEGIN:VEVENT
DTSTART;TZID=Europe/Madrid:20220913T103000
DTEND;TZID=Europe/Madrid:20220913T113000
DTSTAMP:20260425T232812
CREATED:20220502T092018Z
LAST-MODIFIED:20220912T092754Z
UID:6126-1663065000-1663068600@linagalvez.eu
SUMMARY:Debate en el pleno con la Primera Ministra de Finlandia\, Sanna Marin
DESCRIPTION:Debates en el pleno de Estrasburgo\, \nDebate en el pleno con la Primera Ministra de Finlandia\, Sanna Marin\, Lina Gálvez participará  en debate protagonizado por la primera ministra finlandesa\, en el que abordará la situación actual de Europa y las direcciones a seguir en el futuro.
URL:https://linagalvez.eu/agenda/participacion-en-plenario-en-el-debate-conjunto-sobre-investigacion-e-innovacion-2-2-2-2-2-2-2-3-2-2-4-2/
CATEGORIES:Actualidad,Parlamento,S&D
ATTACH;FMTTYPE=image/jpeg:https://linagalvez.eu/wp-content/uploads/2022/01/Captura_LGM.jpg
END:VEVENT
BEGIN:VEVENT
DTSTART;TZID=Europe/Madrid:20220913T110000
DTEND;TZID=Europe/Madrid:20220913T125000
DTSTAMP:20260425T232812
CREATED:20210412T080804Z
LAST-MODIFIED:20220912T100105Z
UID:5565-1663066800-1663073400@linagalvez.eu
SUMMARY:S&D ITRE Working Group meeting
DESCRIPTION:Grupo de trabajo S&D ITRE en el que se tratarán los temas que se debatirán en el siguiente Pleno y Comisiones y entre otros asuntos: \n\nDependencia energética\nSituación en Ucrania.
URL:https://linagalvez.eu/agenda/sd-itre-working-group-meeting-2-4-2-3-3-2-2-2-3/
CATEGORIES:Actualidad,ITRE,S&D
ATTACH;FMTTYPE=image/jpeg:https://linagalvez.eu/wp-content/uploads/2020/11/SD-WG-ITRE.jpg
END:VEVENT
BEGIN:VEVENT
DTSTART;TZID=Europe/Madrid:20220913T130000
DTEND;TZID=Europe/Madrid:20220913T150000
DTSTAMP:20260425T232812
CREATED:20220502T092018Z
LAST-MODIFIED:20220913T102651Z
UID:6205-1663074000-1663081200@linagalvez.eu
SUMMARY:Intervención en Pleno. Salario Mínimo Europeo
DESCRIPTION:13:00 – 15:00 La eurodiputada Lina Gálvez intervendrá en el debate del plenario sobre el punto del orden del día: Salarios mínimos justos en la Unión Europea. \nLina Gálvez defenderá esta iniciativa incidiendo en el abordaje desde la perspectiva de género\, la urgente necesidad de atajar la pobreza en Europa y su relación con la Estrategia de Cuidados. \nSe podrá seguir en este enlace: https://www.europarl.europa.eu/plenary/es/home.html
URL:https://linagalvez.eu/agenda/pleno-directiva-salarios-minimos/
CATEGORIES:Actualidad,Andalucía,Destacado,EMPL,FEMM,Parlamento
ATTACH;FMTTYPE=image/jpeg:https://linagalvez.eu/wp-content/uploads/2022/01/Captura_LGM.jpg
END:VEVENT
BEGIN:VEVENT
DTSTART;TZID=Europe/Madrid:20220913T200000
DTEND;TZID=Europe/Madrid:20220913T203000
DTSTAMP:20260425T232812
CREATED:20220607T202459Z
LAST-MODIFIED:20220912T095229Z
UID:6197-1663099200-1663101000@linagalvez.eu
SUMMARY:Reunión con con la Comisaria Mariya Gabriel
DESCRIPTION:La eurodiputada Lina Gálvez mantendrá una reunión  con la Comisaria de Innovación y Cultura\, Mariya Gabriel para tratar los temas de la agenda legislativa que la eurodiputada tiene en desarrollo; Reglamento Europeo de Chips\, Consejo Europeo de Innovación\, conectividad\,  y el Horizonte Europa entre otros.
URL:https://linagalvez.eu/agenda/reunion-con-representantes-del-sector-espanol-de-la-microelectronica-madrid-2/
CATEGORIES:Actualidad,ITRE,Parlamento,S&D,STOA
ATTACH;FMTTYPE=image/jpeg:https://linagalvez.eu/wp-content/uploads/2020/07/Calendario2.jpg
END:VEVENT
END:VCALENDAR