BEGIN:VCALENDAR
VERSION:2.0
PRODID:-//Lina Gálvez - ECPv6.15.20//NONSGML v1.0//EN
CALSCALE:GREGORIAN
METHOD:PUBLISH
X-WR-CALNAME:Lina Gálvez
X-ORIGINAL-URL:https://linagalvez.eu
X-WR-CALDESC:Eventos para Lina Gálvez
REFRESH-INTERVAL;VALUE=DURATION:PT1H
X-Robots-Tag:noindex
X-PUBLISHED-TTL:PT1H
BEGIN:VTIMEZONE
TZID:Europe/Madrid
BEGIN:DAYLIGHT
TZOFFSETFROM:+0100
TZOFFSETTO:+0200
TZNAME:CEST
DTSTART:20210328T010000
END:DAYLIGHT
BEGIN:STANDARD
TZOFFSETFROM:+0200
TZOFFSETTO:+0100
TZNAME:CET
DTSTART:20211031T010000
END:STANDARD
BEGIN:DAYLIGHT
TZOFFSETFROM:+0100
TZOFFSETTO:+0200
TZNAME:CEST
DTSTART:20220327T010000
END:DAYLIGHT
BEGIN:STANDARD
TZOFFSETFROM:+0200
TZOFFSETTO:+0100
TZNAME:CET
DTSTART:20221030T010000
END:STANDARD
BEGIN:DAYLIGHT
TZOFFSETFROM:+0100
TZOFFSETTO:+0200
TZNAME:CEST
DTSTART:20230326T010000
END:DAYLIGHT
BEGIN:STANDARD
TZOFFSETFROM:+0200
TZOFFSETTO:+0100
TZNAME:CET
DTSTART:20231029T010000
END:STANDARD
END:VTIMEZONE
BEGIN:VEVENT
DTSTART;TZID=Europe/Madrid:20220912T170000
DTEND;TZID=Europe/Madrid:20220915T183000
DTSTAMP:20260425T232642
CREATED:20210211T164450Z
LAST-MODIFIED:20220912T085910Z
UID:6127-1663002000-1663266600@linagalvez.eu
SUMMARY:Pleno del Parlamento Europeo en Estrasburgo
DESCRIPTION:Destacados del pleno. Estrasburgo\, 12-15 de septiembre 2022 (Borrador) \n\nEstado de la Unión Europea \nReducción de la dependencia energética de Rusia e impulso de las renovables Un cargador común para toda la UE \nSalarios mínimos \nIgualdad de género en el trabajo
URL:https://linagalvez.eu/agenda/pleno-del-parlamento-europeo-2-2-2-2-2-2-2-6-2-3-2/
CATEGORIES:Actualidad,Destacado,EMPL,FEMM,Parlamento
ATTACH;FMTTYPE=image/jpeg:https://linagalvez.eu/wp-content/uploads/2020/03/European_Parliament_Strasbourg_Hemicycle_-_Diliff-2-scaled.jpg
END:VEVENT
BEGIN:VEVENT
DTSTART;TZID=Europe/Madrid:20220915T090000
DTEND;TZID=Europe/Madrid:20220915T093000
DTSTAMP:20260425T232642
CREATED:20220912T102054Z
LAST-MODIFIED:20220915T071351Z
UID:6202-1663232400-1663234200@linagalvez.eu
SUMMARY:Intervención online en la Jornada “La economía del cuidado impulsada desde lo local"
DESCRIPTION:La eurodiputada Lina Gálvez participará online en la conferencia inaugural  en estas jornadas que organiza la Federación Andaluza de Municipios y Provincias\, bajo el título “Los tiempos del cuidado. Retos para las políticas públicas y para la vida cotidiana». \nMás información; https://www.famp.es/export/sites/famp/.galleries/documentos-eventos/22049 Av_programa_JORNADA_economa_del_cuidado_impulsada_desde_lo_Local.pdf
URL:https://linagalvez.eu/agenda/intervencion-online-en-la-jornada-la-economia-del-cuidado-impulsada-desde-lo-local/
CATEGORIES:Actualidad,Andalucía,FEMM,S&D
ATTACH;FMTTYPE=image/jpeg:https://linagalvez.eu/wp-content/uploads/2022/09/Jornadas-Formacion-.jpg
END:VEVENT
BEGIN:VEVENT
DTSTART;TZID=Europe/Madrid:20220915T093000
DTEND;TZID=Europe/Madrid:20220915T110000
DTSTAMP:20260425T232642
CREATED:20210528T185833Z
LAST-MODIFIED:20220912T094020Z
UID:6178-1663234200-1663239600@linagalvez.eu
SUMMARY:Panel STOA
DESCRIPTION:La próxima reunión del Panel STOA\, Panel para el Futuro de la Ciencia y la Tecnología\, se llevará a cabo el jueves 15 de septiembre de 2022\, de 9.30 a 11.00 horas. \nEn la agenda de reunión; Los  futuros proyectos y actividades a roganizar con el panel\, así como talleres y actividades conjuntas con organizaciones exteriores. Asimismo\, se presentarán los resultados del estudio “Gobernando los datos y la IA para todos: modelos para la gobernanza de datos justa y sostenible”.
URL:https://linagalvez.eu/agenda/panel-stoa-presentacion-de-los-estudios-impacto-en-la-salud-del-5g-e-impacto-medioambiental-del-5g-3-2-2-2-2-2/
CATEGORIES:Actualidad,ITRE,STOA
ATTACH;FMTTYPE=image/jpeg:https://linagalvez.eu/wp-content/uploads/2021/05/STOA-28M-e1639394848457.jpg
END:VEVENT
BEGIN:VEVENT
DTSTART;TZID=Europe/Madrid:20220915T111500
DTEND;TZID=Europe/Madrid:20220915T120000
DTSTAMP:20260425T232642
CREATED:20220502T092018Z
LAST-MODIFIED:20220915T084442Z
UID:6209-1663240500-1663243200@linagalvez.eu
SUMMARY:Intervención en Pleno. Estado de la Unión PYMES
DESCRIPTION:11:15 – 12:00 La eurodiputada Lina Gálvez intervendrá en el debate del plenario sobre el punto del orden del día: PYMES en la Unión Europea. \nEl debate propuesto se centrará en las microempresas y las pequeñas y medianas empresas (pymes) constituyen el 99 % de las empresas de la Unión. Crean dos de cada tres empleos del sector privado y contribuyen a más de la mitad del valor añadido total generado por las empresas en la Unión. Se han puesto en marcha diversos programas de acción al objeto de incrementar la competitividad de las pymes gracias a la investigación y la innovación y mejorar su acceso a la financiación. Se han tenido asimismo en cuenta la consecución de la neutralidad en carbono y la transición digital en las estrategias adoptadas con la finalidad de conseguir unas mejores condiciones marco para las pymes. Por otra parte\, las repercusiones de la pandemia de COVID-19 han impulsado nuevos planteamientos en lo que respecta a la reactivación económica\, la reconstrucción y el fortalecimiento de la resiliencia de las pymes. \nSe podrá seguir en este enlace: https://www.europarl.europa.eu/plenary/es/home.html
URL:https://linagalvez.eu/agenda/pleno-estado-de-la-union-pyme/
CATEGORIES:Actualidad,Andalucía,Destacado,EMPL,FEMM,ITRE,Parlamento
ATTACH;FMTTYPE=image/jpeg:https://linagalvez.eu/wp-content/uploads/2022/07/Lina-Galvez_estrategia-antipobreza_2030.jpg
END:VEVENT
END:VCALENDAR