BEGIN:VCALENDAR
VERSION:2.0
PRODID:-//Lina Gálvez - ECPv6.15.20//NONSGML v1.0//EN
CALSCALE:GREGORIAN
METHOD:PUBLISH
X-WR-CALNAME:Lina Gálvez
X-ORIGINAL-URL:https://linagalvez.eu
X-WR-CALDESC:Eventos para Lina Gálvez
REFRESH-INTERVAL;VALUE=DURATION:PT1H
X-Robots-Tag:noindex
X-PUBLISHED-TTL:PT1H
BEGIN:VTIMEZONE
TZID:Europe/Madrid
BEGIN:DAYLIGHT
TZOFFSETFROM:+0100
TZOFFSETTO:+0200
TZNAME:CEST
DTSTART:20210328T010000
END:DAYLIGHT
BEGIN:STANDARD
TZOFFSETFROM:+0200
TZOFFSETTO:+0100
TZNAME:CET
DTSTART:20211031T010000
END:STANDARD
BEGIN:DAYLIGHT
TZOFFSETFROM:+0100
TZOFFSETTO:+0200
TZNAME:CEST
DTSTART:20220327T010000
END:DAYLIGHT
BEGIN:STANDARD
TZOFFSETFROM:+0200
TZOFFSETTO:+0100
TZNAME:CET
DTSTART:20221030T010000
END:STANDARD
BEGIN:DAYLIGHT
TZOFFSETFROM:+0100
TZOFFSETTO:+0200
TZNAME:CEST
DTSTART:20230326T010000
END:DAYLIGHT
BEGIN:STANDARD
TZOFFSETFROM:+0200
TZOFFSETTO:+0100
TZNAME:CET
DTSTART:20231029T010000
END:STANDARD
END:VTIMEZONE
BEGIN:VEVENT
DTSTART;TZID=Europe/Madrid:20220926T170000
DTEND;TZID=Europe/Madrid:20220926T190000
DTSTAMP:20260425T232642
CREATED:20220926T092108Z
LAST-MODIFIED:20220926T092255Z
UID:6251-1664211600-1664218800@linagalvez.eu
SUMMARY:Jornada Parlamentaria en el Senado de España: España en la Construcción de la Autonomía Estratégica Europea
DESCRIPTION:Lina Gálvez Muñoz participará en estas jornadas\, organizada por el Grupo Socialista\, en la que se mantendrá un diálogo con el Alto Representante de la UE para Asuntos Exteriores y Política de Seguridad\, Josep Borrell y \, Eva Granados\, portavoz del Grupo Parlamentario Socialista en el Senado\, \nLa eurodiputada formará parte de una mesa redonda sobre autonomía estratégica en la que participarán\, además de Borrell y Granados\, estarán el investigador principal y director del programa de energía y cambio climático del Real Instituto Elcano\, Gonzalo Escribano Francés\, la directora de Innovación y H2 de Ignis Energía\, Isabel Carrilero\, y el CEO de Atlantic Copper\, Javier Targhetta. Moderará la mesa el portavoz socialista de Industria en el Senado\, el senador electo por Asturias Pachi Blanco Ángel (Sala Clara Campoamor) Senado. \nLa crisis COVID\, la guerra en Ucrania ha vuelto a poner el foco en las dependencias estratégicas  y la vulnerabilidades de  la UE\, y de un gran número de países\, respecto a las cadenas globales de suministro. Esto ha hecho que el debate en torno a la autonomía estratégica y las medidas que conlleva su puesta en práctica dentro de la UE formen parte del eje central de discusión y reflexión dentro de las Instituciones del Estado Español. \nPodrá ser seguido en directo en el siguiente enlace:http://www.senado.es/streaming/emisiones_streaming_5.html
URL:https://linagalvez.eu/agenda/jornada-parlamentaria-en-el-senado-de-espana-espana-en-la-construccion-de-la-autonomia-estrategica-europea/
CATEGORIES:Actualidad,Destacado,ITRE,Parlamento,S&D
ATTACH;FMTTYPE=image/jpeg:https://linagalvez.eu/wp-content/uploads/2022/03/20minutos.jpeg
END:VEVENT
BEGIN:VEVENT
DTSTART;TZID=Europe/Madrid:20220926T190000
DTEND;TZID=Europe/Madrid:20220926T200000
DTSTAMP:20260425T232642
CREATED:20211206T083807Z
LAST-MODIFIED:20220926T094803Z
UID:6253-1664218800-1664222400@linagalvez.eu
SUMMARY:Reunión con la Interparlamentaria Igualdad. PSOE
DESCRIPTION:La eurodiputada Lina Gálvez asistirá a la reunión interparlamentaria que tendrá lugar en la sede de Ferraz\, convocada por la Secretaría de Política de Igualdad.
URL:https://linagalvez.eu/agenda/reunion-con-la-parlamentaria-y-secretaria-de-igualdad-y-diversidad-del-psn-nuria-medina-santos-2-2/
CATEGORIES:Actualidad,Parlamento,S&D
ATTACH;FMTTYPE=image/jpeg:https://linagalvez.eu/wp-content/uploads/2022/07/Lina-Galvez_medidas-PE.jpg
END:VEVENT
END:VCALENDAR