BEGIN:VCALENDAR
VERSION:2.0
PRODID:-//Lina Gálvez - ECPv6.15.20//NONSGML v1.0//EN
CALSCALE:GREGORIAN
METHOD:PUBLISH
X-ORIGINAL-URL:https://linagalvez.eu
X-WR-CALDESC:Eventos para Lina Gálvez
REFRESH-INTERVAL;VALUE=DURATION:PT1H
X-Robots-Tag:noindex
X-PUBLISHED-TTL:PT1H
BEGIN:VTIMEZONE
TZID:Europe/Madrid
BEGIN:DAYLIGHT
TZOFFSETFROM:+0100
TZOFFSETTO:+0200
TZNAME:CEST
DTSTART:20210328T010000
END:DAYLIGHT
BEGIN:STANDARD
TZOFFSETFROM:+0200
TZOFFSETTO:+0100
TZNAME:CET
DTSTART:20211031T010000
END:STANDARD
BEGIN:DAYLIGHT
TZOFFSETFROM:+0100
TZOFFSETTO:+0200
TZNAME:CEST
DTSTART:20220327T010000
END:DAYLIGHT
BEGIN:STANDARD
TZOFFSETFROM:+0200
TZOFFSETTO:+0100
TZNAME:CET
DTSTART:20221030T010000
END:STANDARD
BEGIN:DAYLIGHT
TZOFFSETFROM:+0100
TZOFFSETTO:+0200
TZNAME:CEST
DTSTART:20230326T010000
END:DAYLIGHT
BEGIN:STANDARD
TZOFFSETFROM:+0200
TZOFFSETTO:+0100
TZNAME:CET
DTSTART:20231029T010000
END:STANDARD
END:VTIMEZONE
BEGIN:VEVENT
DTSTART;TZID=Europe/Madrid:20221013T090000
DTEND;TZID=Europe/Madrid:20221013T100000
DTSTAMP:20260425T232733
CREATED:20200111T151627Z
LAST-MODIFIED:20250221T132926Z
UID:6306-1665651600-1665655200@linagalvez.eu
SUMMARY:Reunión de la Delegación USA
DESCRIPTION:Se abordará el componente digital de las relaciones comerciales entre la UE y EEUU.
URL:https://linagalvez.eu/agenda/reunion-de-la-delegacion-usa-2-2-2-2-2-2/
CATEGORIES:Actualidad,D-US,Parlamento
ATTACH;FMTTYPE=image/jpeg:https://linagalvez.eu/wp-content/uploads/2017_EU-USA-Leaders-Meeting_copyright-EU-Council-2017.jpg
END:VEVENT
BEGIN:VEVENT
DTSTART;TZID=Europe/Madrid:20221013T100000
DTEND;TZID=Europe/Madrid:20221013T123000
DTSTAMP:20260425T232733
CREATED:20210611T142459Z
LAST-MODIFIED:20221010T105603Z
UID:6309-1665655200-1665664200@linagalvez.eu
SUMMARY:Reunión de la Comisión de Industria\, Investigación y Energía (ITRE)
DESCRIPTION:La Eurodiputada Lina Gálvez forma parte de la Comisión de Industria\, Investigación y Energía\, conocida por las siglas ITRE\, es Vicepresidenta de la misma desde 2019. La próxima reunión del Comité ITRE será presencial y tendrá lugar el: Jueves 13 de octubre de 2022\, 10:00 – 12:30 \nLa Comisión tiene fijado en el orden del día los siguientes puntos: \n\nSe discutirá la Ley Europea de Chips y\, en particular\, el denominado “Chips Joint Undertaking” del que Lina Gálvez es ponente en la sombra.
URL:https://linagalvez.eu/agenda/reunion-de-la-comision-de-industria-investigacion-y-energia-itre-17-2-2-2-2-2-2-3-2-2-2-2-2-2-6-2/
CATEGORIES:Destacado,ITRE,Parlamento
ATTACH;FMTTYPE=image/jpeg:https://linagalvez.eu/wp-content/uploads/2021/06/ITRE_170621.jpg
END:VEVENT
BEGIN:VEVENT
DTSTART;TZID=Europe/Madrid:20221013T170000
DTEND;TZID=Europe/Madrid:20221013T180000
DTSTAMP:20260425T232733
CREATED:20210927T104830Z
LAST-MODIFIED:20221010T105048Z
UID:6266-1665680400-1665684000@linagalvez.eu
SUMMARY:Committee on Women's Rights and Gender Equality.
DESCRIPTION:El Comité FEMM del 13 de octubre tratará los siguientes asuntos: \n\nCoordinación de Agenda de la Semana de la Igualdad 2023 del Parlamento Europeo\nSeminario sobre “Economía feminista: herramientas para diseñar la economia que funcione para las mujeres”\nMas información aquí: https://www.europarl.europa.eu/committees/en/workshop-on-feminist-\neconomy-tools-to-de/product-details/20221005WKS04441
URL:https://linagalvez.eu/agenda/joint-meeting-committee-on-employment-and-social-affairs-committee-on-womens-rights-and-gender-equality-2-3-2-3-2-2-2-2-5-3/
CATEGORIES:Destacado,EMPL,FEMM,Parlamento
ATTACH;FMTTYPE=image/png:https://linagalvez.eu/wp-content/uploads/2022/03/FEMM.png
END:VEVENT
END:VCALENDAR