BEGIN:VCALENDAR
VERSION:2.0
PRODID:-//Lina Gálvez - ECPv6.15.20//NONSGML v1.0//EN
CALSCALE:GREGORIAN
METHOD:PUBLISH
X-ORIGINAL-URL:https://linagalvez.eu
X-WR-CALDESC:Eventos para Lina Gálvez
REFRESH-INTERVAL;VALUE=DURATION:PT1H
X-Robots-Tag:noindex
X-PUBLISHED-TTL:PT1H
BEGIN:VTIMEZONE
TZID:Europe/Madrid
BEGIN:DAYLIGHT
TZOFFSETFROM:+0100
TZOFFSETTO:+0200
TZNAME:CEST
DTSTART:20210328T010000
END:DAYLIGHT
BEGIN:STANDARD
TZOFFSETFROM:+0200
TZOFFSETTO:+0100
TZNAME:CET
DTSTART:20211031T010000
END:STANDARD
BEGIN:DAYLIGHT
TZOFFSETFROM:+0100
TZOFFSETTO:+0200
TZNAME:CEST
DTSTART:20220327T010000
END:DAYLIGHT
BEGIN:STANDARD
TZOFFSETFROM:+0200
TZOFFSETTO:+0100
TZNAME:CET
DTSTART:20221030T010000
END:STANDARD
BEGIN:DAYLIGHT
TZOFFSETFROM:+0100
TZOFFSETTO:+0200
TZNAME:CEST
DTSTART:20230326T010000
END:DAYLIGHT
BEGIN:STANDARD
TZOFFSETFROM:+0200
TZOFFSETTO:+0100
TZNAME:CET
DTSTART:20231029T010000
END:STANDARD
END:VTIMEZONE
BEGIN:VEVENT
DTSTART;TZID=Europe/Madrid:20221017T170000
DTEND;TZID=Europe/Madrid:20221020T183000
DTSTAMP:20260425T232733
CREATED:20210211T164450Z
LAST-MODIFIED:20221017T101801Z
UID:6137-1666026000-1666290600@linagalvez.eu
SUMMARY:Pleno del Parlamento Europeo en Estrasburgo
DESCRIPTION:Destacados del pleno. Estrasburgo \nBlanqueamiento de la extrema derecha en la UE\nBeneficios caídos del cielo\nPolíticas de empleo\nCombustibles alternativos\nCOP27\n\nAnuncio del ganador del Premio Sájarov 2022\nGuerra contra Ucrania: debates sobre consecuencias sociales y económicas\, flujos migratorios y solidaridad cultural\nPreparación de la cumbre de la UE del 20 al 21 de octubre\nUna estrategia de la UE para proteger las infraestructuras críticas\nVotación sobre nuevas reglas para la infraestructura de combustibles alternativos de la UE\nLas demandas y expectativas del parlamento antes de la conferencia sobre el cambio climático COP27\nSesión solemne con Zuzana Čaputová\, Presidenta de la República Eslovaca\nEntrega del Premio Daphne Caruana Galizia de Periodismo
URL:https://linagalvez.eu/agenda/pleno-del-parlamento-europeo-2-2-2-2-2-2-2-6-2-3-3-2/
CATEGORIES:Actualidad,Destacado,FEMM,Parlamento
ATTACH;FMTTYPE=image/jpeg:https://linagalvez.eu/wp-content/uploads/2020/03/European_Parliament_Strasbourg_Hemicycle_-_Diliff-2-scaled.jpg
END:VEVENT
BEGIN:VEVENT
DTSTART;TZID=Europe/Madrid:20221019T120000
DTEND;TZID=Europe/Madrid:20221019T123000
DTSTAMP:20260425T232733
CREATED:20220607T202459Z
LAST-MODIFIED:20221017T114659Z
UID:6334-1666180800-1666182600@linagalvez.eu
SUMMARY:Reunión con la Misión del Reino Unido para la Unión Europea\,
DESCRIPTION:La eurodiputada Lina Gálvez mantendrá una reunión con un representante de la Misión del Reino Unido para la Unión Europea\, reunión en la que se abordará la posible asociación del Reino Unido a los programas de innovación de la UE.
URL:https://linagalvez.eu/agenda/reunion-con-representantes-del-sector-espanol-de-la-microelectronica-madrid-2-2-2/
CATEGORIES:Actualidad,ITRE,Parlamento,S&D,STOA
ATTACH;FMTTYPE=image/jpeg:https://linagalvez.eu/wp-content/uploads/2020/07/Calendario2.jpg
END:VEVENT
BEGIN:VEVENT
DTSTART;TZID=Europe/Madrid:20221019T160000
DTEND;TZID=Europe/Madrid:20221019T170000
DTSTAMP:20260425T232734
CREATED:20200111T151627Z
LAST-MODIFIED:20250221T133143Z
UID:6074-1666195200-1666198800@linagalvez.eu
SUMMARY:Reunión de la Delegación USA
DESCRIPTION:La Comisión de relaciones con EEUU en colaboración con la Comisión Especial sobre la injerencia extranjera en procesos democráticos organiza una sesión que contará con presencia del Embajador Daniel Fried.
URL:https://linagalvez.eu/agenda/reunion-de-la-delegacion-usa-2-2-2-2-2-3/
CATEGORIES:Actualidad,D-US,Destacado,Parlamento
ATTACH;FMTTYPE=image/jpeg:https://linagalvez.eu/wp-content/uploads/banderas-eu-es-cruzadas_img_77744_pca-freepik.jpg
END:VEVENT
END:VCALENDAR