BEGIN:VCALENDAR
VERSION:2.0
PRODID:-//Lina Gálvez - ECPv6.15.20//NONSGML v1.0//EN
CALSCALE:GREGORIAN
METHOD:PUBLISH
X-ORIGINAL-URL:https://linagalvez.eu
X-WR-CALDESC:Eventos para Lina Gálvez
REFRESH-INTERVAL;VALUE=DURATION:PT1H
X-Robots-Tag:noindex
X-PUBLISHED-TTL:PT1H
BEGIN:VTIMEZONE
TZID:Europe/Madrid
BEGIN:DAYLIGHT
TZOFFSETFROM:+0100
TZOFFSETTO:+0200
TZNAME:CEST
DTSTART:20210328T010000
END:DAYLIGHT
BEGIN:STANDARD
TZOFFSETFROM:+0200
TZOFFSETTO:+0100
TZNAME:CET
DTSTART:20211031T010000
END:STANDARD
BEGIN:DAYLIGHT
TZOFFSETFROM:+0100
TZOFFSETTO:+0200
TZNAME:CEST
DTSTART:20220327T010000
END:DAYLIGHT
BEGIN:STANDARD
TZOFFSETFROM:+0200
TZOFFSETTO:+0100
TZNAME:CET
DTSTART:20221030T010000
END:STANDARD
BEGIN:DAYLIGHT
TZOFFSETFROM:+0100
TZOFFSETTO:+0200
TZNAME:CEST
DTSTART:20230326T010000
END:DAYLIGHT
BEGIN:STANDARD
TZOFFSETFROM:+0200
TZOFFSETTO:+0100
TZNAME:CET
DTSTART:20231029T010000
END:STANDARD
END:VTIMEZONE
BEGIN:VEVENT
DTSTART;TZID=Europe/Madrid:20221024T112000
DTEND;TZID=Europe/Madrid:20221024T120000
DTSTAMP:20260425T232733
CREATED:20221024T082145Z
LAST-MODIFIED:20231115T153710Z
UID:6359-1666610400-1666612800@linagalvez.eu
SUMMARY:Participación en la Time Use Week.
DESCRIPTION:La eurodiputada Lina Gálvez intervendrá virtualmente en la nueva edición de la Time Use Week\, que organiza la ciudad de Barcelona\, aborda la temática de tiempo\, desigualdades y derechos. Lina Gálvez expondrá las conclusiones del informe del que ha sido ponente sobre la pobreza de las mujeres en Europa. \nMás información Aquí
URL:https://linagalvez.eu/agenda/participacion-en-la-time-use-week/
CATEGORIES:Actualidad,FEMM,Parlamento,Transiciones justas,Universidad
ATTACH;FMTTYPE=image/jpeg:https://linagalvez.eu/wp-content/uploads/2022/01/Lina-Galvez-Streaming.jpg
END:VEVENT
BEGIN:VEVENT
DTSTART;TZID=Europe/Madrid:20221024T160000
DTEND;TZID=Europe/Madrid:20221024T170000
DTSTAMP:20260425T232733
CREATED:20221024T082641Z
LAST-MODIFIED:20221024T083337Z
UID:6362-1666627200-1666630800@linagalvez.eu
SUMMARY:Semana Europea de la Igualdad\, encuentro con parlamentarias andaluzas
DESCRIPTION:En el marco de la Semana Europea de la Igualdad\, un grupo de parlamentarias andaluzas se desplaza a Bruselas por invitación de la eurodiputada  Lina Gálvez\, para participar en los distintos eventos programados. En la tarde del lunes se mantendrá un encuentro con ellas para discutir los retos que Andalucía afronta y el papel que la UE puede jugar en el abordaje de los mismos.
URL:https://linagalvez.eu/agenda/semana-europea-de-la-igualdad-encuentro-con-parlamentarias-andaluzas/
ATTACH;FMTTYPE=image/jpeg:https://linagalvez.eu/wp-content/uploads/2022/10/Flags_of_Europe_Andalusia_and_Spain-scaled.jpg
END:VEVENT
BEGIN:VEVENT
DTSTART;TZID=Europe/Madrid:20221024T180000
DTEND;TZID=Europe/Madrid:20221024T190000
DTSTAMP:20260425T232733
CREATED:20221024T084019Z
LAST-MODIFIED:20231128T055916Z
UID:6369-1666634400-1666638000@linagalvez.eu
SUMMARY:Encuentro con representantes de la Universidad de Granada
DESCRIPTION:La eurodiputada Lina Gálvez se reunirá con una representación de la Universidad de Granada\, encabezado por la Vicerrectora de Internacionalización y coordinadora de la alianza Arqus.\nEn la reunión se centrará en las estrategias que se pueden poner en marcha para fomentar una mayor cooperación entre universidades europeas\, en particular las pertenecientes a la Alianza Arqus.
URL:https://linagalvez.eu/agenda/encuentro-con-representantes-de-la-universidad-de-granada/
CATEGORIES:Andalucía,Andalucía eje central,ITRE,Parlamento,STOA,Universidad
ATTACH;FMTTYPE=image/jpeg:https://linagalvez.eu/wp-content/uploads/2021/02/Pleno-en-Bruselas.jpg
END:VEVENT
END:VCALENDAR