BEGIN:VCALENDAR
VERSION:2.0
PRODID:-//Lina Gálvez - ECPv6.15.20//NONSGML v1.0//EN
CALSCALE:GREGORIAN
METHOD:PUBLISH
X-WR-CALNAME:Lina Gálvez
X-ORIGINAL-URL:https://linagalvez.eu
X-WR-CALDESC:Eventos para Lina Gálvez
REFRESH-INTERVAL;VALUE=DURATION:PT1H
X-Robots-Tag:noindex
X-PUBLISHED-TTL:PT1H
BEGIN:VTIMEZONE
TZID:Europe/Madrid
BEGIN:DAYLIGHT
TZOFFSETFROM:+0100
TZOFFSETTO:+0200
TZNAME:CEST
DTSTART:20210328T010000
END:DAYLIGHT
BEGIN:STANDARD
TZOFFSETFROM:+0200
TZOFFSETTO:+0100
TZNAME:CET
DTSTART:20211031T010000
END:STANDARD
BEGIN:DAYLIGHT
TZOFFSETFROM:+0100
TZOFFSETTO:+0200
TZNAME:CEST
DTSTART:20220327T010000
END:DAYLIGHT
BEGIN:STANDARD
TZOFFSETFROM:+0200
TZOFFSETTO:+0100
TZNAME:CET
DTSTART:20221030T010000
END:STANDARD
BEGIN:DAYLIGHT
TZOFFSETFROM:+0100
TZOFFSETTO:+0200
TZNAME:CEST
DTSTART:20230326T010000
END:DAYLIGHT
BEGIN:STANDARD
TZOFFSETFROM:+0200
TZOFFSETTO:+0100
TZNAME:CET
DTSTART:20231029T010000
END:STANDARD
END:VTIMEZONE
BEGIN:VEVENT
DTSTART;TZID=Europe/Madrid:20221104T080000
DTEND;TZID=Europe/Madrid:20221108T170000
DTSTAMP:20260425T194656
CREATED:20210205T102540Z
LAST-MODIFIED:20220905T102411Z
UID:6149-1667548800-1667926800@linagalvez.eu
SUMMARY:External parliamentary activities. Week.
DESCRIPTION:Durante las semanas verdes\,  l@s eurodiputad@s desarrollan actividades fuera del Parlamento Europeo. Trabajan en sus circunscripciones para tener la oportunidad de estar en contacto con las personas electoras\, o en las delegaciones del Parlamento para mantener relaciones con los países ajenos a la UE.\nLa eurodiputada Lina Gálvez mantendrá durante la semana diversos encuentros informales con distintas autoridades\, asociaciones y profesionales.\n\nMás Información 
URL:https://linagalvez.eu/agenda/external-parliamentary-activities-week-2-6-2-2-2/
CATEGORIES:Actualidad,Parlamento
ATTACH;FMTTYPE=image/jpeg:https://linagalvez.eu/wp-content/uploads/2020/07/Calendario2.jpg
END:VEVENT
BEGIN:VEVENT
DTSTART;TZID=Europe/Madrid:20221108T090000
DTEND;TZID=Europe/Madrid:20221108T100000
DTSTAMP:20260425T194656
CREATED:20210412T080804Z
LAST-MODIFIED:20221107T171918Z
UID:6423-1667898000-1667901600@linagalvez.eu
SUMMARY:S&D ITRE Working Group meeting
DESCRIPTION:Grupo de trabajo S&D ITRE en el que se tratarán los temas que se debatirán en el siguiente Pleno y Comisiones y entre otros asuntos: \n\nEntre otros expedientes REPowerEU.
URL:https://linagalvez.eu/agenda/sd-itre-working-group-meeting-2-4-2-3-3-2-2-2-4-2/
CATEGORIES:Actualidad,ITRE,S&D
ATTACH;FMTTYPE=image/jpeg:https://linagalvez.eu/wp-content/uploads/2020/11/SD-WG-ITRE.jpg
END:VEVENT
BEGIN:VEVENT
DTSTART;TZID=Europe/Madrid:20221108T090000
DTEND;TZID=Europe/Madrid:20221108T100000
DTSTAMP:20260425T194656
CREATED:20210927T104830Z
LAST-MODIFIED:20221107T172504Z
UID:6425-1667898000-1667901600@linagalvez.eu
SUMMARY:Reunión interna de la Comisión FEMM
DESCRIPTION:Reunión interna de trabajo y coordinación del comité de FEMM Se discutirá sobre  la reforma de los tratados. La eurodiputada Lina Gálvez es la ponente en la sombra de este informe.
URL:https://linagalvez.eu/agenda/joint-meeting-committee-on-employment-and-social-affairs-committee-on-womens-rights-and-gender-equality-2-3-2-3-2-2-2-2-4-2-2/
CATEGORIES:FEMM,Parlamento
ATTACH;FMTTYPE=image/jpeg:https://linagalvez.eu/wp-content/uploads/2021/12/20211208_EP-123402A_PB7_097-1-scaled.jpg
END:VEVENT
BEGIN:VEVENT
DTSTART;TZID=Europe/Madrid:20221108T160000
DTEND;TZID=Europe/Madrid:20221108T170000
DTSTAMP:20260425T194656
CREATED:20221107T172715Z
LAST-MODIFIED:20221107T172747Z
UID:6427-1667923200-1667926800@linagalvez.eu
SUMMARY:Reunión con la científica Maria Cristina Russo
DESCRIPTION:María Cristina Russo es Directora de Enfoque Global y Asociaciones Internacionales en la Dirección General de Investigación e Innovación de la Comisión Europea.
URL:https://linagalvez.eu/agenda/reunion-con-la-cientifica-maria-cristina-russo/
CATEGORIES:FEMM,ITRE,Parlamento,STOA
ATTACH;FMTTYPE=image/jpeg:https://linagalvez.eu/wp-content/uploads/2020/07/Calendario2.jpg
END:VEVENT
BEGIN:VEVENT
DTSTART;TZID=Europe/Madrid:20221108T173000
DTEND;TZID=Europe/Madrid:20221108T183000
DTSTAMP:20260425T194656
CREATED:20221107T173132Z
LAST-MODIFIED:20221107T174000Z
UID:6429-1667928600-1667932200@linagalvez.eu
SUMMARY:Entrevista como experta para un proyecto de investigación realizado en la Universidad de Varsovia sobre la lucha contra la pobreza
DESCRIPTION:Lina Gálvez  participará en una entrevista online con Małgorzata Gawrońska\, investigadora de la Universidad de Varsovia\, sobre el uso de indicadores de pobreza en el desarrollo e implementación de la política de lucha contra la pobreza en la Unión Europea.
URL:https://linagalvez.eu/agenda/entrevista-como-experta-para-un-proyecto-de-investigacion-realizado-en-la-universidad-de-varsovia-sobre-la-lucha-contra-la-pobreza/
CATEGORIES:Destacado,EMPL,FEMM
ATTACH;FMTTYPE=image/jpeg:https://linagalvez.eu/wp-content/uploads/2022/10/Lina-Galvez-Jornadas-PE.jpg
END:VEVENT
END:VCALENDAR