BEGIN:VCALENDAR
VERSION:2.0
PRODID:-//Lina Gálvez - ECPv6.15.20//NONSGML v1.0//EN
CALSCALE:GREGORIAN
METHOD:PUBLISH
X-WR-CALNAME:Lina Gálvez
X-ORIGINAL-URL:https://linagalvez.eu
X-WR-CALDESC:Eventos para Lina Gálvez
REFRESH-INTERVAL;VALUE=DURATION:PT1H
X-Robots-Tag:noindex
X-PUBLISHED-TTL:PT1H
BEGIN:VTIMEZONE
TZID:Europe/Madrid
BEGIN:DAYLIGHT
TZOFFSETFROM:+0100
TZOFFSETTO:+0200
TZNAME:CEST
DTSTART:20210328T010000
END:DAYLIGHT
BEGIN:STANDARD
TZOFFSETFROM:+0200
TZOFFSETTO:+0100
TZNAME:CET
DTSTART:20211031T010000
END:STANDARD
BEGIN:DAYLIGHT
TZOFFSETFROM:+0100
TZOFFSETTO:+0200
TZNAME:CEST
DTSTART:20220327T010000
END:DAYLIGHT
BEGIN:STANDARD
TZOFFSETFROM:+0200
TZOFFSETTO:+0100
TZNAME:CET
DTSTART:20221030T010000
END:STANDARD
BEGIN:DAYLIGHT
TZOFFSETFROM:+0100
TZOFFSETTO:+0200
TZNAME:CEST
DTSTART:20230326T010000
END:DAYLIGHT
BEGIN:STANDARD
TZOFFSETFROM:+0200
TZOFFSETTO:+0100
TZNAME:CET
DTSTART:20231029T010000
END:STANDARD
END:VTIMEZONE
BEGIN:VEVENT
DTSTART;TZID=Europe/Madrid:20221109T103000
DTEND;TZID=Europe/Madrid:20221109T130000
DTSTAMP:20260425T194727
CREATED:20211108T110030Z
LAST-MODIFIED:20221107T173529Z
UID:6303-1667989800-1667998800@linagalvez.eu
SUMMARY:S&D Group Meeting
DESCRIPTION:Reunión en formato híbrido del Grupo S&amp;D preparatoria para el mini pleno de Bruselas del 10 de noviembre.
URL:https://linagalvez.eu/agenda/sd-group-meeting-23-3-2-2-4-2-3-3-5-2-2-2-2-2-2-2-3-3-2-3-2-3-5-3/
CATEGORIES:Actualidad,Parlamento,S&D
ATTACH;FMTTYPE=image/png:https://linagalvez.eu/wp-content/uploads/2020/01/1-S&D.svg.png
END:VEVENT
BEGIN:VEVENT
DTSTART;TZID=Europe/Madrid:20221109T103000
DTEND;TZID=Europe/Madrid:20221109T180000
DTSTAMP:20260425T194728
CREATED:20210611T142459Z
LAST-MODIFIED:20221108T092316Z
UID:6433-1667989800-1668016800@linagalvez.eu
SUMMARY:Reunión de la comisión especial sobre el COVID-19
DESCRIPTION:La eurodiputada Lina Gálvez forma parte de la nueva comisión especial sobre «el COVID-19 y las lecciones aprendidas y recomendaciones de futuro». \n\n\n\n\n\n\n\n\n\n\n\n\n\nSitio web del Comité Especial sobre la pandemia de COVID-19: lecciones aprendidas y recomendaciones para el futuro\n\n\n\nPodrá ser seguida en directo AquÍ
URL:https://linagalvez.eu/agenda/reunion-de-la-comision-especial-covid-19-2-2-2-2-2-2/
CATEGORIES:Actualidad,Destacado,Parlamento
ATTACH;FMTTYPE=image/jpeg:https://linagalvez.eu/wp-content/uploads/2022/03/autonomia-estrategica_UE.jpg
END:VEVENT
BEGIN:VEVENT
DTSTART;TZID=Europe/Madrid:20221109T170000
DTEND;TZID=Europe/Madrid:20221110T190000
DTSTAMP:20260425T194728
CREATED:20210211T164450Z
LAST-MODIFIED:20221109T124509Z
UID:6419-1668013200-1668106800@linagalvez.eu
SUMMARY:Pleno del Parlamento Europeo en Bruselas
DESCRIPTION:En el Pleno del Parlamento Europeo que se celebra esta semana en Bruselas se debatirán\, entre otros temas\, los siguientes: \n\nRePowerEU: medidas energéticas\nCiberseguridad\nTransporte de mercancías desde Ucrania y Moldavia\nVideojuegos\nAntirracismo\n\nPodrá seguirse en el siguiente enlace: https://europarl.europa.eu/plenary/es/home.html
URL:https://linagalvez.eu/agenda/pleno-del-parlamento-europeo-2-2-2-2-2-2-2-4-3-2-2-2-3-2-2/
CATEGORIES:Actualidad,Destacado,Parlamento
ATTACH;FMTTYPE=image/jpeg:https://linagalvez.eu/wp-content/uploads/2021/02/Pleno-en-Bruselas.jpg
END:VEVENT
END:VCALENDAR