BEGIN:VCALENDAR
VERSION:2.0
PRODID:-//Lina Gálvez - ECPv6.15.20//NONSGML v1.0//EN
CALSCALE:GREGORIAN
METHOD:PUBLISH
X-WR-CALNAME:Lina Gálvez
X-ORIGINAL-URL:https://linagalvez.eu
X-WR-CALDESC:Eventos para Lina Gálvez
REFRESH-INTERVAL;VALUE=DURATION:PT1H
X-Robots-Tag:noindex
X-PUBLISHED-TTL:PT1H
BEGIN:VTIMEZONE
TZID:Europe/Madrid
BEGIN:DAYLIGHT
TZOFFSETFROM:+0100
TZOFFSETTO:+0200
TZNAME:CEST
DTSTART:20210328T010000
END:DAYLIGHT
BEGIN:STANDARD
TZOFFSETFROM:+0200
TZOFFSETTO:+0100
TZNAME:CET
DTSTART:20211031T010000
END:STANDARD
BEGIN:DAYLIGHT
TZOFFSETFROM:+0100
TZOFFSETTO:+0200
TZNAME:CEST
DTSTART:20220327T010000
END:DAYLIGHT
BEGIN:STANDARD
TZOFFSETFROM:+0200
TZOFFSETTO:+0100
TZNAME:CET
DTSTART:20221030T010000
END:STANDARD
BEGIN:DAYLIGHT
TZOFFSETFROM:+0100
TZOFFSETTO:+0200
TZNAME:CEST
DTSTART:20230326T010000
END:DAYLIGHT
BEGIN:STANDARD
TZOFFSETFROM:+0200
TZOFFSETTO:+0100
TZNAME:CET
DTSTART:20231029T010000
END:STANDARD
END:VTIMEZONE
BEGIN:VEVENT
DTSTART;TZID=Europe/Madrid:20221109T170000
DTEND;TZID=Europe/Madrid:20221110T190000
DTSTAMP:20260425T194653
CREATED:20210211T164450Z
LAST-MODIFIED:20221109T124509Z
UID:6419-1668013200-1668106800@linagalvez.eu
SUMMARY:Pleno del Parlamento Europeo en Bruselas
DESCRIPTION:En el Pleno del Parlamento Europeo que se celebra esta semana en Bruselas se debatirán\, entre otros temas\, los siguientes: \n\nRePowerEU: medidas energéticas\nCiberseguridad\nTransporte de mercancías desde Ucrania y Moldavia\nVideojuegos\nAntirracismo\n\nPodrá seguirse en el siguiente enlace: https://europarl.europa.eu/plenary/es/home.html
URL:https://linagalvez.eu/agenda/pleno-del-parlamento-europeo-2-2-2-2-2-2-2-4-3-2-2-2-3-2-2/
CATEGORIES:Actualidad,Destacado,Parlamento
ATTACH;FMTTYPE=image/jpeg:https://linagalvez.eu/wp-content/uploads/2021/02/Pleno-en-Bruselas.jpg
END:VEVENT
BEGIN:VEVENT
DTSTART;TZID=Europe/Madrid:20221110T120000
DTEND;TZID=Europe/Madrid:20221110T130000
DTSTAMP:20260425T194653
CREATED:20221108T092937Z
LAST-MODIFIED:20221108T092937Z
UID:6435-1668081600-1668085200@linagalvez.eu
SUMMARY:Reunión con representantes de STOA Actividad de Prospectiva Científica
DESCRIPTION:Reunión con representantes de STOA Actividad de Prospectiva Científica para el Panel sobre el Futuro de la Ciencia y de la Unidad de Prospectiva Estratégica (SFOR) de Parlamento Europeo.\nSTOA Scientific Foresight Activity for the Panel on the Future of Science and Technology con the Strategic Foresight (SFOR) Unit.
URL:https://linagalvez.eu/agenda/reunion-con-representantes-de-stoa-actividad-de-prospectiva-cientifica/
CATEGORIES:ITRE,STOA
ATTACH;FMTTYPE=image/jpeg:https://linagalvez.eu/wp-content/uploads/2020/07/Calendario2.jpg
END:VEVENT
BEGIN:VEVENT
DTSTART;TZID=Europe/Madrid:20221110T143000
DTEND;TZID=Europe/Madrid:20221110T153000
DTSTAMP:20260425T194653
CREATED:20221108T093610Z
LAST-MODIFIED:20221108T093914Z
UID:6437-1668090600-1668094200@linagalvez.eu
SUMMARY:Participación en el debate "Las mujeres en la pobreza"
DESCRIPTION:El Comité Económico y Social Europeo ( CESE) organiza un debate sobre;Las mujeres en la pobreza energética\,  en el marco de la RTE (Sección de Transportes\, Energía\, Infraestructuras y Sociedad de la Información) en el que participará la eurodiputada Lina Gálvez.
URL:https://linagalvez.eu/agenda/debate-las-mujeres-en-la-pobreza/
CATEGORIES:FEMM,ITRE,Parlamento
ATTACH;FMTTYPE=image/jpeg:https://linagalvez.eu/wp-content/uploads/2021/12/20211208_EP-123402A_PB7_097-scaled.jpg
END:VEVENT
END:VCALENDAR