BEGIN:VCALENDAR
VERSION:2.0
PRODID:-//Lina Gálvez - ECPv6.15.20//NONSGML v1.0//EN
CALSCALE:GREGORIAN
METHOD:PUBLISH
X-ORIGINAL-URL:https://linagalvez.eu
X-WR-CALDESC:Eventos para Lina Gálvez
REFRESH-INTERVAL;VALUE=DURATION:PT1H
X-Robots-Tag:noindex
X-PUBLISHED-TTL:PT1H
BEGIN:VTIMEZONE
TZID:Europe/Madrid
BEGIN:DAYLIGHT
TZOFFSETFROM:+0100
TZOFFSETTO:+0200
TZNAME:CEST
DTSTART:20210328T010000
END:DAYLIGHT
BEGIN:STANDARD
TZOFFSETFROM:+0200
TZOFFSETTO:+0100
TZNAME:CET
DTSTART:20211031T010000
END:STANDARD
BEGIN:DAYLIGHT
TZOFFSETFROM:+0100
TZOFFSETTO:+0200
TZNAME:CEST
DTSTART:20220327T010000
END:DAYLIGHT
BEGIN:STANDARD
TZOFFSETFROM:+0200
TZOFFSETTO:+0100
TZNAME:CET
DTSTART:20221030T010000
END:STANDARD
BEGIN:DAYLIGHT
TZOFFSETFROM:+0100
TZOFFSETTO:+0200
TZNAME:CEST
DTSTART:20230326T010000
END:DAYLIGHT
BEGIN:STANDARD
TZOFFSETFROM:+0200
TZOFFSETTO:+0100
TZNAME:CET
DTSTART:20231029T010000
END:STANDARD
END:VTIMEZONE
BEGIN:VEVENT
DTSTART;TZID=Europe/Madrid:20221115T103000
DTEND;TZID=Europe/Madrid:20221115T113000
DTSTAMP:20260425T194826
CREATED:20211108T110030Z
LAST-MODIFIED:20221114T123522Z
UID:6464-1668508200-1668511800@linagalvez.eu
SUMMARY:S&D Group Meeting
DESCRIPTION:La eurodiputada Lina Gálvez participará en el grupo de trabajo de Acción Exterior del Grupo S&D que contará con la presencia del Alto Representante Josep Borrell y que abordará el estado actual de las relaciones EU-China.
URL:https://linagalvez.eu/agenda/sd-group-meeting-23-3-2-2-4-2-3-3-5-2-2-2-2-2-2-2-3-3-2-3-2-3-5-3-2/
CATEGORIES:Actualidad,Parlamento,S&D
ATTACH;FMTTYPE=image/png:https://linagalvez.eu/wp-content/uploads/2020/01/1-S&D.svg.png
END:VEVENT
BEGIN:VEVENT
DTSTART;TZID=Europe/Madrid:20221115T113000
DTEND;TZID=Europe/Madrid:20221115T123000
DTSTAMP:20260425T194826
CREATED:20211108T110030Z
LAST-MODIFIED:20221114T123757Z
UID:6466-1668511800-1668515400@linagalvez.eu
SUMMARY:S&D Group Meeting
DESCRIPTION:La eurodiputada Lina Gálvez participará en el grupo de trabajo interno que aborda el aspecto presupuestario de la propuesta “Bring the Bills Down” que tiene como objetivo atajar el impacto social de la actual crisis energética.
URL:https://linagalvez.eu/agenda/sd-group-meeting-23-3-2-2-4-2-3-3-5-2-2-2-2-2-2-2-3-3-2-3-2-3-5-3-2-2/
CATEGORIES:Actualidad,Parlamento,S&D
ATTACH;FMTTYPE=image/png:https://linagalvez.eu/wp-content/uploads/2020/01/1-S&D.svg.png
END:VEVENT
BEGIN:VEVENT
DTSTART;TZID=Europe/Madrid:20221115T123000
DTEND;TZID=Europe/Madrid:20221115T140000
DTSTAMP:20260425T194826
CREATED:20210301T093643Z
LAST-MODIFIED:20250210T090037Z
UID:6468-1668515400-1668520800@linagalvez.eu
SUMMARY:S&D Reunión de la Delegación Socialista Española
DESCRIPTION:Reunión interna de trabajo para coordinar la actividad legislativa del Pleno del Parlamento Europeo.
URL:https://linagalvez.eu/agenda/sd-reunion-de-la-delegacion-socialista-espanola-11-2-2-2-2-2-2-2-2-4-3-2-2-2-2-2-2-2-2/
CATEGORIES:Destacado,Parlamento,S&D
ATTACH;FMTTYPE=image/jpeg:https://linagalvez.eu/wp-content/uploads/2021/03/WhatsApp-Image-2022-07-11-at-12.02.33-PM.jpeg
END:VEVENT
BEGIN:VEVENT
DTSTART;TZID=Europe/Madrid:20221115T140000
DTEND;TZID=Europe/Madrid:20221115T151500
DTSTAMP:20260425T194826
CREATED:20210927T094856Z
LAST-MODIFIED:20221114T124903Z
UID:6195-1668520800-1668525300@linagalvez.eu
SUMMARY:Grupo de trabajo S&D ITRE
DESCRIPTION:Reunión del grupo de trabajo S&D de la Comisión de Industria\, Investigación y Energía en la que se abordará junto a representantes de la Comisión Europea los aspectos financieros relativos a la Directiva de Eficiencia Energética de Edificios.
URL:https://linagalvez.eu/agenda/encuentro-con-la-embajadora-espanola-en-malta-external-group-meeting-2-5-2/
CATEGORIES:ITRE,S&D
ATTACH;FMTTYPE=image/jpeg:https://linagalvez.eu/wp-content/uploads/2022/10/Lina-Galvez_TimeUseWeek2002.jpg
END:VEVENT
BEGIN:VEVENT
DTSTART;TZID=Europe/Madrid:20221115T163000
DTEND;TZID=Europe/Madrid:20221115T173000
DTSTAMP:20260425T194826
CREATED:20221114T124541Z
LAST-MODIFIED:20221114T124541Z
UID:6470-1668529800-1668533400@linagalvez.eu
SUMMARY:Reunión con el Presidente de Canarias\, Ángel Víctor Torres Pérez.
DESCRIPTION:
URL:https://linagalvez.eu/agenda/reunion-con-el-presidente-de-canarias-angel-victor-torres-perez/
CATEGORIES:Actualidad,Parlamento,S&D
ATTACH;FMTTYPE=image/jpeg:https://linagalvez.eu/wp-content/uploads/2020/07/Calendario2.jpg
END:VEVENT
BEGIN:VEVENT
DTSTART;TZID=Europe/Madrid:20221115T183000
DTEND;TZID=Europe/Madrid:20221115T210000
DTSTAMP:20260425T194826
CREATED:20221114T125511Z
LAST-MODIFIED:20221114T125511Z
UID:6473-1668537000-1668546000@linagalvez.eu
SUMMARY:Evento Science Business
DESCRIPTION:La eurodiputada Lina Gálvez intervendrá en un evento organizado por la organización Science Business en la que se abordarán la capacidad transformadora políticas de innovación de la UE.
URL:https://linagalvez.eu/agenda/evento-science-business/
CATEGORIES:Actualidad,ITRE,Parlamento
ATTACH;FMTTYPE=image/jpeg:https://linagalvez.eu/wp-content/uploads/2022/02/LGM_tecnologiaydigitalizacion.jpg
END:VEVENT
END:VCALENDAR