BEGIN:VCALENDAR
VERSION:2.0
PRODID:-//Lina Gálvez - ECPv6.15.20//NONSGML v1.0//EN
CALSCALE:GREGORIAN
METHOD:PUBLISH
X-WR-CALNAME:Lina Gálvez
X-ORIGINAL-URL:https://linagalvez.eu
X-WR-CALDESC:Eventos para Lina Gálvez
REFRESH-INTERVAL;VALUE=DURATION:PT1H
X-Robots-Tag:noindex
X-PUBLISHED-TTL:PT1H
BEGIN:VTIMEZONE
TZID:Europe/Madrid
BEGIN:DAYLIGHT
TZOFFSETFROM:+0100
TZOFFSETTO:+0200
TZNAME:CEST
DTSTART:20210328T010000
END:DAYLIGHT
BEGIN:STANDARD
TZOFFSETFROM:+0200
TZOFFSETTO:+0100
TZNAME:CET
DTSTART:20211031T010000
END:STANDARD
BEGIN:DAYLIGHT
TZOFFSETFROM:+0100
TZOFFSETTO:+0200
TZNAME:CEST
DTSTART:20220327T010000
END:DAYLIGHT
BEGIN:STANDARD
TZOFFSETFROM:+0200
TZOFFSETTO:+0100
TZNAME:CET
DTSTART:20221030T010000
END:STANDARD
BEGIN:DAYLIGHT
TZOFFSETFROM:+0100
TZOFFSETTO:+0200
TZNAME:CEST
DTSTART:20230326T010000
END:DAYLIGHT
BEGIN:STANDARD
TZOFFSETFROM:+0200
TZOFFSETTO:+0100
TZNAME:CET
DTSTART:20231029T010000
END:STANDARD
END:VTIMEZONE
BEGIN:VEVENT
DTSTART;TZID=Europe/Madrid:20221121T170000
DTEND;TZID=Europe/Madrid:20221124T183000
DTSTAMP:20260425T194653
CREATED:20210211T164450Z
LAST-MODIFIED:20221121T091131Z
UID:6134-1669050000-1669314600@linagalvez.eu
SUMMARY:Pleno del Parlamento Europeo en Estrasburgo
DESCRIPTION:Destacados del pleno. Estrasburgo \n\nA punto de aprobarse la Directiva “Mujeres en los Consejos” para impulsar el equilibrio de género en las empresas\nViolencia de género #25N\nVotación sobre la resolución que declara a Rusia un estado patrocinador del terrorismo\nUcrania: votación sobre préstamo de 18.000 millones de euros para 2023 y debate sobre exportación de cereales y fertilizantes\nIrán: Debate sobre la respuesta de la UE a la creciente represión de las protestas\, con Josep Borrell\nDebate clave: La necesidad de una solución europea en materia de asilo y migración\, incluida la búsqueda y el rescate\nEstado de derecho: debate y votación sobre la protección del presupuesto de la UE en Hungría\nDebate sobre la Copa Mundial de la FIFA 2022 y la situación de los Derechos Humanos en Qatar\nNuevas normas para proteger mejor las infraestructuras esenciales de la UE: votación final\nPresupuesto de la UE para 2023: debate y votación tras acuerdo de conciliación\nCeremonia para conmemorar el 70 aniversario del Parlamento\, con discursos del presidente Metsola y los primeros ministros de Francia\, Bélgica y Luxemburgo
URL:https://linagalvez.eu/agenda/pleno-del-parlamento-europeo-2-2-2-2-2-2-2-6-2-3-3-3-2/
CATEGORIES:Actualidad,Destacado,FEMM,Parlamento
ATTACH;FMTTYPE=image/jpeg:https://linagalvez.eu/wp-content/uploads/2020/03/European_Parliament_Strasbourg_Hemicycle_-_Diliff-2-scaled.jpg
END:VEVENT
BEGIN:VEVENT
DTSTART;TZID=Europe/Madrid:20221124T090000
DTEND;TZID=Europe/Madrid:20221124T100000
DTSTAMP:20260425T194653
CREATED:20210117T173806Z
LAST-MODIFIED:20221122T160405Z
UID:6510-1669280400-1669284000@linagalvez.eu
SUMMARY:Intervención en Pleno sobre el Programa "Década Digital Europa"
DESCRIPTION:La eurodiputada Lina Gálvez intervendrá en el plenario en el punto dedicado al Programa de la Década Digital de Europa: metas digitales para 2030 que establece una serie de hitos y objetivos para acelerar la transición digital en Europa.
URL:https://linagalvez.eu/agenda/intervencion-en-pleno-debate-sobre-la-situacion-en-eeuu-tras-los-disturbios-en-el-capitolio-2-2/
CATEGORIES:Actualidad,ITRE,Parlamento,STOA
ATTACH;FMTTYPE=image/jpeg:https://linagalvez.eu/wp-content/uploads/2022/07/Lina-Galvez_estrategia-antipobreza_2030.jpg
END:VEVENT
END:VCALENDAR