BEGIN:VCALENDAR
VERSION:2.0
PRODID:-//Lina Gálvez - ECPv6.15.20//NONSGML v1.0//EN
CALSCALE:GREGORIAN
METHOD:PUBLISH
X-WR-CALNAME:Lina Gálvez
X-ORIGINAL-URL:https://linagalvez.eu
X-WR-CALDESC:Eventos para Lina Gálvez
REFRESH-INTERVAL;VALUE=DURATION:PT1H
X-Robots-Tag:noindex
X-PUBLISHED-TTL:PT1H
BEGIN:VTIMEZONE
TZID:Europe/Madrid
BEGIN:DAYLIGHT
TZOFFSETFROM:+0100
TZOFFSETTO:+0200
TZNAME:CEST
DTSTART:20210328T010000
END:DAYLIGHT
BEGIN:STANDARD
TZOFFSETFROM:+0200
TZOFFSETTO:+0100
TZNAME:CET
DTSTART:20211031T010000
END:STANDARD
BEGIN:DAYLIGHT
TZOFFSETFROM:+0100
TZOFFSETTO:+0200
TZNAME:CEST
DTSTART:20220327T010000
END:DAYLIGHT
BEGIN:STANDARD
TZOFFSETFROM:+0200
TZOFFSETTO:+0100
TZNAME:CET
DTSTART:20221030T010000
END:STANDARD
BEGIN:DAYLIGHT
TZOFFSETFROM:+0100
TZOFFSETTO:+0200
TZNAME:CEST
DTSTART:20230326T010000
END:DAYLIGHT
BEGIN:STANDARD
TZOFFSETFROM:+0200
TZOFFSETTO:+0100
TZNAME:CET
DTSTART:20231029T010000
END:STANDARD
END:VTIMEZONE
BEGIN:VEVENT
DTSTART;TZID=Europe/Madrid:20221129T100000
DTEND;TZID=Europe/Madrid:20221129T113000
DTSTAMP:20260425T180521
CREATED:20210611T142459Z
LAST-MODIFIED:20221127T222918Z
UID:6409-1669716000-1669721400@linagalvez.eu
SUMMARY:Reunión de la Comisión de Industria\, Investigación y Energía (ITRE)
DESCRIPTION:La Eurodiputada Lina Gálvez forma parte de la Comisión de Industria\, Investigación y Energía\, conocida por las siglas ITRE\, es Vicepresidenta de la misma desde 2019. La próxima reunión del Comité ITRE será presencial y tendrá lugar el miércoles 29 de noviembre de 2022\, 9:00 – 12:o0 \nReunión de la Comisión se discutirá la revisión de la Directiva de Eficiencia Energética\, el Programa de Conectividad Segura de la Unión y la nueva Directiva de Energías Renovables entre otros asuntos.\,
URL:https://linagalvez.eu/agenda/reunion-de-la-comision-de-industria-investigacion-y-energia-itre-17-2-2-2-2-2-2-3-2-2-2-2-2-2-6-3-3/
CATEGORIES:Destacado,ITRE,Parlamento
ATTACH;FMTTYPE=image/jpeg:https://linagalvez.eu/wp-content/uploads/2021/06/ITRE_170621.jpg
END:VEVENT
BEGIN:VEVENT
DTSTART;TZID=Europe/Madrid:20221129T113000
DTEND;TZID=Europe/Madrid:20221129T123000
DTSTAMP:20260425T180521
CREATED:20210927T104830Z
LAST-MODIFIED:20221128T100030Z
UID:6529-1669721400-1669725000@linagalvez.eu
SUMMARY:Reunión de la Comisión de Derechos de las Mujeres e Igualdad de Género FEMM
DESCRIPTION:Reunión de la Comisión de Derechos de las Mujeres e Igualdad de Género en la que se abordarán los siguientes temas: \n\n\nVotación de la opinión de la Comisión sobre la propuesta de reforma de los Tratados de la que la eurodiputada Lina Gálvez es ponente.\n\n\n\n\n\nSitio web de la Comisión de Derechos de la Mujer e Igualdad de Género 
URL:https://linagalvez.eu/agenda/joint-meeting-committee-on-employment-and-social-affairs-committee-on-womens-rights-and-gender-equality-2-3-2-3-2-2-2-2-4-2-2-2-2/
CATEGORIES:Destacado,FEMM,Parlamento
ATTACH;FMTTYPE=image/png:https://linagalvez.eu/wp-content/uploads/2022/03/FEMM.png
END:VEVENT
BEGIN:VEVENT
DTSTART;TZID=Europe/Madrid:20221129T173000
DTEND;TZID=Europe/Madrid:20221129T180000
DTSTAMP:20260425T180521
CREATED:20221128T100914Z
LAST-MODIFIED:20231128T081605Z
UID:6531-1669743000-1669744800@linagalvez.eu
SUMMARY:Seminario sobre derechos neuronales en el Parlamento Europeo
DESCRIPTION:La eurodiputada Lina Gálvez será la anfitriona en el Parlamento Europeo del seminario NEURORIGHTS que estará enfocado a la necesidad de legislar sobre las derechos neuronales. Algunos fragmentos del documental “Theatre of Thought” serán analizados por científicos de reconocido prestigio\, así como representantes de instituciones europeas\, academia y sociedad civil. \nTras la proyección del documental\, se celebrará el debate sobre las implicaciones filosóficas\, éticas y sociales del rápido avance de la neurotecnología y sobre la posible inclusión de los neuroderechos en la Carta Europea de Derechos Humanos. \nFecha y lugar de celebración: \n\n29 de noviembre de 2022. 17.30 -20.00\nSPINELLI A3H1 – EUROPEAN PARLIAMENT\, BRUSSELS \n\nPonentes principales: \n\nRafael Yuste\, neurobiólogo (Universidad de Columbia)\nJared Genser\, abogado internacional de derechos humanos (Universidad de Columbia)\n\nEs necesaria confirmación en el siguiente email; marta.peirotrapero@europarl.europa.eu
URL:https://linagalvez.eu/agenda/seminario-sobre-derechos-neuronales-en-el-parlamento-europeo/
CATEGORIES:Actualidad,I+D+i,ITRE,S&D,STOA
ATTACH;FMTTYPE=application/pdf:https://linagalvez.eu/wp-content/uploads/2022/11/Neurorights_29Nov-1.pdf
END:VEVENT
END:VCALENDAR