BEGIN:VCALENDAR
VERSION:2.0
PRODID:-//Lina Gálvez - ECPv6.15.20//NONSGML v1.0//EN
CALSCALE:GREGORIAN
METHOD:PUBLISH
X-WR-CALNAME:Lina Gálvez
X-ORIGINAL-URL:https://linagalvez.eu
X-WR-CALDESC:Eventos para Lina Gálvez
REFRESH-INTERVAL;VALUE=DURATION:PT1H
X-Robots-Tag:noindex
X-PUBLISHED-TTL:PT1H
BEGIN:VTIMEZONE
TZID:Europe/Madrid
BEGIN:DAYLIGHT
TZOFFSETFROM:+0100
TZOFFSETTO:+0200
TZNAME:CEST
DTSTART:20210328T010000
END:DAYLIGHT
BEGIN:STANDARD
TZOFFSETFROM:+0200
TZOFFSETTO:+0100
TZNAME:CET
DTSTART:20211031T010000
END:STANDARD
BEGIN:DAYLIGHT
TZOFFSETFROM:+0100
TZOFFSETTO:+0200
TZNAME:CEST
DTSTART:20220327T010000
END:DAYLIGHT
BEGIN:STANDARD
TZOFFSETFROM:+0200
TZOFFSETTO:+0100
TZNAME:CET
DTSTART:20221030T010000
END:STANDARD
BEGIN:DAYLIGHT
TZOFFSETFROM:+0100
TZOFFSETTO:+0200
TZNAME:CEST
DTSTART:20230326T010000
END:DAYLIGHT
BEGIN:STANDARD
TZOFFSETFROM:+0200
TZOFFSETTO:+0100
TZNAME:CET
DTSTART:20231029T010000
END:STANDARD
END:VTIMEZONE
BEGIN:VEVENT
DTSTART;TZID=Europe/Madrid:20221212T170000
DTEND;TZID=Europe/Madrid:20221215T183000
DTSTAMP:20260425T180518
CREATED:20210211T164450Z
LAST-MODIFIED:20221212T092355Z
UID:6135-1670864400-1671129000@linagalvez.eu
SUMMARY:Pleno del Parlamento Europeo en Estrasburgo
DESCRIPTION:Destacados del pleno. Estrasburgo \n\n\n\n\n\n\nPremio Sájarov 2022 para el pueblo de Ucrania \n\n\n\n\nEl pueblo ucraniano recibirá el Premio Sájarov a la Libertad de Conciencia en una ceremonia en el hemiciclo el miércoles a mediodía. \n\n\n\n\n\n\n\n\nLos eurodiputad@s presentan sus prioridades para el Consejo Europeo de diciembre  \n\n\n\n\nEn un debate con la Comisión y la presidencia checa del Consejo el miércoles por la mañana\, los eurodiputados expondrán sus demandas y expectativas ante la cumbre del 15 de diciembre. \n\n\n\n\n\n\n\n\nImpulso a las renovables en respuesta a la crisis energética \n\n\n\n\nEl pleno debatirá y votará una propuesta lesgislativa para acelerar la concesión de permisos para la producción de energías renovables\, incluidos paneles solares y molinos de viento. \n\n\n\n\n\n\n\n\nLos bombardeos rusos en Ucrania y sus consecuencias \n\n\n\n\nLa situación humanitaria en Ucrania como consecuencia de los ataques rusos contra infraestructuras esenciales centrará un debate en el pleno el jueves. \n\n\n\n\n\n\n\n\nRespuesta de la UE a las ayudas fiscales en EEUU: debate con la CE y el Consejo \n\n\n\n\nLos eurodiputados y eurodiputadas quieren saber cómo respondera la UE al plan estadounidense de subvenciones y exenciones a empresas\, un esquema que coloca en desventaja a sus competidoras europeas. \n\n\n\n\n\n\n\n\nEl primer ministro esloveno\, Robert Golob\, interviene ante el pleno \n\n\n\n\nLos eurodiputados discutirán las perspectivas de la UE con el primer ministro esloveno\, Robert Golob\, el martes a las 10.30. \n\n\n\n\n\n\n\n\nIsrael y Palestina y la solución de los dos Estados \n\n\n\n\nEl martes por la tarde\, la Cámara evaluará con la Comisión Europea las posibilidades de que salga adelante la solución de los dos Estados para Israel y Palestina. \n\n\n\n\n\n\n\n\nGarantía Infantil: el PE pide fondos para asegurar atención en tiempo de crisis \n\n\n\n\nEl martes\, l@s eurodiputad@s debatirán con la Comisión y el Consejo la necesidad de un presupuesto específico para convertir en realidad la Garantía Infantil\, esencial dada la crisis. \n\n\n\n\n\n\n\n\nDebate sobre la libertad de prensa en la UE \n\n\n\n\nEl pleno tratará la situación de los periodistas en la UE y sus implicaciones para el Estado de derecho en un debate con la Comisión y el Consejo el miércoles. \n\n\n\n\n\n\n\n\nProtección de los derechos de las personas con discapacidad \n\n\n\n\nEl Parlamento pedirá medidas para permitir a las personas con discapacidad participar socialmente y en el mercado de trabajo\, y planteará soluciones para atajar la discriminación. \n\n\n\n\n\n\n\n\nEl presupuesto de la UE a largo plazo necesita revisión a la vista de la crisis \n\n\n\n\nEl PE apuesta por reformar el marco presupuestario comunitario para responder mejor a demandas cambiantes\, cubrir necesidades de financiación y hacerlo más flexible. \n\n\n\n\n\n\n\n\nVolcán de La Palma: el PE vota una ayuda de 9\,45 millones para paliar daños \n\n\n\n\nLos eurodiputados se pronunciarán sobre la propuesta de conceder a España 9\,45 millones de euros para mitigar los daños por la erupción del volcán de La Palma. \n\n\n\n\n\n\n\n\nCómo defender a las democracias de la UE frente a interferencias \n\n\n\n\nLa protección de infraestructuras esenciales\, redes y medios de comunicación\, y las medidas de seguridad energética frente a amenazas externas centrarán un debate con la Comisión el martes. \n\n\n\n\n\n\n\n\nCOP27: debate sobre el resultado de las negociaciones sobre clima en Egipto \n\n\n\n\nEl pleno examinará el lunes los resultados de la Conferencia de la ONU sobre cambio climático COP27\, celebrada en Sharm el Sheik (Egipto) del 6 al 19 de noviembre. \n\nBombardeos turcos en Irak y Siria. Declaración de la Comisión\, sin resolución. Debate\, el martes.\nProtección de la infraestructura clave frente a China. Ronda de preguntas a la Comisión\, el martes.\nResoluciones sobre derechos humanos y democracia (represión de protestas pacíficas en China y Chad\, y el caso del activista Abdulhadi Al-Khawaja de Bahrain). Debates\, el miércoles; votaciones\, el jueves.\nDesafíos en el sector de la aviación. Declaración de la Comisión\, sin resolución. Debate\, el lunes.\n30 aniversario de la Declaración de la ONU sobre los derechos de las personas pertenecientes a minorías nacionales o étnicas\, religiosas y lingüísticas. Declaración de la Comisión\, sin resolución. Debate\, el jueves
URL:https://linagalvez.eu/agenda/pleno-del-parlamento-europeo-2-2-2-2-2-2-2-6-2-3-3-4/
CATEGORIES:Actualidad,Destacado,FEMM,Parlamento
ATTACH;FMTTYPE=image/jpeg:https://linagalvez.eu/wp-content/uploads/2020/03/European_Parliament_Strasbourg_Hemicycle_-_Diliff-2-scaled.jpg
END:VEVENT
BEGIN:VEVENT
DTSTART;TZID=Europe/Madrid:20221215T083000
DTEND;TZID=Europe/Madrid:20221215T083000
DTSTAMP:20260425T180518
CREATED:20210412T084247Z
LAST-MODIFIED:20221212T105823Z
UID:6571-1671093000-1671093000@linagalvez.eu
SUMMARY:S&D FEMM Working Group
DESCRIPTION:Sesión interna de trabajo en el seno del S&D para coordinar y revisar las iniciativas que se tratarán en el Pleno y la Comisión FEMM. En la agenda\, discusión sobre los posibles nuevos expedientes de FEMM de cara a 2023.
URL:https://linagalvez.eu/agenda/sd-femm-working-group-6-2-2-3-2/
CATEGORIES:FEMM,Parlamento,S&D
END:VEVENT
BEGIN:VEVENT
DTSTART;TZID=Europe/Madrid:20221215T093000
DTEND;TZID=Europe/Madrid:20221215T113000
DTSTAMP:20260425T180518
CREATED:20210528T185833Z
LAST-MODIFIED:20221212T114447Z
UID:6594-1671096600-1671103800@linagalvez.eu
SUMMARY:Panel STOA
DESCRIPTION:La próxima reunión del Panel STOA\, Panel para el Futuro de la Ciencia y la Tecnología\, se llevará a cabo el jueves 16 de octubre de 2022\, de 9.00 a 11.30 horas. \nEn la agenda de reunión la presentación del informe «Un enfoque social de las ciudades inteligentes y el proceso de digitalización de las ciudades» este informe fue solicitado por las europarlamentarias Lina Gálvez  y su compañera de Grupo S&D\, Patrizia TOIA.
URL:https://linagalvez.eu/agenda/panel-stoa-presentacion-de-los-estudios-impacto-en-la-salud-del-5g-e-impacto-medioambiental-del-5g-3-2-2-2-2-2-2-3/
CATEGORIES:Actualidad,Destacado,ITRE,STOA
ATTACH;FMTTYPE=image/jpeg:https://linagalvez.eu/wp-content/uploads/2021/05/STOA-28M-e1639394848457.jpg
END:VEVENT
END:VCALENDAR