BEGIN:VCALENDAR
VERSION:2.0
PRODID:-//Lina Gálvez - ECPv6.15.20//NONSGML v1.0//EN
CALSCALE:GREGORIAN
METHOD:PUBLISH
X-ORIGINAL-URL:https://linagalvez.eu
X-WR-CALDESC:Eventos para Lina Gálvez
REFRESH-INTERVAL;VALUE=DURATION:PT1H
X-Robots-Tag:noindex
X-PUBLISHED-TTL:PT1H
BEGIN:VTIMEZONE
TZID:Europe/Madrid
BEGIN:DAYLIGHT
TZOFFSETFROM:+0100
TZOFFSETTO:+0200
TZNAME:CEST
DTSTART:20220327T010000
END:DAYLIGHT
BEGIN:STANDARD
TZOFFSETFROM:+0200
TZOFFSETTO:+0100
TZNAME:CET
DTSTART:20221030T010000
END:STANDARD
BEGIN:DAYLIGHT
TZOFFSETFROM:+0100
TZOFFSETTO:+0200
TZNAME:CEST
DTSTART:20230326T010000
END:DAYLIGHT
BEGIN:STANDARD
TZOFFSETFROM:+0200
TZOFFSETTO:+0100
TZNAME:CET
DTSTART:20231029T010000
END:STANDARD
BEGIN:DAYLIGHT
TZOFFSETFROM:+0100
TZOFFSETTO:+0200
TZNAME:CEST
DTSTART:20240331T010000
END:DAYLIGHT
BEGIN:STANDARD
TZOFFSETFROM:+0200
TZOFFSETTO:+0100
TZNAME:CET
DTSTART:20241027T010000
END:STANDARD
END:VTIMEZONE
BEGIN:VEVENT
DTSTART;TZID=Europe/Madrid:20230110T083000
DTEND;TZID=Europe/Madrid:20230110T100000
DTSTAMP:20260425T163022
CREATED:20200705T094158Z
LAST-MODIFIED:20230109T103320Z
UID:6626-1673339400-1673344800@linagalvez.eu
SUMMARY:Reunión de equipo. Coordinación interna
DESCRIPTION:
URL:https://linagalvez.eu/agenda/reunion-de-equipo-coordinacion-interna-2-2-2-3-3-2-3-2-2/
CATEGORIES:Actualidad,Parlamento
ATTACH;FMTTYPE=image/jpeg:https://linagalvez.eu/wp-content/uploads/2020/07/Calendario.jpg
END:VEVENT
BEGIN:VEVENT
DTSTART;TZID=Europe/Madrid:20230110T100000
DTEND;TZID=Europe/Madrid:20230110T110000
DTSTAMP:20260425T163022
CREATED:20210927T094856Z
LAST-MODIFIED:20230109T103907Z
UID:6629-1673344800-1673348400@linagalvez.eu
SUMMARY:Grupo de trabajo S&D ITRE
DESCRIPTION:Reunión del grupo de trabajo S&D de la Comisión de Industria\, Investigación y Energía en la que se abordarán los asuntos legislativos en marcha este semestre y el orden del día del debate plenario de la próxima semana.
URL:https://linagalvez.eu/agenda/encuentro-con-la-embajadora-espanola-en-malta-external-group-meeting-2-5-2-3-2/
CATEGORIES:Destacado,ITRE,S&D
ATTACH;FMTTYPE=image/jpeg:https://linagalvez.eu/wp-content/uploads/2022/10/Lina-Galvez_TimeUseWeek2002.jpg
END:VEVENT
BEGIN:VEVENT
DTSTART;TZID=Europe/Madrid:20230110T100000
DTEND;TZID=Europe/Madrid:20230110T111500
DTSTAMP:20260425T163022
CREATED:20230110T122456Z
LAST-MODIFIED:20230110T122456Z
UID:6647-1673344800-1673349300@linagalvez.eu
SUMMARY:Audiencia de STOA\, panel científico del Parlamento europeo sobre la desinformación sobre el cambio climático
DESCRIPTION:
URL:https://linagalvez.eu/agenda/audiencia-de-stoa-panel-cientifico-del-parlamento-europeo-sobre-la-desinformacion-sobre-el-cambio-climatico/
CATEGORIES:ITRE,Parlamento,STOA
ATTACH;FMTTYPE=image/jpeg:https://linagalvez.eu/wp-content/uploads/2022/03/Lucha-contra-el-cambio-climatico-perspectiva-de-genero-y-soluciones-feministas.jpeg
END:VEVENT
BEGIN:VEVENT
DTSTART;TZID=Europe/Madrid:20230110T103000
DTEND;TZID=Europe/Madrid:20230110T114500
DTSTAMP:20260425T163022
CREATED:20230110T115921Z
LAST-MODIFIED:20230110T120132Z
UID:6640-1673346600-1673351100@linagalvez.eu
SUMMARY:Audiencia especial del S&D sobre "La prostitución y su impacto en la igualdad de género y los derechos de la mujer
DESCRIPTION:Audiencia organizada por Heléne Fritzon (vicepresidenta S&D)\, en el marco del informe del INI sobre «Regulación de la prostitución en la UE: sus implicaciones transfronterizas y su impacto en la igualdad de género y los derechos de la mujer» (ponente del S&D: Maria Noichl). En formato híbrido. \nExpertas/os: \n\nValiant Richey\, Representante Especial de la OSCE y Coordinadora para la Lucha contra la Trata de Seres Humanos\nHéma Sibi\, Coordinadora de Sensibilización\, CAP Internacional\nAnna Ekstedt\, Embajadora en Misión Especial para la Lucha contra la Trata de Personas\, Suecia\nMarie Merklinger\, superviviente y activista\, Alemania
URL:https://linagalvez.eu/agenda/45-audiencia-especial-del-sd-sobre-la-prostitucion-y-su-impacto-en-la-igualdad-de-genero-y-los-derechos-de-la-mujer/
CATEGORIES:Actualidad,FEMM,S&D
ATTACH;FMTTYPE=image/png:https://linagalvez.eu/wp-content/uploads/2020/01/1-S&D.svg.png
END:VEVENT
BEGIN:VEVENT
DTSTART;TZID=Europe/Madrid:20230110T124500
DTEND;TZID=Europe/Madrid:20230110T134500
DTSTAMP:20260425T163022
CREATED:20210301T093643Z
LAST-MODIFIED:20250210T090036Z
UID:5551-1673354700-1673358300@linagalvez.eu
SUMMARY:S&D Reunión de la Delegación Socialista Española
DESCRIPTION:Reunión interna de trabajo para coordinar la actividad legislativa en curso\,
URL:https://linagalvez.eu/agenda/sd-reunion-de-la-delegacion-socialista-espanola-11-2-2-2-2-2-2-2-2-6/
CATEGORIES:Parlamento,S&D
ATTACH;FMTTYPE=image/jpeg:https://linagalvez.eu/wp-content/uploads/2021/03/WhatsApp-Image-2022-07-11-at-12.02.33-PM.jpeg
END:VEVENT
BEGIN:VEVENT
DTSTART;TZID=Europe/Madrid:20230110T140000
DTEND;TZID=Europe/Madrid:20230110T150000
DTSTAMP:20260425T163022
CREATED:20210412T083611Z
LAST-MODIFIED:20230109T112041Z
UID:6631-1673359200-1673362800@linagalvez.eu
SUMMARY:S&D Grupo de trabajo de Empleo y Asuntos Sociales
DESCRIPTION:Grupo de trabajo interno del  S&D EMPL para coordinar las iniciativas relacionadas con los trabajos legislativos de este semestre.
URL:https://linagalvez.eu/agenda/sd-grupo-de-trabajo-de-empleo-y-asuntos-sociales-4-2-2-2-2-2-2-2-2-2-2-2-3-3-2-2-3-2-2-2-2-2-2-2-3/
CATEGORIES:Actualidad,Destacado,EMPL,Parlamento,S&D
ATTACH;FMTTYPE=image/jpeg:https://linagalvez.eu/wp-content/uploads/2020/11/SD-WG-ITRE.jpg
END:VEVENT
BEGIN:VEVENT
DTSTART;TZID=Europe/Madrid:20230110T141500
DTEND;TZID=Europe/Madrid:20230110T151500
DTSTAMP:20260425T163022
CREATED:20210301T094153Z
LAST-MODIFIED:20230110T120506Z
UID:6643-1673360100-1673363700@linagalvez.eu
SUMMARY:S&D Grupo de Trabajo de Europa Digital
DESCRIPTION:Reunión del grupo de trabajo digital del Grupo de Socialistas y Demócratas Se debatirán expedientes legislativos en el ámbito digital\, prioridad para el Grupo S&D. \nEn la agenda\, intercambio de puntos de vista con la ponente del S&D de ITRE\, Romana Jerković sobre el marco europeo de identidad digital\, y con la ponente del S&D de ITRE\, Miapetra Kumpula-Natri sobre la Ley de Datos.
URL:https://linagalvez.eu/agenda/grupo-de-trabajo-de-europa-digital-3-2-3-2-2-2-2-2/
CATEGORIES:ITRE,Parlamento,S&D,STOA
ATTACH;FMTTYPE=image/png:https://linagalvez.eu/wp-content/uploads/2020/05/digital-europe.png
END:VEVENT
END:VCALENDAR