BEGIN:VCALENDAR
VERSION:2.0
PRODID:-//Lina Gálvez - ECPv6.15.20//NONSGML v1.0//EN
CALSCALE:GREGORIAN
METHOD:PUBLISH
X-ORIGINAL-URL:https://linagalvez.eu
X-WR-CALDESC:Eventos para Lina Gálvez
REFRESH-INTERVAL;VALUE=DURATION:PT1H
X-Robots-Tag:noindex
X-PUBLISHED-TTL:PT1H
BEGIN:VTIMEZONE
TZID:Europe/Madrid
BEGIN:DAYLIGHT
TZOFFSETFROM:+0100
TZOFFSETTO:+0200
TZNAME:CEST
DTSTART:20220327T010000
END:DAYLIGHT
BEGIN:STANDARD
TZOFFSETFROM:+0200
TZOFFSETTO:+0100
TZNAME:CET
DTSTART:20221030T010000
END:STANDARD
BEGIN:DAYLIGHT
TZOFFSETFROM:+0100
TZOFFSETTO:+0200
TZNAME:CEST
DTSTART:20230326T010000
END:DAYLIGHT
BEGIN:STANDARD
TZOFFSETFROM:+0200
TZOFFSETTO:+0100
TZNAME:CET
DTSTART:20231029T010000
END:STANDARD
BEGIN:DAYLIGHT
TZOFFSETFROM:+0100
TZOFFSETTO:+0200
TZNAME:CEST
DTSTART:20240331T010000
END:DAYLIGHT
BEGIN:STANDARD
TZOFFSETFROM:+0200
TZOFFSETTO:+0100
TZNAME:CET
DTSTART:20241027T010000
END:STANDARD
END:VTIMEZONE
BEGIN:VEVENT
DTSTART;TZID=Europe/Madrid:20230112T090000
DTEND;TZID=Europe/Madrid:20230112T104500
DTSTAMP:20260425T163056
CREATED:20210525T064413Z
LAST-MODIFIED:20230109T113553Z
UID:5617-1673514000-1673520300@linagalvez.eu
SUMMARY:Comisión conjunta de las Comisiones FEMM y LIBE
DESCRIPTION:Reunión conjunta de la Comisión de Derechos de la Mujer e Igualdad de Género y la Comisión de Libertades Civiles\, Justicia y Asuntos de Interior con el siguiente orden del dia: \n\nLucha contra la violencia contra las mujeres y la violencia doméstica – Examen del proyecto de informe \n\nLa adhesión de la UE al Convenio del Consejo de Europa sobre prevención y lucha contra la violencia contra las mujeres y la violencia doméstica – Examen de enmiendas –\n\n\n\nPuedes seguirla en directo AQUÍ
URL:https://linagalvez.eu/agenda/comite-especial-sobe-inteligencia-artificial-2-4-4-2/
CATEGORIES:Destacado,FEMM,Parlamento
ATTACH;FMTTYPE=image/jpeg:https://linagalvez.eu/wp-content/uploads/2022/10/Lina-Galvez-Jornadas-PE.jpg
END:VEVENT
BEGIN:VEVENT
DTSTART;TZID=Europe/Madrid:20230112T113000
DTEND;TZID=Europe/Madrid:20230112T120000
DTSTAMP:20260425T163056
CREATED:20230110T121450Z
LAST-MODIFIED:20230117T102731Z
UID:6690-1673523000-1673524800@linagalvez.eu
SUMMARY:Reunión con la Ministra de Justicia española\, Pilar Llop
DESCRIPTION:Encuentro de trabajo con la Ministra de Justicia española y la eurodiputada Lina Gálvez para coordinar los trabajos legislativos en marcha en la Comisión FEMM del Parlamento europeo\, a la que pertenece la diputada\, y los trabajos preparatorios para la presidencia española del Consejo de la Unión Europea en relación a las competencias de ambas oficinas.
URL:https://linagalvez.eu/agenda/reunion-con-el-director-general-de-centro-para-el-desarrollo-tecnologico-y-a-innovacion-cdti-javier-ponce-3-2/
CATEGORIES:ITRE,Parlamento,STOA
ATTACH;FMTTYPE=image/jpeg:https://linagalvez.eu/wp-content/uploads/2020/07/Calendario2.jpg
END:VEVENT
BEGIN:VEVENT
DTSTART;TZID=Europe/Madrid:20230112T173000
DTEND;TZID=Europe/Madrid:20230112T183000
DTSTAMP:20260425T163056
CREATED:20230110T121450Z
LAST-MODIFIED:20230110T121450Z
UID:6645-1673544600-1673548200@linagalvez.eu
SUMMARY:Reunión con el director general de Centro para el Desarrollo Tecnológico y a Innovación (CDTI)\, Javier Ponce
DESCRIPTION:El CDTI-E.P.E. es una Entidad Pública Empresarial\, dependiente del Ministerio de Ciencia e Innovación\, que promueve la innovación y el desarrollo tecnológico de las empresas españolas. Es la entidad que canaliza las solicitudes de ayuda y apoyo a los proyectos de I+D+i de empresas españolas en los ámbitos estatal e internacional. Su objetivo es contribuir a la mejora del nivel tecnológico de las empresas españolas. Javier Ponce es Ingeniero Industrial por la Universidad Politécnica de Madrid y director general de CDTI desde 2018.
URL:https://linagalvez.eu/agenda/reunion-con-el-director-general-de-centro-para-el-desarrollo-tecnologico-y-a-innovacion-cdti-javier-ponce/
CATEGORIES:ITRE,Parlamento,STOA
ATTACH;FMTTYPE=image/jpeg:https://linagalvez.eu/wp-content/uploads/2020/07/Calendario2.jpg
END:VEVENT
END:VCALENDAR