BEGIN:VCALENDAR
VERSION:2.0
PRODID:-//Lina Gálvez - ECPv6.15.20//NONSGML v1.0//EN
CALSCALE:GREGORIAN
METHOD:PUBLISH
X-ORIGINAL-URL:https://linagalvez.eu
X-WR-CALDESC:Eventos para Lina Gálvez
REFRESH-INTERVAL;VALUE=DURATION:PT1H
X-Robots-Tag:noindex
X-PUBLISHED-TTL:PT1H
BEGIN:VTIMEZONE
TZID:Europe/Madrid
BEGIN:DAYLIGHT
TZOFFSETFROM:+0100
TZOFFSETTO:+0200
TZNAME:CEST
DTSTART:20220327T010000
END:DAYLIGHT
BEGIN:STANDARD
TZOFFSETFROM:+0200
TZOFFSETTO:+0100
TZNAME:CET
DTSTART:20221030T010000
END:STANDARD
BEGIN:DAYLIGHT
TZOFFSETFROM:+0100
TZOFFSETTO:+0200
TZNAME:CEST
DTSTART:20230326T010000
END:DAYLIGHT
BEGIN:STANDARD
TZOFFSETFROM:+0200
TZOFFSETTO:+0100
TZNAME:CET
DTSTART:20231029T010000
END:STANDARD
BEGIN:DAYLIGHT
TZOFFSETFROM:+0100
TZOFFSETTO:+0200
TZNAME:CEST
DTSTART:20240331T010000
END:DAYLIGHT
BEGIN:STANDARD
TZOFFSETFROM:+0200
TZOFFSETTO:+0100
TZNAME:CET
DTSTART:20241027T010000
END:STANDARD
END:VTIMEZONE
BEGIN:VEVENT
DTSTART;TZID=Europe/Madrid:20230116T170000
DTEND;TZID=Europe/Madrid:20230119T183000
DTSTAMP:20260425T163022
CREATED:20210211T164450Z
LAST-MODIFIED:20230116T130658Z
UID:6148-1673888400-1674153000@linagalvez.eu
SUMMARY:Pleno del Parlamento Europeo en Estrasburgo
DESCRIPTION:Destacados del pleno. Estrasburgo \nLos temas clave de la próxima semana incluyen: \n\nDebate clave sobre los resultados de la cumbre de la UE del 15 de diciembre\nRepresión de protestas y ejecuciones en Irán\nEstablecimiento de un tribunal sobre los crímenes perpetrados contra Ucrania\nDebate sobre las prioridades Presidencia sueca del Consejo de la UE\nElección de un nuevo vicepresidente del PE\nReforma de los procedimientos y medidas de control de la UE para traslados de residuos\nPrácticas de cabildeo de Uber en la UE
URL:https://linagalvez.eu/agenda/pleno-del-parlamento-europeo-2-2-2-2-2-2-2-6-2-3-3-3/
CATEGORIES:Actualidad,Destacado,EMPL,FEMM,ITRE,Parlamento
ATTACH;FMTTYPE=image/jpeg:https://linagalvez.eu/wp-content/uploads/2021/02/Plenario-Estarsburgo--scaled.jpeg
END:VEVENT
BEGIN:VEVENT
DTSTART;TZID=Europe/Madrid:20230119T093000
DTEND;TZID=Europe/Madrid:20230119T110000
DTSTAMP:20260425T163022
CREATED:20210528T185833Z
LAST-MODIFIED:20230116T122516Z
UID:6671-1674120600-1674126000@linagalvez.eu
SUMMARY:Panel STOA
DESCRIPTION:La próxima reunión del Panel STOA\, Panel para el Futuro de la Ciencia y la Tecnología\, se llevará a cabo el jueves 16 de octubre de 2022\, de 9.00 a 11.30 horas. \nEn la agenda de reunión la presentación del informe  estudio “Inteligencia artificial en el sector agri-food: aplicaciones\, riesgos e impactos”.
URL:https://linagalvez.eu/agenda/panel-stoa-presentacion-de-los-estudios-impacto-en-la-salud-del-5g-e-impacto-medioambiental-del-5g-3-2-2-2-2-2-2-3-2/
CATEGORIES:Actualidad,Destacado,ITRE,STOA
ATTACH;FMTTYPE=image/jpeg:https://linagalvez.eu/wp-content/uploads/2021/05/STOA-28M-e1639394848457.jpg
END:VEVENT
BEGIN:VEVENT
DTSTART;TZID=Europe/Madrid:20230119T110000
DTEND;TZID=Europe/Madrid:20230119T113000
DTSTAMP:20260425T163022
CREATED:20200111T151627Z
LAST-MODIFIED:20250221T161349Z
UID:6673-1674126000-1674127800@linagalvez.eu
SUMMARY:Reunión de la Delegación USA
DESCRIPTION:La Comisión de relaciones con EEUU intercambio de opiniones sobre la actividad legislativa común.
URL:https://linagalvez.eu/agenda/reunion-de-la-delegacion-usa-2-2-2-2-2-3-2-3-2/
CATEGORIES:Actualidad,D-US,Parlamento
ATTACH;FMTTYPE=image/jpeg:https://linagalvez.eu/wp-content/uploads/banderas-eu-es-edificio_img_77747_pca-freepik.jpg
END:VEVENT
END:VCALENDAR