BEGIN:VCALENDAR
VERSION:2.0
PRODID:-//Lina Gálvez - ECPv6.15.20//NONSGML v1.0//EN
CALSCALE:GREGORIAN
METHOD:PUBLISH
X-ORIGINAL-URL:https://linagalvez.eu
X-WR-CALDESC:Eventos para Lina Gálvez
REFRESH-INTERVAL;VALUE=DURATION:PT1H
X-Robots-Tag:noindex
X-PUBLISHED-TTL:PT1H
BEGIN:VTIMEZONE
TZID:Europe/Madrid
BEGIN:DAYLIGHT
TZOFFSETFROM:+0100
TZOFFSETTO:+0200
TZNAME:CEST
DTSTART:20220327T010000
END:DAYLIGHT
BEGIN:STANDARD
TZOFFSETFROM:+0200
TZOFFSETTO:+0100
TZNAME:CET
DTSTART:20221030T010000
END:STANDARD
BEGIN:DAYLIGHT
TZOFFSETFROM:+0100
TZOFFSETTO:+0200
TZNAME:CEST
DTSTART:20230326T010000
END:DAYLIGHT
BEGIN:STANDARD
TZOFFSETFROM:+0200
TZOFFSETTO:+0100
TZNAME:CET
DTSTART:20231029T010000
END:STANDARD
BEGIN:DAYLIGHT
TZOFFSETFROM:+0100
TZOFFSETTO:+0200
TZNAME:CEST
DTSTART:20240331T010000
END:DAYLIGHT
BEGIN:STANDARD
TZOFFSETFROM:+0200
TZOFFSETTO:+0100
TZNAME:CET
DTSTART:20241027T010000
END:STANDARD
END:VTIMEZONE
BEGIN:VEVENT
DTSTART;TZID=Europe/Madrid:20230124T080000
DTEND;TZID=Europe/Madrid:20230124T090000
DTSTAMP:20260425T163050
CREATED:20230123T115129Z
LAST-MODIFIED:20230123T115129Z
UID:6736-1674547200-1674550800@linagalvez.eu
SUMMARY:Desayuno de trabajo de la organización Knowledge4Innovation and for a Sustainable Future
DESCRIPTION:Desayuno de trabajo de la organización Knowledge4Innovation and for a Sustainable Future\, lanzamiento de la plataforma K4I 2.0 sobre innovación en temas de energías renovables\, movilidad\, biodiversidad etc. \nAgenda \n Welcome by Maria da Graça Carvalho\, K4I Forum Chair\n Presentation K4I 2.0\, Roland Strauss\, Managing Director\, K4I\n A4F Focus Areas \n▪ Climate Action and Biodiversity\n▪ Renewable Energy and Mobility\n▪ Circular Economy and Natural Resources\n▪ Deep- and Digital Technologies \n A4F Areas of Activity \n▪ Policies driving the green and digital transitions: European Green Deal\,\nSustainable Development Goals\n▪ Solutions for Sustainability: innovation and new technologies\n▪ Financing the transition: Impact/green investment\n Contributions from Members of the European Parliament\n Next steps
URL:https://linagalvez.eu/agenda/desayuno-de-trabajo-de-la-organizacion-knowledge4innovation-and-for-a-sustainable-future/
CATEGORIES:ITRE,Parlamento,STOA
ATTACH;FMTTYPE=image/jpeg:https://linagalvez.eu/wp-content/uploads/2020/07/Calendario2.jpg
END:VEVENT
BEGIN:VEVENT
DTSTART;TZID=Europe/Madrid:20230124T090000
DTEND;TZID=Europe/Madrid:20230124T123000
DTSTAMP:20260425T163050
CREATED:20210830T165910Z
LAST-MODIFIED:20230123T110105Z
UID:6723-1674550800-1674563400@linagalvez.eu
SUMMARY:Comisión de Empleo y Asuntos Sociales.
DESCRIPTION:En la agenda\, intercambio de puntos de vista con Anna Tenje (Ministra sueca de la Tercera Edad y la Seguridad Social) y Paulina Brandberg (Ministra sueca de Igualdad de Género y Viceministra de Empleo).
URL:https://linagalvez.eu/agenda/comision-de-empleo-y-asuntos-sociales-empl-4-2/
CATEGORIES:Actualidad,Destacado,EMPL,Parlamento
ATTACH;FMTTYPE=image/png:https://linagalvez.eu/wp-content/uploads/2022/03/LGM_ITRE.png
END:VEVENT
BEGIN:VEVENT
DTSTART;TZID=Europe/Madrid:20230124T100000
DTEND;TZID=Europe/Madrid:20230124T180000
DTSTAMP:20260425T163050
CREATED:20210611T142459Z
LAST-MODIFIED:20230123T111618Z
UID:6725-1674554400-1674583200@linagalvez.eu
SUMMARY:Reunión de la Comisión de Industria\, Investigación y Energía (ITRE)
DESCRIPTION:La Eurodiputada Lina Gálvez forma parte de la Comisión de Industria\, Investigación y Energía\, conocida por las siglas ITRE\, es Vicepresidenta de la misma desde 2019. La próxima reunión del Comité ITRE será presencial y tendrá lugar el martes 24 de 2023. La sesión será dividida en dos tramos. \nEn la agenda de la Comisión de Industria\, Investigación y Energía; un voto importante\, establecimiento de un marco de medidas para reforzar el\necosistema europeo de semiconductores (Chips Act) Lina Gálvez es ponente del informe Chips Act&Chips Joint Undertaking. \nVotos \n\nEstablecimiento de un marco de medidas para fortalecer el ecosistema europeo de semiconductores (Ley de chips) (2022/0032(COD) – aprobación del proyecto de informe/votación sobre la decisión de entablar negociaciones interinstitucionales – ponente: Dan NICA (S&D\, RO)\nModificación del Reglamento (UE) 2021/2085 por el que se establecen las Empresas Comunes en el marco de Horizonte Europa\, en lo que respecta a la Empresa Común Chips (2022/0033(NLE)) – aprobación del proyecto de informe – ponente: Eva MAYDELL (PPE\, BG)\nAcuerdo de Cooperación sobre un Sistema Civil Global de Navegación por Satélite (GNSS) entre la Comunidad Europea y sus Estados miembros\, por una parte\, y la República de Corea\, por otra\, para tener en cuenta la adhesión de la República de Bulgaria\, la República de Croacia y Rumanía a la Unión Europea (2018/0429(NLE)) – adopción del proyecto de recomendación (aprobación) – ponente: Cristian-Silviu BUŞOI (PPE\, RO)\n\nPresentación del programa de la Presidencia del Consejo (14.30 – 18.30) – solo en presencia física \n\nIntercambio de puntos de vista con Ebba BUSCH\, Ministra de Energía\, Comercio e Industria (energía\, industria\, innovación y digital\, TIC\, telecomunicaciones) y Mats PERSSON\, Ministra de Educación (investigación\, espacio)\nDiálogo estructurado con Mariya GABRIEL\, Comisaria de Innovación\, Investigación\, Cultura\, Educación y Juventud
URL:https://linagalvez.eu/agenda/reunion-de-la-comision-de-industria-investigacion-y-energia-itre-17-2-2-2-2-2-2-3-2-2-2-2-2-2-6-3-3-2-2/
CATEGORIES:Actualidad,Destacado,ITRE,Parlamento,STOA
ATTACH;FMTTYPE=image/png:https://linagalvez.eu/wp-content/uploads/2022/03/FEMM.png
END:VEVENT
BEGIN:VEVENT
DTSTART;TZID=Europe/Madrid:20230124T123000
DTEND;TZID=Europe/Madrid:20230124T130000
DTSTAMP:20260425T163050
CREATED:20230123T121928Z
LAST-MODIFIED:20230123T122022Z
UID:6740-1674563400-1674565200@linagalvez.eu
SUMMARY:Inauguración de la exhibición 20 Aniversario AFFNA36 organizada por la Asociación de Familiares Fusilados de Navarra – 1936 con motivo de su 20 Aniversario.
DESCRIPTION:Inauguración de la exhibición 20 Aniversario AFFNA36 organizada por la Asociación de Familiares Fusilados de Navarra – 1936 con motivo de su 20 Aniversario. \nLa exposición se compone de un recorrido fotográfico sobre los fusilamientos que tuvieron lugar en Navarra en el año 1936. El objetivo es acercar a las instituciones europeas la memoria histórica para no olvidarnos jamás de lo que vivimos y dignificar a tantos hombres y mujeres que sufrieron las represalias de la guerra.\nExposición auspiciada por Adriana Maldonado S&D
URL:https://linagalvez.eu/agenda/inauguracion-de-la-exhibicion-20-aniversario-affna36-organizada-por-la-asociacion-de-familiares-fusilados-de-navarra-1936-con-motivo-de-su-20-aniversario/
CATEGORIES:Parlamento,S&D
ATTACH;FMTTYPE=image/jpeg:https://linagalvez.eu/wp-content/uploads/2020/07/Calendario2.jpg
END:VEVENT
BEGIN:VEVENT
DTSTART;TZID=Europe/Madrid:20230124T150000
DTEND;TZID=Europe/Madrid:20230124T163000
DTSTAMP:20260425T163050
CREATED:20230123T115930Z
LAST-MODIFIED:20230123T115930Z
UID:6738-1674572400-1674577800@linagalvez.eu
SUMMARY:Impacto de la Inteligencia Artificial en el área mediterránea. Parlamento europeo
DESCRIPTION:La eurodiputada Lina Gálvez asistirá a este seminario en el que el think tank Geopolítica para el Desarrollo de Políticas Públicas en el Mediterráneo (GEOMETT) presentará el informe;Impacto de la Inteligencia Artificial en el Área Mediterráneo;. Los investigadores\, pertenecientes a la Universitat Politècnica de València\, debatirán sobre esta relevante cuestión junto con Diego Rodríguez Palenzuela\, Senior Adviser\, DG Economics\, en el Banco Central Europeo. Ibán García del Blanco (S&D) promueve el evento.
URL:https://linagalvez.eu/agenda/impacto-de-la-inteligencia-artificial-en-el-area-mediterranea-parlamento-europeo/
CATEGORIES:ITRE,Parlamento,S&D,STOA
ATTACH;FMTTYPE=image/jpeg:https://linagalvez.eu/wp-content/uploads/2021/05/Evento-Stoa.jpg
END:VEVENT
END:VCALENDAR