BEGIN:VCALENDAR
VERSION:2.0
PRODID:-//Lina Gálvez - ECPv6.15.20//NONSGML v1.0//EN
CALSCALE:GREGORIAN
METHOD:PUBLISH
X-WR-CALNAME:Lina Gálvez
X-ORIGINAL-URL:https://linagalvez.eu
X-WR-CALDESC:Eventos para Lina Gálvez
REFRESH-INTERVAL;VALUE=DURATION:PT1H
X-Robots-Tag:noindex
X-PUBLISHED-TTL:PT1H
BEGIN:VTIMEZONE
TZID:Europe/Madrid
BEGIN:DAYLIGHT
TZOFFSETFROM:+0100
TZOFFSETTO:+0200
TZNAME:CEST
DTSTART:20220327T010000
END:DAYLIGHT
BEGIN:STANDARD
TZOFFSETFROM:+0200
TZOFFSETTO:+0100
TZNAME:CET
DTSTART:20221030T010000
END:STANDARD
BEGIN:DAYLIGHT
TZOFFSETFROM:+0100
TZOFFSETTO:+0200
TZNAME:CEST
DTSTART:20230326T010000
END:DAYLIGHT
BEGIN:STANDARD
TZOFFSETFROM:+0200
TZOFFSETTO:+0100
TZNAME:CET
DTSTART:20231029T010000
END:STANDARD
BEGIN:DAYLIGHT
TZOFFSETFROM:+0100
TZOFFSETTO:+0200
TZNAME:CEST
DTSTART:20240331T010000
END:DAYLIGHT
BEGIN:STANDARD
TZOFFSETFROM:+0200
TZOFFSETTO:+0100
TZNAME:CET
DTSTART:20241027T010000
END:STANDARD
END:VTIMEZONE
BEGIN:VEVENT
DTSTART;TZID=Europe/Madrid:20230126T090000
DTEND;TZID=Europe/Madrid:20230126T130000
DTSTAMP:20260425T144131
CREATED:20210211T164450Z
LAST-MODIFIED:20230123T113137Z
UID:6730-1674723600-1674738000@linagalvez.eu
SUMMARY:Pleno del Parlamento Europeo en Bruselas
DESCRIPTION:El Pleno del Parlamento Europeo que se celebra esta semana en Bruselas en Conmemoración del Día Internacional del Recuerdo del Holocausto \n10.30 Ceremonia solemne en la Sala Plenaria\, incluido un discurso formal del presidente Herzog \n11.45 Inauguración del Memorial del Holocausto\, área del Atrio frente a la entrada del Hemiciclo \nPodrá seguirse en el siguiente enlace: https://europarl.europa.eu/plenary/es/home.html
URL:https://linagalvez.eu/agenda/pleno-del-parlamento-europeo-2-2-2-2-2-2-2-4-3-2-2-2-3-2-2-2/
CATEGORIES:Actualidad,Destacado,Parlamento
ATTACH;FMTTYPE=image/jpeg:https://linagalvez.eu/wp-content/uploads/2021/02/Pleno-en-Bruselas.jpg
END:VEVENT
BEGIN:VEVENT
DTSTART;TZID=Europe/Madrid:20230126T110000
DTEND;TZID=Europe/Madrid:20230126T120000
DTSTAMP:20260425T144131
CREATED:20210301T093643Z
LAST-MODIFIED:20250210T090035Z
UID:6734-1674730800-1674734400@linagalvez.eu
SUMMARY:S&D Reunión de la Delegación Socialista Española
DESCRIPTION:Reunión de la Delegación española socialista con Idoia Mendía\, secretaria de Estudios y Formación del PSOE.
URL:https://linagalvez.eu/agenda/sd-reunion-de-la-delegacion-socialista-espanola-11-2-2-2-2-2-2-2-2-4-3-2-2-2-2-3-2/
CATEGORIES:Parlamento,S&D
ATTACH;FMTTYPE=image/png:https://linagalvez.eu/wp-content/uploads/2020/07/Delegacion-española.png
END:VEVENT
BEGIN:VEVENT
DTSTART;TZID=Europe/Madrid:20230126T120000
DTEND;TZID=Europe/Madrid:20230126T130000
DTSTAMP:20260425T144131
CREATED:20230123T113920Z
LAST-MODIFIED:20230123T120038Z
UID:6732-1674734400-1674738000@linagalvez.eu
SUMMARY:Entrevista para el programa France 24
DESCRIPTION:La eurodiputada Lina Gálvez será entrevistada por la televisión pública francesa  sobre retos de la Unión europea y su estrategia para hacer frente a la carrera de subsidios a nivel internacional.
URL:https://linagalvez.eu/agenda/entrevista-para-el-programa-france-24/
CATEGORIES:Actualidad,Parlamento,S&D
ATTACH;FMTTYPE=image/png:https://linagalvez.eu/wp-content/uploads/2022/10/lgm_agencia-espacial.png
END:VEVENT
END:VCALENDAR