BEGIN:VCALENDAR
VERSION:2.0
PRODID:-//Lina Gálvez - ECPv6.15.20//NONSGML v1.0//EN
CALSCALE:GREGORIAN
METHOD:PUBLISH
X-ORIGINAL-URL:https://linagalvez.eu
X-WR-CALDESC:Eventos para Lina Gálvez
REFRESH-INTERVAL;VALUE=DURATION:PT1H
X-Robots-Tag:noindex
X-PUBLISHED-TTL:PT1H
BEGIN:VTIMEZONE
TZID:Europe/Madrid
BEGIN:DAYLIGHT
TZOFFSETFROM:+0100
TZOFFSETTO:+0200
TZNAME:CEST
DTSTART:20220327T010000
END:DAYLIGHT
BEGIN:STANDARD
TZOFFSETFROM:+0200
TZOFFSETTO:+0100
TZNAME:CET
DTSTART:20221030T010000
END:STANDARD
BEGIN:DAYLIGHT
TZOFFSETFROM:+0100
TZOFFSETTO:+0200
TZNAME:CEST
DTSTART:20230326T010000
END:DAYLIGHT
BEGIN:STANDARD
TZOFFSETFROM:+0200
TZOFFSETTO:+0100
TZNAME:CET
DTSTART:20231029T010000
END:STANDARD
BEGIN:DAYLIGHT
TZOFFSETFROM:+0100
TZOFFSETTO:+0200
TZNAME:CEST
DTSTART:20240331T010000
END:DAYLIGHT
BEGIN:STANDARD
TZOFFSETFROM:+0200
TZOFFSETTO:+0100
TZNAME:CET
DTSTART:20241027T010000
END:STANDARD
END:VTIMEZONE
BEGIN:VEVENT
DTSTART;TZID=Europe/Madrid:20230401T123000
DTEND;TZID=Europe/Madrid:20230401T163000
DTSTAMP:20260423T111720
CREATED:20230331T124851Z
LAST-MODIFIED:20230331T124851Z
UID:7108-1680352200-1680366600@linagalvez.eu
SUMMARY:Presentación oficial de la candidatura del PSOE de Coria del Río a las elecciones municipales del 28 de mayo.
DESCRIPTION:La eurodiputada Lina Gálvez participara el sábado\, 1 de abril\, en Coria del Río en la presentación oficial de la candidatura de David Diaz a la alcaldía de Coria del Río en representación del Partido Socialista Obrero Español. También participará en el acto del Alcalde de la Rinconada y Secretario Provincial del PSOE\, Javier Fernández.  \n#PensandoenTi #CoriadelRío \n\n\n\n\n\n\n\n\n\n\n\n\n\n\nEl acto tendrá lugar a las 12:30 horas en la Luna de Keicho (Paseo Carlos de Mesa) en Coria del Río en  Sevilla
URL:https://linagalvez.eu/agenda/presentacion-oficial-de-la-candidatura-del-psoe-de-coria-del-rio-a-las-elecciones-municipales-del-28-de-mayo/
CATEGORIES:Andalucía,Destacado,S&D
ATTACH;FMTTYPE=image/jpeg:https://linagalvez.eu/wp-content/uploads/2023/03/Candidatura-Coria-jpg.jpg
END:VEVENT
END:VCALENDAR