BEGIN:VCALENDAR
VERSION:2.0
PRODID:-//Lina Gálvez - ECPv6.15.20//NONSGML v1.0//EN
CALSCALE:GREGORIAN
METHOD:PUBLISH
X-WR-CALNAME:Lina Gálvez
X-ORIGINAL-URL:https://linagalvez.eu
X-WR-CALDESC:Eventos para Lina Gálvez
REFRESH-INTERVAL;VALUE=DURATION:PT1H
X-Robots-Tag:noindex
X-PUBLISHED-TTL:PT1H
BEGIN:VTIMEZONE
TZID:Europe/Madrid
BEGIN:DAYLIGHT
TZOFFSETFROM:+0100
TZOFFSETTO:+0200
TZNAME:CEST
DTSTART:20220327T010000
END:DAYLIGHT
BEGIN:STANDARD
TZOFFSETFROM:+0200
TZOFFSETTO:+0100
TZNAME:CET
DTSTART:20221030T010000
END:STANDARD
BEGIN:DAYLIGHT
TZOFFSETFROM:+0100
TZOFFSETTO:+0200
TZNAME:CEST
DTSTART:20230326T010000
END:DAYLIGHT
BEGIN:STANDARD
TZOFFSETFROM:+0200
TZOFFSETTO:+0100
TZNAME:CET
DTSTART:20231029T010000
END:STANDARD
BEGIN:DAYLIGHT
TZOFFSETFROM:+0100
TZOFFSETTO:+0200
TZNAME:CEST
DTSTART:20240331T010000
END:DAYLIGHT
BEGIN:STANDARD
TZOFFSETFROM:+0200
TZOFFSETTO:+0100
TZNAME:CET
DTSTART:20241027T010000
END:STANDARD
END:VTIMEZONE
BEGIN:VEVENT
DTSTART;TZID=Europe/Madrid:20230710T170000
DTEND;TZID=Europe/Madrid:20230713T183000
DTSTAMP:20260423T063632
CREATED:20210211T164450Z
LAST-MODIFIED:20230710T091208Z
UID:7407-1689008400-1689273000@linagalvez.eu
SUMMARY:Pleno del Parlamento Europeo en Estrasburgo
DESCRIPTION:Destacados del pleno. Estrasburgo \n\nLey de restauración de la naturaleza: debate y votación sobre si se rechaza o modifica la propuesta de la Comisión\nFit for 55: Debate y votación final sobre nuevas normas para reducir el consumo de energía en la UE\nApto para 55: más estaciones de carga para combustibles alternativos y combustibles marítimos más ecológicos: debate y votación final\nVotación final sobre la «Ley de chips» de la UE para fortalecer la autonomía estratégica y la seguridad de Europa\nProteger a periodistas y activistas de demandas abusivas: debate y votación sobre la posición del Parlamento\nDebate y votación sobre la necesidad de una actuación de la UE en materia de búsqueda y salvamento en el Mediterráneo\nDebate sobre el resultado de la cumbre de la UE de los días 29 y 20 de junio\, en particular los acontecimientos recientes en la guerra contra Ucrania y en Rusia\nProtección de las instituciones democráticas y la integridad del Parlamento: debate y votación del informe de la comisión especial\nDebate y votación del informe del comité especial sobre las lecciones aprendidas de la pandemia de COVID-19
URL:https://linagalvez.eu/agenda/pleno-del-parlamento-europeo-2-2-2-2-2-2-2-6-2-3-3-5-2/
CATEGORIES:Actualidad,Destacado,EMPL,ITRE,Parlamento,S&D
ATTACH;FMTTYPE=image/jpeg:https://linagalvez.eu/wp-content/uploads/2020/03/European_Parliament_Strasbourg_Hemicycle_-_Diliff-2-scaled.jpg
END:VEVENT
BEGIN:VEVENT
DTSTART;TZID=Europe/Madrid:20230712T090000
DTEND;TZID=Europe/Madrid:20230712T094500
DTSTAMP:20260423T063632
CREATED:20210412T084247Z
LAST-MODIFIED:20230710T093701Z
UID:7822-1689152400-1689155100@linagalvez.eu
SUMMARY:S&D FEMM Working Group
DESCRIPTION:Sesión interna de trabajo en el seno del S&D para coordinar y revisar las iniciativas que se tratarán en el Pleno y la Comisión FEMM.
URL:https://linagalvez.eu/agenda/sd-femm-working-group-6-3-2-3-2-2/
CATEGORIES:Destacado,FEMM,Parlamento,S&D
END:VEVENT
BEGIN:VEVENT
DTSTART;TZID=Europe/Madrid:20230712T094500
DTEND;TZID=Europe/Madrid:20230712T103000
DTSTAMP:20260423T063632
CREATED:20210927T094856Z
LAST-MODIFIED:20230710T093628Z
UID:7824-1689155100-1689157800@linagalvez.eu
SUMMARY:Grupo de trabajo S&D ITRE
DESCRIPTION:Reunión del grupo de trabajo S&D de la Comisión de Industria\, Investigación y Energía en la que se abordarán los asuntos legislativos en marcha.
URL:https://linagalvez.eu/agenda/encuentro-con-la-embajadora-espanola-en-malta-external-group-meeting-2-5-2-3-3-3-2-2-2-2-2-2-2-2-3/
CATEGORIES:ITRE,S&D
ATTACH;FMTTYPE=image/jpeg:https://linagalvez.eu/wp-content/uploads/2023/02/Lina-Galves-Foro.jpg
END:VEVENT
END:VCALENDAR