BEGIN:VCALENDAR
VERSION:2.0
PRODID:-//Lina Gálvez - ECPv6.15.20//NONSGML v1.0//EN
CALSCALE:GREGORIAN
METHOD:PUBLISH
X-WR-CALNAME:Lina Gálvez
X-ORIGINAL-URL:https://linagalvez.eu
X-WR-CALDESC:Eventos para Lina Gálvez
REFRESH-INTERVAL;VALUE=DURATION:PT1H
X-Robots-Tag:noindex
X-PUBLISHED-TTL:PT1H
BEGIN:VTIMEZONE
TZID:Europe/Madrid
BEGIN:DAYLIGHT
TZOFFSETFROM:+0100
TZOFFSETTO:+0200
TZNAME:CEST
DTSTART:20220327T010000
END:DAYLIGHT
BEGIN:STANDARD
TZOFFSETFROM:+0200
TZOFFSETTO:+0100
TZNAME:CET
DTSTART:20221030T010000
END:STANDARD
BEGIN:DAYLIGHT
TZOFFSETFROM:+0100
TZOFFSETTO:+0200
TZNAME:CEST
DTSTART:20230326T010000
END:DAYLIGHT
BEGIN:STANDARD
TZOFFSETFROM:+0200
TZOFFSETTO:+0100
TZNAME:CET
DTSTART:20231029T010000
END:STANDARD
BEGIN:DAYLIGHT
TZOFFSETFROM:+0100
TZOFFSETTO:+0200
TZNAME:CEST
DTSTART:20240331T010000
END:DAYLIGHT
BEGIN:STANDARD
TZOFFSETFROM:+0200
TZOFFSETTO:+0100
TZNAME:CET
DTSTART:20241027T010000
END:STANDARD
END:VTIMEZONE
BEGIN:VEVENT
DTSTART;VALUE=DATE:20230724
DTEND;VALUE=DATE:20230728
DTSTAMP:20260423T063633
CREATED:20230724T124106Z
LAST-MODIFIED:20250221T101943Z
UID:7861-1690156800-1690502399@linagalvez.eu
SUMMARY:Semana transatlántica de 2023 USA-EU
DESCRIPTION:La eurodiputada Lina Gálvez participará durante está semana en la  «Semana  transatlántica 2023»  que se celebrará en Washington D.C organizada por Transatlantic Policy Network (TPN)\, con el apoyo del Foro Europeo de Internet (FEI) entre otros. Un encuentro de trabajo entre Miembros del Congreso de los Estados Unidos\, y de diversas instituciones de la Unión Europea  con el objetivo de acercar agendas sobre temas claves para la relación entre Estados Unidos y la Unión Europea. \nLa Semana Transatlántica 2023 se llevará a cabo en Washington DC durante la semana que comienza el lunes 24 de julio de 2023 y el jueves 27 de julio de 2023. El título del evento es «Protegiendo la relación UE-EE. UU.: mirando hacia 2030 y más allá». La inestabilidad se esté convirtiendo en un fenómeno permanente y es necesario evaluar los amplios desafíos que se avecinan de naturaleza geopolítica y transnacional. \nMás información  aquí  agenda.
URL:https://linagalvez.eu/agenda/semana-transatlantica-de-2023-usa-eu/
CATEGORIES:Autonomía estratégica,D-US,Destacado,Parlamento,S&D
ATTACH;FMTTYPE=image/jpeg:https://linagalvez.eu/wp-content/uploads/2017_EU-USA-Leaders-Meeting_copyright-EU-Council-2017.jpg
END:VEVENT
BEGIN:VEVENT
DTSTART;VALUE=DATE:20230725
DTEND;VALUE=DATE:20230726
DTSTAMP:20260423T063633
CREATED:20230724T124106Z
LAST-MODIFIED:20230724T131115Z
UID:7863-1690243200-1690329599@linagalvez.eu
SUMMARY:Semana transatlántica de 2023 USA-EU
DESCRIPTION:La eurodiputada Lina Gálvez participará durante el día de hoy en los siguientes eventos en relación a la «Semana  transatlántica 2023»  y que se celebrará en Washington D.C organizada por Transatlantic Policy Network (TPN)\, con el apoyo del Foro Europeo de Internet (FEI) entre otros. \n9:15 – 10:15. Sesión “Reforzando/fortaleciendo la relación UE-EEUU: Proyecto Compass” #I+D+i\nLina Gálvez asistirá a la sesión;Reforzando/fortaleciendo la relación UE-EEUU: El Proyecto Compass; en la que se abordarán las prioridades de la Asociación Transatlántica hasta 2024. \nLa moderadora de la sesión será Lisa Schroeter\, Directora Global de Política de Comercio e Inversión de Dow Chemical Company.\nLos y las ponentes\, que compartirán sus perspectivas y enfoques sobre las prioridades de la asociación transatlántica para los próximos años\, incluirán al Embajador Yuri Kim\, Subsecretaria en funciones de la Oficina Europea del Departamento de Estado de EE.UU.\, Peter Young\, Ministro Consejero y Jefe Adjunto de Comercio y Agricultura de la Delegación de la Comisión Europea en EE.UU.\, Michael DiPaula-Coyle\, Jefe de Política Comercial Internacional de IBM\, Tom Kean Jr.\, Miembro del Congreso de los Estados Unidos\, y Victor Negrescu\, Miembro del Parlamento Europeo. \n10.30 – 11.45 Sesión “El cambio geopolítico: El impacto duradero de la invasión rusa de Ucrania”\nLa eurodiputada asistirá a la segunda sesión del día\, Durante esta sesión\, las personas ponentes debatirán el impacto a largo plazo de la invasión rusa de Ucrania en el panorama geopolítico\, abordando las implicaciones y la dinámica política y la relación entre Rusia\, Ucrania\, la Unión Europea y Estados Unidos. \nEl moderador de esta sesión será Max Bergmann\, Director del Programa Europa\, Rusia y Eurasia y del Stuart Center del Center for Strategic and International Studies (CSIS).\nEntre los y las ponentes de esta sesión estarán Kira Rudyk\, diputada de Holos y VP de ALDE por Ucrania\, Marta Poslad\, Directora de Políticas Públicas para Europa Central y del Este y Transatlántica de Google\, Mike Waltz\, miembro del Congreso de los Estados Unidos\, y Marek Belka\, eurodiputado y miembro del Parlamento Europeo. \n13.30 – 14.15 Sesión “Globalización 2.0: ¿Deberían EE. UU. y la UE favorecerse mutuamente en las cadenas de suministro?” \nLa eurodiputada Lina Gálvez asistirá a la sesión\, que moderará Thomas Spiller\, Vicepresidente de Política Pública Global de The Walt Disney Co. Los y las ponentes para esta sesión incluirán a Stacey Kennedy\, Presidenta y CEO de PMi America\, Jake Jones\, Jefe de Asuntos Externos de Mercedes Benz North America\, Darrell Issa\, diputada del Congreso de los Estados Unidos\, y Bernd Lange\, diputado y Presidente del Comité de Comercio del Parlamento\nEuropeo.\nLa sesión proporcionará una plataforma para discutir las oportunidades y desafíos en relación a si los Estados Unidos y la Unión Europea deberían adoptar una estrategia de Friend- Shoring en el contexto de la globalización actual. \n14.30 – 16.00 Sesión Transformación digital \nLa eurodiputada asistirá al evento “Transformación Digital: Principales rasgos del Mundo Digital hacia 2040” la moderadora será Maria Rosa Gibellini\, Directora General de EIF (European Internet Foundation). La presentación estará a cargo de Ajit Jaokar\, Investigador Asociado de la Universidad de Oxford y Rapporteur de EIF. \nEn la segunda parte de la sesión\, sobre Transformación digital: ¿Puede la asociación transatlántica aprovechar la oportunidad de la IA ahora. La  moderadora será Frances Burwell\, miembro Distinguida del Atlantic Council. Las ponentes para esta parte incluirán a Rita Balogh\, Líder de Europa en Asuntos Gubernamentales Internacionales de Google\, Tyson Barker\, Analista de Políticas enfocado en Políticas Exteriores de Tecnología\, Gobernanza Digital y Seguridad Económica del Departamento de Estado de los Estados Unidos\, Bernd Lange\, diputado y Presidente del Comité de Comercio del Parlamento Europeo\, y Ondrej Kovarik\, diputado del Parlamento Europeo. \nMás información  aquí  agenda.
URL:https://linagalvez.eu/agenda/semana-transatlantica-de-2023-usa-eu-2/
CATEGORIES:Autonomía estratégica,D-US,Destacado,Parlamento,S&D
ATTACH;FMTTYPE=image/png:https://linagalvez.eu/wp-content/uploads/2023/07/2023-TA-WEEK-LOGO-RASTERIZED-LOW-RES.png
END:VEVENT
BEGIN:VEVENT
DTSTART;VALUE=DATE:20230725
DTEND;VALUE=DATE:20230726
DTSTAMP:20260423T063633
CREATED:20230724T124106Z
LAST-MODIFIED:20230724T132140Z
UID:7868-1690243200-1690329599@linagalvez.eu
SUMMARY:Semana transatlántica de 2023 USA-EU
DESCRIPTION:La eurodiputada Lina Gálvez participará durante el día de hoy en los siguientes eventos en relación a la «Semana  transatlántica 2023»  y que se celebrará en Washington D.C organizada por Transatlantic Policy Network (TPN)\, con el apoyo del Foro Europeo de Internet (FEI) entre otros. \n9:15 – 10:15. Sesión “Reforzando/fortaleciendo la relación UE-EEUU: Proyecto Compass” #I+D+i\nLina Gálvez asistirá a la sesión;Reforzando/fortaleciendo la relación UE-EEUU: El Proyecto Compass; en la que se abordarán las prioridades de la Asociación Transatlántica hasta 2024. \nLa moderadora de la sesión será Lisa Schroeter\, Directora Global de Política de Comercio e Inversión de Dow Chemical Company.\nLos y las ponentes\, que compartirán sus perspectivas y enfoques sobre las prioridades de la asociación transatlántica para los próximos años\, incluirán al Embajador Yuri Kim\, Subsecretaria en funciones de la Oficina Europea del Departamento de Estado de EE.UU.\, Peter Young\, Ministro Consejero y Jefe Adjunto de Comercio y Agricultura de la Delegación de la Comisión Europea en EE.UU.\, Michael DiPaula-Coyle\, Jefe de Política Comercial Internacional de IBM\, Tom Kean Jr.\, Miembro del Congreso de los Estados Unidos\, y Victor Negrescu\, Miembro del Parlamento Europeo. \n10.30 – 11.45 Sesión “El cambio geopolítico: El impacto duradero de la invasión rusa de Ucrania”\nLa eurodiputada asistirá a la segunda sesión del día\, Durante esta sesión\, las personas ponentes debatirán el impacto a largo plazo de la invasión rusa de Ucrania en el panorama geopolítico\, abordando las implicaciones y la dinámica política y la relación entre Rusia\, Ucrania\, la Unión Europea y Estados Unidos. \nEl moderador de esta sesión será Max Bergmann\, Director del Programa Europa\, Rusia y Eurasia y del Stuart Center del Center for Strategic and International Studies (CSIS).\nEntre los y las ponentes de esta sesión estarán Kira Rudyk\, diputada de Holos y VP de ALDE por Ucrania\, Marta Poslad\, Directora de Políticas Públicas para Europa Central y del Este y Transatlántica de Google\, Mike Waltz\, miembro del Congreso de los Estados Unidos\, y Marek Belka\, eurodiputado y miembro del Parlamento Europeo. \n13.30 – 14.15 Sesión “Globalización 2.0: ¿Deberían EE. UU. y la UE favorecerse mutuamente en las cadenas de suministro?” \nLa eurodiputada Lina Gálvez asistirá a la sesión\, que moderará Thomas Spiller\, Vicepresidente de Política Pública Global de The Walt Disney Co. Los y las ponentes para esta sesión incluirán a Stacey Kennedy\, Presidenta y CEO de PMi America\, Jake Jones\, Jefe de Asuntos Externos de Mercedes Benz North America\, Darrell Issa\, diputada del Congreso de los Estados Unidos\, y Bernd Lange\, diputado y Presidente del Comité de Comercio del Parlamento\nEuropeo.\nLa sesión proporcionará una plataforma para discutir las oportunidades y desafíos en relación a si los Estados Unidos y la Unión Europea deberían adoptar una estrategia de Friend- Shoring en el contexto de la globalización actual. \n14.30 – 16.00 Sesión Transformación digital \nLa eurodiputada asistirá al evento “Transformación Digital: Principales rasgos del Mundo Digital hacia 2040” la moderadora será Maria Rosa Gibellini\, Directora General de EIF (European Internet Foundation). La presentación estará a cargo de Ajit Jaokar\, Investigador Asociado de la Universidad de Oxford y Rapporteur de EIF. \nEn la segunda parte de la sesión\, sobre Transformación digital: ¿Puede la asociación transatlántica aprovechar la oportunidad de la IA ahora. La  moderadora será Frances Burwell\, miembro Distinguida del Atlantic Council. Las ponentes para esta parte incluirán a Rita Balogh\, Líder de Europa en Asuntos Gubernamentales Internacionales de Google\, Tyson Barker\, Analista de Políticas enfocado en Políticas Exteriores de Tecnología\, Gobernanza Digital y Seguridad Económica del Departamento de Estado de los Estados Unidos\, Bernd Lange\, diputado y Presidente del Comité de Comercio del Parlamento Europeo\, y Ondrej Kovarik\, diputado del Parlamento Europeo. \nMás información  aquí  agenda.
URL:https://linagalvez.eu/agenda/semana-transatlantica-de-2023-usa-eu-2-3/
CATEGORIES:Autonomía estratégica,D-US,Parlamento,S&D
ATTACH;FMTTYPE=image/png:https://linagalvez.eu/wp-content/uploads/2023/07/2023-TA-WEEK-LOGO-RASTERIZED-LOW-RES.png
END:VEVENT
END:VCALENDAR