BEGIN:VCALENDAR
VERSION:2.0
PRODID:-//Lina Gálvez - ECPv6.15.20//NONSGML v1.0//EN
CALSCALE:GREGORIAN
METHOD:PUBLISH
X-WR-CALNAME:Lina Gálvez
X-ORIGINAL-URL:https://linagalvez.eu
X-WR-CALDESC:Eventos para Lina Gálvez
REFRESH-INTERVAL;VALUE=DURATION:PT1H
X-Robots-Tag:noindex
X-PUBLISHED-TTL:PT1H
BEGIN:VTIMEZONE
TZID:Europe/Madrid
BEGIN:DAYLIGHT
TZOFFSETFROM:+0100
TZOFFSETTO:+0200
TZNAME:CEST
DTSTART:20220327T010000
END:DAYLIGHT
BEGIN:STANDARD
TZOFFSETFROM:+0200
TZOFFSETTO:+0100
TZNAME:CET
DTSTART:20221030T010000
END:STANDARD
BEGIN:DAYLIGHT
TZOFFSETFROM:+0100
TZOFFSETTO:+0200
TZNAME:CEST
DTSTART:20230326T010000
END:DAYLIGHT
BEGIN:STANDARD
TZOFFSETFROM:+0200
TZOFFSETTO:+0100
TZNAME:CET
DTSTART:20231029T010000
END:STANDARD
BEGIN:DAYLIGHT
TZOFFSETFROM:+0100
TZOFFSETTO:+0200
TZNAME:CEST
DTSTART:20240331T010000
END:DAYLIGHT
BEGIN:STANDARD
TZOFFSETFROM:+0200
TZOFFSETTO:+0100
TZNAME:CET
DTSTART:20241027T010000
END:STANDARD
END:VTIMEZONE
BEGIN:VEVENT
DTSTART;TZID=Europe/Madrid:20230801T100000
DTEND;TZID=Europe/Madrid:20230828T190000
DTSTAMP:20260423T045732
CREATED:20220721T112245Z
LAST-MODIFIED:20230901T071051Z
UID:6604-1690884000-1693249200@linagalvez.eu
SUMMARY:Summer recess
DESCRIPTION:La actividad de las comisiones del Parlamento Europeo estarán en receso desde el 25 de julio hasta el 22 de agosto. Las reuniones de las comisiones parlamentarias se reanudarán en la semana del 29 de agosto.
URL:https://linagalvez.eu/agenda/summer-recess-2/
CATEGORIES:Andalucía,Destacado,Parlamento
ATTACH;FMTTYPE=image/jpeg:https://linagalvez.eu/wp-content/uploads/2021/02/Pleno-en-Bruselas.jpg
END:VEVENT
BEGIN:VEVENT
DTSTART;VALUE=DATE:20230809
DTEND;VALUE=DATE:20230811
DTSTAMP:20260423T045732
CREATED:20210211T164450Z
LAST-MODIFIED:20231106T090518Z
UID:7346-1691539200-1691711999@linagalvez.eu
SUMMARY:Pleno del Parlamento Europeo en Bruselas
DESCRIPTION:El Pleno del Parlamento Europeo se celebra esta semana en Bruselas\, en el orden del día: (por concretar)
URL:https://linagalvez.eu/agenda/pleno-del-parlamento-europeo-2-2-2-2-2-2-2-4-3-2-2-2-3-2-2-2-2-2/
CATEGORIES:Actualidad,Destacado,Parlamento
ATTACH;FMTTYPE=image/jpeg:https://linagalvez.eu/wp-content/uploads/2021/02/Pleno-en-Bruselas.jpg
END:VEVENT
END:VCALENDAR