BEGIN:VCALENDAR
VERSION:2.0
PRODID:-//Lina Gálvez - ECPv6.15.20//NONSGML v1.0//EN
CALSCALE:GREGORIAN
METHOD:PUBLISH
X-WR-CALNAME:Lina Gálvez
X-ORIGINAL-URL:https://linagalvez.eu
X-WR-CALDESC:Eventos para Lina Gálvez
REFRESH-INTERVAL;VALUE=DURATION:PT1H
X-Robots-Tag:noindex
X-PUBLISHED-TTL:PT1H
BEGIN:VTIMEZONE
TZID:Europe/Madrid
BEGIN:DAYLIGHT
TZOFFSETFROM:+0100
TZOFFSETTO:+0200
TZNAME:CEST
DTSTART:20220327T010000
END:DAYLIGHT
BEGIN:STANDARD
TZOFFSETFROM:+0200
TZOFFSETTO:+0100
TZNAME:CET
DTSTART:20221030T010000
END:STANDARD
BEGIN:DAYLIGHT
TZOFFSETFROM:+0100
TZOFFSETTO:+0200
TZNAME:CEST
DTSTART:20230326T010000
END:DAYLIGHT
BEGIN:STANDARD
TZOFFSETFROM:+0200
TZOFFSETTO:+0100
TZNAME:CET
DTSTART:20231029T010000
END:STANDARD
BEGIN:DAYLIGHT
TZOFFSETFROM:+0100
TZOFFSETTO:+0200
TZNAME:CEST
DTSTART:20240331T010000
END:DAYLIGHT
BEGIN:STANDARD
TZOFFSETFROM:+0200
TZOFFSETTO:+0100
TZNAME:CET
DTSTART:20241027T010000
END:STANDARD
END:VTIMEZONE
BEGIN:VEVENT
DTSTART;TZID=Europe/Madrid:20230919T090000
DTEND;TZID=Europe/Madrid:20230919T120000
DTSTAMP:20260423T030733
CREATED:20210611T142459Z
LAST-MODIFIED:20230918T172556Z
UID:7959-1695114000-1695124800@linagalvez.eu
SUMMARY:Reunión de la Comisión de Industria\, Investigación y Energía (ITRE)
DESCRIPTION:La eurodiputada Lina Gálvez participará en la reunión de la comisión de Industria y Energía de la que es Vicepresidenta con el el objetivo de coordinar los trabajos legislativos de la sesión plenaria de la semana. \n09:00 – 12:30 Comité ITRE y Votos.\n11.00 – 11.45 Presentación de la ley europea de Cibersolidaridad en Comisión ITRE\nEn el comité\, Lina Gálvez presentará\, desde las 11 hasta las 11:45 de la mañana\, el proyecto de Ley de Cibersolidaridad “Laying down measures to strengthen solidarity and capacities in the Union to detect\, prepare for and respond to cybersecurity threats and incidents” (Establecer medidas para reforzar la solidaridad y las capacidades de la Unión para detectar\, prepararse y responder a las amenazas e incidentes de ciberseguridad). Gálvez es la ponente de esta ley. \n\n\n\n\nWeb de la Comisión de Industria\, Investigación y Energía
URL:https://linagalvez.eu/agenda/reunion-de-la-comision-de-industria-investigacion-y-energia-itre-19-2-2-2-2-3-2/
CATEGORIES:Actualidad,Autonomía estratégica,Destacado,ITRE,Parlamento,STOA
ATTACH;FMTTYPE=image/jpeg:https://linagalvez.eu/wp-content/uploads/2023/07/Lamarea.jpg
END:VEVENT
BEGIN:VEVENT
DTSTART;TZID=Europe/Madrid:20230919T150000
DTEND;TZID=Europe/Madrid:20230919T160000
DTSTAMP:20260423T030733
CREATED:20210927T104830Z
LAST-MODIFIED:20230918T173946Z
UID:7952-1695135600-1695139200@linagalvez.eu
SUMMARY:Reunión de la Comisión de Derechos de las Mujeres e Igualdad de Género FEMM
DESCRIPTION:Reunión de la Comisión de Derechos de las Mujeres e Igualdad de Género en la que se abordarán los siguientes temas: \n\n\nLa comparecencia como parte de la presidencia española\, de la ministra de Igualdad del Gobierno de España Irene Montero Gil.\n\n\n\n\n\nSitio web de la Comisión de Derechos de la Mujer e Igualdad de Género
URL:https://linagalvez.eu/agenda/joint-meeting-committee-on-employment-and-social-affairs-committee-on-womens-rights-and-gender-equality-2-3-2-3-2-2-2-2-4-2-2-2-2-2-2-2-2-2-3-2-2-2-4/
CATEGORIES:FEMM,Parlamento
ATTACH;FMTTYPE=image/png:https://linagalvez.eu/wp-content/uploads/2022/03/LGM_ITRE.png
END:VEVENT
BEGIN:VEVENT
DTSTART;TZID=Europe/Madrid:20230919T153000
DTEND;TZID=Europe/Madrid:20230919T183000
DTSTAMP:20260423T030733
CREATED:20210611T142459Z
LAST-MODIFIED:20230918T173250Z
UID:7961-1695137400-1695148200@linagalvez.eu
SUMMARY:Reunión de la Comisión de Industria\, Investigación y Energía (ITRE)\, con la participación de Ministras y Ministro a raíz de la Presidencia Española del Consejo
DESCRIPTION:Lina Gálvez intervendrá\, en nombre del Grupo S&D\, en el intercambio de puntos de vista con  Nadia Calviño Santamaría\, Vicepresidenta Primera y Ministra de Economía y Transformación Digital\, Diana Morant Ripoll\, ministra de Ciencia e Innovación\, y Héctor Gómez Hernández\, ministro de Industria\, Comercio y Turismo. \n\n\n\n\nWeb de la Comisión de Industria\, Investigación y Energía
URL:https://linagalvez.eu/agenda/reunion-de-la-comision-de-industria-investigacion-y-energia-itre-19-2-2-2-2-3-2-2/
CATEGORIES:Actualidad,Destacado,ITRE,Parlamento,STOA
ATTACH;FMTTYPE=image/jpeg:https://linagalvez.eu/wp-content/uploads/2021/06/Nadia-Calvino-2023-09-06-at-14.31.21-1.jpeg
END:VEVENT
END:VCALENDAR