BEGIN:VCALENDAR
VERSION:2.0
PRODID:-//Lina Gálvez - ECPv6.15.20//NONSGML v1.0//EN
CALSCALE:GREGORIAN
METHOD:PUBLISH
X-WR-CALNAME:Lina Gálvez
X-ORIGINAL-URL:https://linagalvez.eu
X-WR-CALDESC:Eventos para Lina Gálvez
REFRESH-INTERVAL;VALUE=DURATION:PT1H
X-Robots-Tag:noindex
X-PUBLISHED-TTL:PT1H
BEGIN:VTIMEZONE
TZID:Europe/Madrid
BEGIN:DAYLIGHT
TZOFFSETFROM:+0100
TZOFFSETTO:+0200
TZNAME:CEST
DTSTART:20220327T010000
END:DAYLIGHT
BEGIN:STANDARD
TZOFFSETFROM:+0200
TZOFFSETTO:+0100
TZNAME:CET
DTSTART:20221030T010000
END:STANDARD
BEGIN:DAYLIGHT
TZOFFSETFROM:+0100
TZOFFSETTO:+0200
TZNAME:CEST
DTSTART:20230326T010000
END:DAYLIGHT
BEGIN:STANDARD
TZOFFSETFROM:+0200
TZOFFSETTO:+0100
TZNAME:CET
DTSTART:20231029T010000
END:STANDARD
BEGIN:DAYLIGHT
TZOFFSETFROM:+0100
TZOFFSETTO:+0200
TZNAME:CEST
DTSTART:20240331T010000
END:DAYLIGHT
BEGIN:STANDARD
TZOFFSETFROM:+0200
TZOFFSETTO:+0100
TZNAME:CET
DTSTART:20241027T010000
END:STANDARD
END:VTIMEZONE
BEGIN:VEVENT
DTSTART;TZID=Europe/Madrid:20231023T080000
DTEND;TZID=Europe/Madrid:20231027T170000
DTSTAMP:20260423T012226
CREATED:20201028T065256Z
LAST-MODIFIED:20231023T085726Z
UID:8115-1698048000-1698426000@linagalvez.eu
SUMMARY:Semana Europea de la Igualdad de Género
DESCRIPTION:Durante la última semana de octubre de 2023\, el Parlamento Europeo celebra su cuarta Semana Europea de la Igualdad de Género. \n\n\nTras el éxito de las tres primeras ediciones organizadas en octubre de 2020\, 2021 y 2022\, el Parlamento Europeo\, a instancia de la Comisión FEMM. continúa con esta importante iniciativa que trata resaltar los continuos esfuerzos para colocar a las mujeres en el centro de la legislación europea y de la agenda pública. \nDesde la última edición de la Semana Europea de la Igualdad de Género\, se adoptaron leyes importantes: Mujeres en los consejos de administración \, Igualdad salarial \, así como la adhesión de la UE al Convenio de Estambul . \nHay avances en este campo político\, pero aún queda mucho por hacer. Por lo tanto\, el tema de atención de este año es «Igualdad de género: ¿qué sigue?» . El Parlamento y sus socios analizarán lo que hemos logrado hasta ahora y lo que aún queda por hacer. \nSe invita a todas las comisiones y delegaciones parlamentarias\, así como a muchos expertos y expertas al Parlamento Europeo\, a celebrar eventos que aborden cuestiones de igualdad de género en sus áreas de competencia. \n#EPGenderEqualityWeek. En 2022\, la iniciativa tuvo un alcance de alrededor de 2\,5 millones de personas. Este año\, con las próximas elecciones europeas de 2024\, el objetivo es llegar a un público aún más amplio. \nPrograma \nConsulta el borrador del programa que se actualiza periódicamente con nuevos eventos y que contiene una lista de diversos eventos que tienen lugar en el Parlamento y en otras instituciones\, organismos\, agencias u otros socios de la UE.
URL:https://linagalvez.eu/agenda/semana-europea-de-la-igualdad-de-genero-2/
CATEGORIES:Actualidad,Destacado,FEMM,Parlamento
ATTACH;FMTTYPE=image/jpeg:https://linagalvez.eu/wp-content/uploads/2020/10/Semana-Europea-de-la-Igualdad-2023.jpg
END:VEVENT
BEGIN:VEVENT
DTSTART;TZID=Europe/Madrid:20231024T091500
DTEND;TZID=Europe/Madrid:20231024T120000
DTSTAMP:20260423T012226
CREATED:20210927T104830Z
LAST-MODIFIED:20231023T085818Z
UID:8120-1698138900-1698148800@linagalvez.eu
SUMMARY:Reunión de la Comisión de Derechos de las Mujeres e Igualdad de Género FEMM
DESCRIPTION:Reunión de la Comisión de Derechos de las Mujeres e Igualdad de Género en la que se abordarán los siguientes temas: \n\nDebate (por confirmar) \n\n\n\n\nSitio web de la Comisión de Derechos de la Mujer e Igualdad de Género
URL:https://linagalvez.eu/agenda/joint-meeting-committee-on-employment-and-social-affairs-committee-on-womens-rights-and-gender-equality-2-3-2-3-2-2-2-2-4-2-2-2-2-2-2-2-2-2-3-2-2-2-5-2/
CATEGORIES:Destacado,FEMM,Parlamento
ATTACH;FMTTYPE=image/png:https://linagalvez.eu/wp-content/uploads/2022/03/LGM_ITRE.png
END:VEVENT
BEGIN:VEVENT
DTSTART;TZID=Europe/Madrid:20231024T110000
DTEND;TZID=Europe/Madrid:20231024T123000
DTSTAMP:20260423T012226
CREATED:20231023T103405Z
LAST-MODIFIED:20231023T103405Z
UID:8152-1698145200-1698150600@linagalvez.eu
SUMMARY:Reunión del Grupo de Trabajo Horizonte Europa: Gasto climático en Horizonte Europa. Semana de #Igualdad
DESCRIPTION:La eurodiputada Lina Gálvez asistirá a Al grupo de trabajo sobre gasto climático en Horizonte Europa en relación con la Comisión de Industria\, Investigación y Energía (ITRE) donde Lina Gálvez Muñoz  ocupa el cargo de Vicepresidenta.
URL:https://linagalvez.eu/agenda/reunion-del-grupo-de-trabajo-horizonte-europa-gasto-climatico-en-horizonte-europa-semana-de-igualdad/
CATEGORIES:Actualidad,FEMM,ITRE,Parlamento
ATTACH;FMTTYPE=image/jpeg:https://linagalvez.eu/wp-content/uploads/2023/09/Lina-Galvez_femm_costevida.jpg
END:VEVENT
BEGIN:VEVENT
DTSTART;TZID=Europe/Madrid:20231024T160000
DTEND;TZID=Europe/Madrid:20231024T180000
DTSTAMP:20260423T012226
CREATED:20230717T090809Z
LAST-MODIFIED:20231023T103022Z
UID:8150-1698163200-1698170400@linagalvez.eu
SUMMARY:Reunión negociadora de ponentes en la sombra del Expediente PRIMA (Asociaciones para la innovación regional en el Mediterráneo).
DESCRIPTION:Lina Gálvez ponente en la sombra por S&D y el Comité de ITRE del programa de la UE para soluciones de investigación e innovación en la región mediterránea “Partnerships for Regional Innovation in the Mediterranean”\, asistirá a la reunión negociadora del citado expediente
URL:https://linagalvez.eu/agenda/reunion-negociadora-de-ponentes-en-la-sombra-de-la-ley-de-industria-net-zero-empleo-2-2-2/
CATEGORIES:Actualidad,ITRE,Parlamento,S&D
ATTACH;FMTTYPE=image/jpeg:https://linagalvez.eu/wp-content/uploads/2021/12/Trilogo-ITRE.jpg
END:VEVENT
BEGIN:VEVENT
DTSTART;TZID=Europe/Madrid:20231024T183000
DTEND;TZID=Europe/Madrid:20231024T203000
DTSTAMP:20260423T012226
CREATED:20231023T094800Z
LAST-MODIFIED:20231115T135927Z
UID:8139-1698172200-1698179400@linagalvez.eu
SUMMARY:Acto Genoma Femenino: Perspectiva de género en la ciencia y la medicina. European Gender Equality Week
DESCRIPTION:La eurodiputada Lina Gálvez ha organizado este evento enfocado en el genoma femenino y la perspectiva de género en la ciencia y la medicina. El evento resalta la importancia de abordar la disparidad de género en la investigación médica\, que suele basarse en modelos masculinos y tiene consecuencias adversas para la salud de las mujeres\, que pesar de constituir más del 50% de la población son vistas como la excepción. \nPara ello\, y siguiendo con el trabajo de consolidar las voces andaluzas en la agenda de Bruselas\, ha invitado a este evento de alto nivel al Doctor Guillermo ANTIÑOLO\, Catedrático de Obstetricia y Ginecología de la Universidad de Sevilla\, y autor del desarrollo del primer genoma médico de la mujer.\nPor otro\, también intervendrá la Doctora Valeria Raparelli\, investigadora y Profesora del Centro de Estudios de la Mujer de la Universidad de Ferrara.\nEste evento\, organizado en colaboración con la eurodiputada socialista italiana Beatrice Covassi cuenta con el apoyo del Grupo Socialista Europeo en el Parlamento\, y se desarrolla dentro de la conocida como «Semana Europea de la Igualdad» que organiza anualmente el Parlamento Europeo. \nEl evento podrá ser seguido en streaming en el siguiente enlace: https://www.europarl.europa.eu/streaming/?event=20231024-1830-SPECIAL-OTHER
URL:https://linagalvez.eu/agenda/acto-genoma-femenino-perspectiva-de-genero-en-la-ciencia-y-la-medicina-european-gender-equality-week/
CATEGORIES:Andalucía,Destacado,FEMM,Igualdad eje central,ITRE,S&D
ATTACH;FMTTYPE=image/jpeg:https://linagalvez.eu/wp-content/uploads/2023/10/Antinolo.jpg
END:VEVENT
END:VCALENDAR