BEGIN:VCALENDAR
VERSION:2.0
PRODID:-//Lina Gálvez - ECPv6.15.20//NONSGML v1.0//EN
CALSCALE:GREGORIAN
METHOD:PUBLISH
X-ORIGINAL-URL:https://linagalvez.eu
X-WR-CALDESC:Eventos para Lina Gálvez
REFRESH-INTERVAL;VALUE=DURATION:PT1H
X-Robots-Tag:noindex
X-PUBLISHED-TTL:PT1H
BEGIN:VTIMEZONE
TZID:Europe/Madrid
BEGIN:DAYLIGHT
TZOFFSETFROM:+0100
TZOFFSETTO:+0200
TZNAME:CEST
DTSTART:20220327T010000
END:DAYLIGHT
BEGIN:STANDARD
TZOFFSETFROM:+0200
TZOFFSETTO:+0100
TZNAME:CET
DTSTART:20221030T010000
END:STANDARD
BEGIN:DAYLIGHT
TZOFFSETFROM:+0100
TZOFFSETTO:+0200
TZNAME:CEST
DTSTART:20230326T010000
END:DAYLIGHT
BEGIN:STANDARD
TZOFFSETFROM:+0200
TZOFFSETTO:+0100
TZNAME:CET
DTSTART:20231029T010000
END:STANDARD
BEGIN:DAYLIGHT
TZOFFSETFROM:+0100
TZOFFSETTO:+0200
TZNAME:CEST
DTSTART:20240331T010000
END:DAYLIGHT
BEGIN:STANDARD
TZOFFSETFROM:+0200
TZOFFSETTO:+0100
TZNAME:CET
DTSTART:20241027T010000
END:STANDARD
END:VTIMEZONE
BEGIN:VEVENT
DTSTART;TZID=Europe/Madrid:20231114T103000
DTEND;TZID=Europe/Madrid:20231114T110000
DTSTAMP:20260422T234111
CREATED:20210611T142459Z
LAST-MODIFIED:20231114T082006Z
UID:8230-1699957800-1699959600@linagalvez.eu
SUMMARY:Reunión de la Comisión de Industria\, Investigación y Energía (ITRE)
DESCRIPTION:La eurodiputada Lina Gálvez participará en la reunión de la comisión de Industria y Energía de la que es Vicepresidenta \n\n\nDebates \n\n\n\n\n\n\n\nWeb de la Comisión de Industria\, Investigación y Energía
URL:https://linagalvez.eu/agenda/reunion-de-la-comision-de-industria-investigacion-y-energia-itre-19-2-2-2-2-3-2-3-2-2/
CATEGORIES:Actualidad,Autonomía estratégica,Destacado,ITRE,Parlamento,STOA
ATTACH;FMTTYPE=image/jpeg:https://linagalvez.eu/wp-content/uploads/2023/09/1695139157544_20230919_EP-155995A_DEN_931_MOBILE.jpg
END:VEVENT
BEGIN:VEVENT
DTSTART;TZID=Europe/Madrid:20231114T110000
DTEND;TZID=Europe/Madrid:20231114T120000
DTSTAMP:20260422T234111
CREATED:20210301T093643Z
LAST-MODIFIED:20250210T090032Z
UID:8236-1699959600-1699963200@linagalvez.eu
SUMMARY:S&D Reunión de la Delegación Socialista Española
DESCRIPTION:Reunión interna de trabajo para coordinar la actividad legislativa del Parlamento Europeo.
URL:https://linagalvez.eu/agenda/sd-reunion-de-la-delegacion-socialista-espanola-11-2-2-2-2-2-2-2-2-4-3-2-2-2-2-2-2-2-2-2-2-3-2-2-2-2-2/
CATEGORIES:Destacado,Parlamento,S&D
ATTACH;FMTTYPE=image/jpeg:https://linagalvez.eu/wp-content/uploads/2021/03/WhatsApp-Image-2022-07-11-at-12.02.33-PM.jpeg
END:VEVENT
BEGIN:VEVENT
DTSTART;TZID=Europe/Madrid:20231114T120000
DTEND;TZID=Europe/Madrid:20231114T130000
DTSTAMP:20260422T234111
CREATED:20230508T080622Z
LAST-MODIFIED:20231114T084212Z
UID:8227-1699963200-1699966800@linagalvez.eu
SUMMARY:Shadows; meeting: ITRE PRIMA
DESCRIPTION:La eurodiputada Lina Gálvez asistirá a la reunión de ponentes en la sombra para debatir la El programa Europeo de Partnerships for Research and Innovation in the Mediterranean\, de la que la eurodiputada es ponente en la sombra en el Parlamento Europeo.
URL:https://linagalvez.eu/agenda/debate-esto-es-europa-el-9-de-mayo-con-el-canciller-aleman-olaf-scholz-debatir-y-votar-una-nueva-legislacion-para-mejorar-el-etiquetado-y-la-durabilidad-de-los-productos-y-poner-fin-2-3/
CATEGORIES:Destacado,ITRE,Parlamento
ATTACH;FMTTYPE=image/jpeg:https://linagalvez.eu/wp-content/uploads/2023/04/eu-autonomy-strategic.jpg
END:VEVENT
END:VCALENDAR