BEGIN:VCALENDAR
VERSION:2.0
PRODID:-//Lina Gálvez - ECPv6.15.20//NONSGML v1.0//EN
CALSCALE:GREGORIAN
METHOD:PUBLISH
X-ORIGINAL-URL:https://linagalvez.eu
X-WR-CALDESC:Eventos para Lina Gálvez
REFRESH-INTERVAL;VALUE=DURATION:PT1H
X-Robots-Tag:noindex
X-PUBLISHED-TTL:PT1H
BEGIN:VTIMEZONE
TZID:Europe/Madrid
BEGIN:DAYLIGHT
TZOFFSETFROM:+0100
TZOFFSETTO:+0200
TZNAME:CEST
DTSTART:20220327T010000
END:DAYLIGHT
BEGIN:STANDARD
TZOFFSETFROM:+0200
TZOFFSETTO:+0100
TZNAME:CET
DTSTART:20221030T010000
END:STANDARD
BEGIN:DAYLIGHT
TZOFFSETFROM:+0100
TZOFFSETTO:+0200
TZNAME:CEST
DTSTART:20230326T010000
END:DAYLIGHT
BEGIN:STANDARD
TZOFFSETFROM:+0200
TZOFFSETTO:+0100
TZNAME:CET
DTSTART:20231029T010000
END:STANDARD
BEGIN:DAYLIGHT
TZOFFSETFROM:+0100
TZOFFSETTO:+0200
TZNAME:CEST
DTSTART:20240331T010000
END:DAYLIGHT
BEGIN:STANDARD
TZOFFSETFROM:+0200
TZOFFSETTO:+0100
TZNAME:CET
DTSTART:20241027T010000
END:STANDARD
END:VTIMEZONE
BEGIN:VEVENT
DTSTART;TZID=Europe/Madrid:20231115T090000
DTEND;TZID=Europe/Madrid:20231115T130000
DTSTAMP:20260422T234110
CREATED:20211108T110030Z
LAST-MODIFIED:20231114T085020Z
UID:8232-1700038800-1700053200@linagalvez.eu
SUMMARY:S&D Group Meeting
DESCRIPTION:Reunión interna de trabajo del Grupo S&D  para coordinar  la actividad legislativa de la semana.
URL:https://linagalvez.eu/agenda/sd-group-meeting-23-3-2-2-4-2-3-3-5-2-2-2-2-2-2-2-3-3-2-3-2-3-5-2-3-3-3-2-2-3-2-2-3/
CATEGORIES:Actualidad,Parlamento,S&D
ATTACH;FMTTYPE=image/png:https://linagalvez.eu/wp-content/uploads/2020/01/1-S&D.svg.png
END:VEVENT
BEGIN:VEVENT
DTSTART;TZID=Europe/Madrid:20231115T163000
DTEND;TZID=Europe/Madrid:20231115T190000
DTSTAMP:20260422T234110
CREATED:20231115T014407Z
LAST-MODIFIED:20231115T014407Z
UID:8245-1700065800-1700074800@linagalvez.eu
SUMMARY:Presentación del Manifiesto de la Confederación Europea de Sindicatos (CES)
DESCRIPTION:La eurodiputada Lina Gálvez asistirá a la presentación del Manifiesto de la CES para las elecciones europeas de 2024\, que comenzará con la intervención de Esther Lynch\, Secretaria General de la CES\, hablando sobre la necesidad de ofrecer un trato justo a las personas trabajadoras.
URL:https://linagalvez.eu/agenda/presentacion-del-manifiesto-de-la-confederacion-europea-de-sindicatos-ces/
CATEGORIES:EMPL,FEMM,Parlamento
ATTACH;FMTTYPE=image/jpeg:https://linagalvez.eu/wp-content/uploads/2023/09/1695139157544_20230919_EP-155995A_DEN_931_MOBILE.jpg
END:VEVENT
END:VCALENDAR